BEGIN:VCALENDAR
VERSION:2.0
PRODID:-//Halina Centre - ECPv6.15.20//NONSGML v1.0//EN
CALSCALE:GREGORIAN
METHOD:PUBLISH
X-ORIGINAL-URL:https://www.halinacentre.com
X-WR-CALDESC:Events for Halina Centre
REFRESH-INTERVAL;VALUE=DURATION:PT1H
X-Robots-Tag:noindex
X-PUBLISHED-TTL:PT1H
BEGIN:VTIMEZONE
TZID:America/Vancouver
BEGIN:DAYLIGHT
TZOFFSETFROM:-0800
TZOFFSETTO:-0700
TZNAME:PDT
DTSTART:20250309T100000
END:DAYLIGHT
BEGIN:STANDARD
TZOFFSETFROM:-0700
TZOFFSETTO:-0800
TZNAME:PST
DTSTART:20251102T090000
END:STANDARD
BEGIN:DAYLIGHT
TZOFFSETFROM:-0800
TZOFFSETTO:-0700
TZNAME:PDT
DTSTART:20260308T100000
END:DAYLIGHT
BEGIN:STANDARD
TZOFFSETFROM:-0700
TZOFFSETTO:-0800
TZNAME:PST
DTSTART:20261101T090000
END:STANDARD
BEGIN:DAYLIGHT
TZOFFSETFROM:-0800
TZOFFSETTO:-0700
TZNAME:PDT
DTSTART:20270314T100000
END:DAYLIGHT
BEGIN:STANDARD
TZOFFSETFROM:-0700
TZOFFSETTO:-0800
TZNAME:PST
DTSTART:20271107T090000
END:STANDARD
END:VTIMEZONE
BEGIN:VEVENT
DTSTART;TZID=America/Vancouver:20260505T083000
DTEND;TZID=America/Vancouver:20260505T163000
DTSTAMP:20260421T045947
CREATED:20250710T030621Z
LAST-MODIFIED:20260212T221103Z
UID:10005454-1777969800-1777998600@www.halinacentre.com
SUMMARY:Billiards/Snooker/Pool
DESCRIPTION:
URL:https://www.halinacentre.com/event/billiards-snooker-pool-283/
CATEGORIES:Pool Room
END:VEVENT
BEGIN:VEVENT
DTSTART;TZID=America/Vancouver:20260505T083000
DTEND;TZID=America/Vancouver:20260505T163000
DTSTAMP:20260421T045947
CREATED:20260213T221049Z
LAST-MODIFIED:20260404T035548Z
UID:10006658-1777969800-1777998600@www.halinacentre.com
SUMMARY:Billiards/Snooker/Pool
DESCRIPTION:
URL:https://www.halinacentre.com/event/billiards-snooker-pool-508/
CATEGORIES:Pool Room
END:VEVENT
BEGIN:VEVENT
DTSTART;TZID=America/Vancouver:20260505T090000
DTEND;TZID=America/Vancouver:20260505T100000
DTSTAMP:20260421T045947
CREATED:20251210T085200Z
LAST-MODIFIED:20260404T054043Z
UID:10006351-1777971600-1777975200@www.halinacentre.com
SUMMARY:Senior Exercise
DESCRIPTION:
URL:https://www.halinacentre.com/event/senior-exercise-56/
CATEGORIES:Halina Room
END:VEVENT
BEGIN:VEVENT
DTSTART;TZID=America/Vancouver:20260505T120000
DTEND;TZID=America/Vancouver:20260505T153000
DTSTAMP:20260421T045947
CREATED:20251210T085200Z
LAST-MODIFIED:20260404T054043Z
UID:10006352-1777982400-1777995000@www.halinacentre.com
SUMMARY:Bingo
DESCRIPTION:
URL:https://www.halinacentre.com/event/bingo-141/
CATEGORIES:Halina Room
END:VEVENT
BEGIN:VEVENT
DTSTART;TZID=America/Vancouver:20260505T180000
DTEND;TZID=America/Vancouver:20260505T210000
DTSTAMP:20260421T045947
CREATED:20250710T030622Z
LAST-MODIFIED:20260404T035549Z
UID:10005455-1778004000-1778014800@www.halinacentre.com
SUMMARY:Snooker
DESCRIPTION:
URL:https://www.halinacentre.com/event/snooker-58/
CATEGORIES:Pool Room
END:VEVENT
BEGIN:VEVENT
DTSTART;TZID=America/Vancouver:20260505T183000
DTEND;TZID=America/Vancouver:20260505T213000
DTSTAMP:20260421T045947
CREATED:20251210T085200Z
LAST-MODIFIED:20260404T054043Z
UID:10006353-1778005800-1778016600@www.halinacentre.com
SUMMARY:Table Tennis advanced
DESCRIPTION:
URL:https://www.halinacentre.com/event/table-tennis-advanced-56/
CATEGORIES:Halina Room
END:VEVENT
END:VCALENDAR