BEGIN:VCALENDAR
VERSION:2.0
PRODID:-//Halina Centre - ECPv6.15.20//NONSGML v1.0//EN
CALSCALE:GREGORIAN
METHOD:PUBLISH
X-WR-CALNAME:Halina Centre
X-ORIGINAL-URL:https://www.halinacentre.com
X-WR-CALDESC:Events for Halina Centre
REFRESH-INTERVAL;VALUE=DURATION:PT1H
X-Robots-Tag:noindex
X-PUBLISHED-TTL:PT1H
BEGIN:VTIMEZONE
TZID:America/Vancouver
BEGIN:DAYLIGHT
TZOFFSETFROM:-0800
TZOFFSETTO:-0700
TZNAME:PDT
DTSTART:20250309T100000
END:DAYLIGHT
BEGIN:STANDARD
TZOFFSETFROM:-0700
TZOFFSETTO:-0800
TZNAME:PST
DTSTART:20251102T090000
END:STANDARD
BEGIN:DAYLIGHT
TZOFFSETFROM:-0800
TZOFFSETTO:-0700
TZNAME:PDT
DTSTART:20260308T100000
END:DAYLIGHT
BEGIN:STANDARD
TZOFFSETFROM:-0700
TZOFFSETTO:-0800
TZNAME:PST
DTSTART:20261101T090000
END:STANDARD
BEGIN:DAYLIGHT
TZOFFSETFROM:-0800
TZOFFSETTO:-0700
TZNAME:PDT
DTSTART:20270314T100000
END:DAYLIGHT
BEGIN:STANDARD
TZOFFSETFROM:-0700
TZOFFSETTO:-0800
TZNAME:PST
DTSTART:20271107T090000
END:STANDARD
END:VTIMEZONE
BEGIN:VEVENT
DTSTART;TZID=America/Vancouver:20260324T083000
DTEND;TZID=America/Vancouver:20260324T163000
DTSTAMP:20260421T005737
CREATED:20260213T221042Z
LAST-MODIFIED:20260324T232548Z
UID:10006628-1774341000-1774369800@www.halinacentre.com
SUMMARY:Billiards/Snooker/Pool
DESCRIPTION:
URL:https://www.halinacentre.com/event/billiards-snooker-pool-478/
CATEGORIES:Pool Room
END:VEVENT
BEGIN:VEVENT
DTSTART;TZID=America/Vancouver:20260324T090000
DTEND;TZID=America/Vancouver:20260324T100000
DTSTAMP:20260421T005737
CREATED:20251118T080639Z
LAST-MODIFIED:20260324T015546Z
UID:10006165-1774342800-1774346400@www.halinacentre.com
SUMMARY:Senior Exercise
DESCRIPTION:
URL:https://www.halinacentre.com/event/senior-exercise-50/
CATEGORIES:Halina Room
END:VEVENT
BEGIN:VEVENT
DTSTART;TZID=America/Vancouver:20260324T120000
DTEND;TZID=America/Vancouver:20260324T153000
DTSTAMP:20260421T005737
CREATED:20251118T080639Z
LAST-MODIFIED:20260324T015546Z
UID:10006166-1774353600-1774366200@www.halinacentre.com
SUMMARY:Bingo
DESCRIPTION:
URL:https://www.halinacentre.com/event/bingo-129/
CATEGORIES:Halina Room
END:VEVENT
BEGIN:VEVENT
DTSTART;TZID=America/Vancouver:20260324T180000
DTEND;TZID=America/Vancouver:20260324T210000
DTSTAMP:20260421T005737
CREATED:20250530T222200Z
LAST-MODIFIED:20260325T035543Z
UID:10005246-1774375200-1774386000@www.halinacentre.com
SUMMARY:Snooker
DESCRIPTION:
URL:https://www.halinacentre.com/event/snooker-52/
CATEGORIES:Pool Room
END:VEVENT
BEGIN:VEVENT
DTSTART;TZID=America/Vancouver:20260324T183000
DTEND;TZID=America/Vancouver:20260324T213000
DTSTAMP:20260421T005737
CREATED:20251119T080626Z
LAST-MODIFIED:20260325T015546Z
UID:10006168-1774377000-1774387800@www.halinacentre.com
SUMMARY:Table Tennis advanced
DESCRIPTION:
URL:https://www.halinacentre.com/event/table-tennis-advanced-50/
CATEGORIES:Halina Room
END:VEVENT
BEGIN:VEVENT
DTSTART;TZID=America/Vancouver:20260324T190000
DTEND;TZID=America/Vancouver:20260324T220000
DTSTAMP:20260421T005737
CREATED:20260302T222544Z
LAST-MODIFIED:20260325T005542Z
UID:10006964-1774378800-1774389600@www.halinacentre.com
SUMMARY:Bluegrass Jam
DESCRIPTION:
URL:https://www.halinacentre.com/event/bluegrass-jam/
CATEGORIES:Club Room
END:VEVENT
END:VCALENDAR