BEGIN:VCALENDAR
VERSION:2.0
PRODID:-//Halina Centre - ECPv6.15.20//NONSGML v1.0//EN
CALSCALE:GREGORIAN
METHOD:PUBLISH
X-ORIGINAL-URL:https://www.halinacentre.com
X-WR-CALDESC:Events for Halina Centre
REFRESH-INTERVAL;VALUE=DURATION:PT1H
X-Robots-Tag:noindex
X-PUBLISHED-TTL:PT1H
BEGIN:VTIMEZONE
TZID:America/Vancouver
BEGIN:DAYLIGHT
TZOFFSETFROM:-0800
TZOFFSETTO:-0700
TZNAME:PDT
DTSTART:20250309T100000
END:DAYLIGHT
BEGIN:STANDARD
TZOFFSETFROM:-0700
TZOFFSETTO:-0800
TZNAME:PST
DTSTART:20251102T090000
END:STANDARD
BEGIN:DAYLIGHT
TZOFFSETFROM:-0800
TZOFFSETTO:-0700
TZNAME:PDT
DTSTART:20260308T100000
END:DAYLIGHT
BEGIN:STANDARD
TZOFFSETFROM:-0700
TZOFFSETTO:-0800
TZNAME:PST
DTSTART:20261101T090000
END:STANDARD
BEGIN:DAYLIGHT
TZOFFSETFROM:-0800
TZOFFSETTO:-0700
TZNAME:PDT
DTSTART:20270314T100000
END:DAYLIGHT
BEGIN:STANDARD
TZOFFSETFROM:-0700
TZOFFSETTO:-0800
TZNAME:PST
DTSTART:20271107T090000
END:STANDARD
END:VTIMEZONE
BEGIN:VEVENT
DTSTART;TZID=America/Vancouver:20260228T080000
DTEND;TZID=America/Vancouver:20260228T113000
DTSTAMP:20260421T005800
CREATED:20250725T013633Z
LAST-MODIFIED:20250801T015127Z
UID:10005492-1772265600-1772278200@www.halinacentre.com
SUMMARY:Pancake Breakfast
DESCRIPTION:
URL:https://www.halinacentre.com/event/pancake-breakfast-14/
CATEGORIES:Halina Room
END:VEVENT
BEGIN:VEVENT
DTSTART;TZID=America/Vancouver:20260228T160000
DTEND;TZID=America/Vancouver:20260228T200000
DTSTAMP:20260421T005800
CREATED:20260203T225607Z
LAST-MODIFIED:20260228T235543Z
UID:10006579-1772294400-1772308800@www.halinacentre.com
SUMMARY:Private Event - San Jose
DESCRIPTION:
URL:https://www.halinacentre.com/event/private-event-san-jose/
CATEGORIES:Halina Room
END:VEVENT
END:VCALENDAR