BEGIN:VCALENDAR
VERSION:2.0
PRODID:-//Halina Centre - ECPv6.15.20//NONSGML v1.0//EN
CALSCALE:GREGORIAN
METHOD:PUBLISH
X-ORIGINAL-URL:https://www.halinacentre.com
X-WR-CALDESC:Events for Halina Centre
REFRESH-INTERVAL;VALUE=DURATION:PT1H
X-Robots-Tag:noindex
X-PUBLISHED-TTL:PT1H
BEGIN:VTIMEZONE
TZID:America/Vancouver
BEGIN:DAYLIGHT
TZOFFSETFROM:-0800
TZOFFSETTO:-0700
TZNAME:PDT
DTSTART:20250309T100000
END:DAYLIGHT
BEGIN:STANDARD
TZOFFSETFROM:-0700
TZOFFSETTO:-0800
TZNAME:PST
DTSTART:20251102T090000
END:STANDARD
BEGIN:DAYLIGHT
TZOFFSETFROM:-0800
TZOFFSETTO:-0700
TZNAME:PDT
DTSTART:20260308T100000
END:DAYLIGHT
BEGIN:STANDARD
TZOFFSETFROM:-0700
TZOFFSETTO:-0800
TZNAME:PST
DTSTART:20261101T090000
END:STANDARD
BEGIN:DAYLIGHT
TZOFFSETFROM:-0800
TZOFFSETTO:-0700
TZNAME:PDT
DTSTART:20270314T100000
END:DAYLIGHT
BEGIN:STANDARD
TZOFFSETFROM:-0700
TZOFFSETTO:-0800
TZNAME:PST
DTSTART:20271107T090000
END:STANDARD
END:VTIMEZONE
BEGIN:VEVENT
DTSTART;TZID=America/Vancouver:20260226T083000
DTEND;TZID=America/Vancouver:20260226T163000
DTSTAMP:20260421T050556
CREATED:20250502T203640Z
LAST-MODIFIED:20260226T225542Z
UID:10005159-1772094600-1772123400@www.halinacentre.com
SUMMARY:Billiards/Snooker/Pool
DESCRIPTION:
URL:https://www.halinacentre.com/event/billiards-snooker-pool-235/
CATEGORIES:Pool Room
END:VEVENT
BEGIN:VEVENT
DTSTART;TZID=America/Vancouver:20260226T084500
DTEND;TZID=America/Vancouver:20260226T113000
DTSTAMP:20260421T050556
CREATED:20251029T065125Z
LAST-MODIFIED:20260225T235544Z
UID:10006014-1772095500-1772105400@www.halinacentre.com
SUMMARY:Strong & Steady (Osteofit)
DESCRIPTION:
URL:https://www.halinacentre.com/event/strong-steady-osteofit-8/
CATEGORIES:Halina Room
END:VEVENT
BEGIN:VEVENT
DTSTART;TZID=America/Vancouver:20260226T094500
DTEND;TZID=America/Vancouver:20260226T111500
DTSTAMP:20260421T050556
CREATED:20250723T013625Z
LAST-MODIFIED:20250801T015127Z
UID:10005484-1772099100-1772104500@www.halinacentre.com
SUMMARY:Osteofit
DESCRIPTION:
URL:https://www.halinacentre.com/event/osteofit-51/
CATEGORIES:Halina Room
END:VEVENT
BEGIN:VEVENT
DTSTART;TZID=America/Vancouver:20260226T130000
DTEND;TZID=America/Vancouver:20260226T150000
DTSTAMP:20260421T050556
CREATED:20250515T202239Z
LAST-MODIFIED:20260226T221042Z
UID:10004663-1772110800-1772118000@www.halinacentre.com
SUMMARY:Time Out Stitchers
DESCRIPTION:
URL:https://www.halinacentre.com/event/time-out-stitchers-50/
CATEGORIES:Club Room
END:VEVENT
BEGIN:VEVENT
DTSTART;TZID=America/Vancouver:20260226T140000
DTEND;TZID=America/Vancouver:20260226T160000
DTSTAMP:20260421T050556
CREATED:20250723T013625Z
LAST-MODIFIED:20260226T235542Z
UID:10005483-1772114400-1772121600@www.halinacentre.com
SUMMARY:Thursday Dance
DESCRIPTION:
URL:https://www.halinacentre.com/event/thursday-dance-49/
CATEGORIES:Halina Room
END:VEVENT
BEGIN:VEVENT
DTSTART;TZID=America/Vancouver:20260226T180000
DTEND;TZID=America/Vancouver:20260226T200000
DTSTAMP:20260421T050556
CREATED:20250503T203655Z
LAST-MODIFIED:20260226T221042Z
UID:10005163-1772128800-1772136000@www.halinacentre.com
SUMMARY:Toastmasters
DESCRIPTION:
URL:https://www.halinacentre.com/event/toastmasters-49/
CATEGORIES:Club Room,Pool Room
END:VEVENT
BEGIN:VEVENT
DTSTART;TZID=America/Vancouver:20260226T180000
DTEND;TZID=America/Vancouver:20260226T220000
DTSTAMP:20260421T050556
CREATED:20251030T070631Z
LAST-MODIFIED:20260226T235542Z
UID:10006018-1772128800-1772143200@www.halinacentre.com
SUMMARY:Star Country Squares
DESCRIPTION:
URL:https://www.halinacentre.com/event/star-country-squares-22/
CATEGORIES:Halina Room
END:VEVENT
END:VCALENDAR