BEGIN:VCALENDAR
VERSION:2.0
PRODID:-//Halina Centre - ECPv6.15.20//NONSGML v1.0//EN
CALSCALE:GREGORIAN
METHOD:PUBLISH
X-ORIGINAL-URL:https://www.halinacentre.com
X-WR-CALDESC:Events for Halina Centre
REFRESH-INTERVAL;VALUE=DURATION:PT1H
X-Robots-Tag:noindex
X-PUBLISHED-TTL:PT1H
BEGIN:VTIMEZONE
TZID:America/Vancouver
BEGIN:DAYLIGHT
TZOFFSETFROM:-0800
TZOFFSETTO:-0700
TZNAME:PDT
DTSTART:20250309T100000
END:DAYLIGHT
BEGIN:STANDARD
TZOFFSETFROM:-0700
TZOFFSETTO:-0800
TZNAME:PST
DTSTART:20251102T090000
END:STANDARD
BEGIN:DAYLIGHT
TZOFFSETFROM:-0800
TZOFFSETTO:-0700
TZNAME:PDT
DTSTART:20260308T100000
END:DAYLIGHT
BEGIN:STANDARD
TZOFFSETFROM:-0700
TZOFFSETTO:-0800
TZNAME:PST
DTSTART:20261101T090000
END:STANDARD
BEGIN:DAYLIGHT
TZOFFSETFROM:-0800
TZOFFSETTO:-0700
TZNAME:PDT
DTSTART:20270314T100000
END:DAYLIGHT
BEGIN:STANDARD
TZOFFSETFROM:-0700
TZOFFSETTO:-0800
TZNAME:PST
DTSTART:20271107T090000
END:STANDARD
END:VTIMEZONE
BEGIN:VEVENT
DTSTART;TZID=America/Vancouver:20260223T083000
DTEND;TZID=America/Vancouver:20260223T163000
DTSTAMP:20260421T005758
CREATED:20250430T200652Z
LAST-MODIFIED:20260223T224040Z
UID:10004607-1771835400-1771864200@www.halinacentre.com
SUMMARY:Billiards/Snooker/Pool
DESCRIPTION:
URL:https://www.halinacentre.com/event/billiards-snooker-pool-232/
CATEGORIES:Pool Room
END:VEVENT
BEGIN:VEVENT
DTSTART;TZID=America/Vancouver:20260223T093000
DTEND;TZID=America/Vancouver:20260223T120000
DTSTAMP:20260421T005758
CREATED:20250718T013711Z
LAST-MODIFIED:20260222T235540Z
UID:10004931-1771839000-1771848000@www.halinacentre.com
SUMMARY:Floor Curling
DESCRIPTION:
URL:https://www.halinacentre.com/event/floor-curling-49/
CATEGORIES:Halina Room
END:VEVENT
BEGIN:VEVENT
DTSTART;TZID=America/Vancouver:20260223T093000
DTEND;TZID=America/Vancouver:20260223T143000
DTSTAMP:20260421T005758
CREATED:20250510T200809Z
LAST-MODIFIED:20260223T221131Z
UID:10005187-1771839000-1771857000@www.halinacentre.com
SUMMARY:Canasta
DESCRIPTION:1st and 3rd Monday
URL:https://www.halinacentre.com/event/canasta-95/
CATEGORIES:Club Room
END:VEVENT
BEGIN:VEVENT
DTSTART;TZID=America/Vancouver:20260223T180000
DTEND;TZID=America/Vancouver:20260223T230000
DTSTAMP:20260421T005758
CREATED:20260223T221129Z
LAST-MODIFIED:20260223T221131Z
UID:10006894-1771869600-1771887600@www.halinacentre.com
SUMMARY:Private Event
DESCRIPTION:
URL:https://www.halinacentre.com/event/private-event-73/
CATEGORIES:Club Room
END:VEVENT
END:VCALENDAR