BEGIN:VCALENDAR
VERSION:2.0
PRODID:-//Halina Centre - ECPv6.15.20//NONSGML v1.0//EN
CALSCALE:GREGORIAN
METHOD:PUBLISH
X-ORIGINAL-URL:https://www.halinacentre.com
X-WR-CALDESC:Events for Halina Centre
REFRESH-INTERVAL;VALUE=DURATION:PT1H
X-Robots-Tag:noindex
X-PUBLISHED-TTL:PT1H
BEGIN:VTIMEZONE
TZID:America/Vancouver
BEGIN:DAYLIGHT
TZOFFSETFROM:-0800
TZOFFSETTO:-0700
TZNAME:PDT
DTSTART:20250309T100000
END:DAYLIGHT
BEGIN:STANDARD
TZOFFSETFROM:-0700
TZOFFSETTO:-0800
TZNAME:PST
DTSTART:20251102T090000
END:STANDARD
BEGIN:DAYLIGHT
TZOFFSETFROM:-0800
TZOFFSETTO:-0700
TZNAME:PDT
DTSTART:20260308T100000
END:DAYLIGHT
BEGIN:STANDARD
TZOFFSETFROM:-0700
TZOFFSETTO:-0800
TZNAME:PST
DTSTART:20261101T090000
END:STANDARD
BEGIN:DAYLIGHT
TZOFFSETFROM:-0800
TZOFFSETTO:-0700
TZNAME:PDT
DTSTART:20270314T100000
END:DAYLIGHT
BEGIN:STANDARD
TZOFFSETFROM:-0700
TZOFFSETTO:-0800
TZNAME:PST
DTSTART:20271107T090000
END:STANDARD
END:VTIMEZONE
BEGIN:VEVENT
DTSTART;TZID=America/Vancouver:20260218T080000
DTEND;TZID=America/Vancouver:20260218T090000
DTSTAMP:20260421T011646
CREATED:20251022T062123Z
LAST-MODIFIED:20260217T235541Z
UID:10005984-1771401600-1771405200@www.halinacentre.com
SUMMARY:Tai Chi - Beginners
DESCRIPTION:
URL:https://www.halinacentre.com/event/tai-chi-beginners-47/
CATEGORIES:Halina Room
END:VEVENT
BEGIN:VEVENT
DTSTART;TZID=America/Vancouver:20260218T083000
DTEND;TZID=America/Vancouver:20260218T163000
DTSTAMP:20260421T011646
CREATED:20250425T193650Z
LAST-MODIFIED:20260218T224042Z
UID:10004598-1771403400-1771432200@www.halinacentre.com
SUMMARY:Billiards/Snooker/Pool
DESCRIPTION:
URL:https://www.halinacentre.com/event/billiards-snooker-pool-229/
CATEGORIES:Pool Room
END:VEVENT
BEGIN:VEVENT
DTSTART;TZID=America/Vancouver:20260218T100000
DTEND;TZID=America/Vancouver:20260218T120000
DTSTAMP:20260421T011646
CREATED:20251022T062123Z
LAST-MODIFIED:20251205T083621Z
UID:10005985-1771408800-1771416000@www.halinacentre.com
SUMMARY:Recreational Table Tennis
DESCRIPTION:
URL:https://www.halinacentre.com/event/recreational-table-tennis-71/
CATEGORIES:Halina Room
END:VEVENT
BEGIN:VEVENT
DTSTART;TZID=America/Vancouver:20260218T130000
DTEND;TZID=America/Vancouver:20260218T150000
DTSTAMP:20260421T011646
CREATED:20250508T200642Z
LAST-MODIFIED:20260218T215540Z
UID:10004640-1771419600-1771426800@www.halinacentre.com
SUMMARY:Halina Crafters
DESCRIPTION:
URL:https://www.halinacentre.com/event/halina-crafters-50/
CATEGORIES:Club Room
END:VEVENT
BEGIN:VEVENT
DTSTART;TZID=America/Vancouver:20260218T130000
DTEND;TZID=America/Vancouver:20260218T150000
DTSTAMP:20260421T011646
CREATED:20250508T200642Z
LAST-MODIFIED:20251014T093635Z
UID:10004642-1771419600-1771426800@www.halinacentre.com
SUMMARY:Mahjong
DESCRIPTION:
URL:https://www.halinacentre.com/event/mahjong-48/
CATEGORIES:Club Room
END:VEVENT
BEGIN:VEVENT
DTSTART;TZID=America/Vancouver:20260218T130000
DTEND;TZID=America/Vancouver:20260218T150000
DTSTAMP:20260421T011646
CREATED:20250806T022130Z
LAST-MODIFIED:20260217T235541Z
UID:10005531-1771419600-1771426800@www.halinacentre.com
SUMMARY:Line Dance Lessons
DESCRIPTION:
URL:https://www.halinacentre.com/event/line-dance-lessons-33/
CATEGORIES:Halina Room
END:VEVENT
BEGIN:VEVENT
DTSTART;TZID=America/Vancouver:20260218T183000
DTEND;TZID=America/Vancouver:20260218T203000
DTSTAMP:20260421T011646
CREATED:20250508T200642Z
LAST-MODIFIED:20260218T215540Z
UID:10004643-1771439400-1771446600@www.halinacentre.com
SUMMARY:kalamalka Chorus
DESCRIPTION:
URL:https://www.halinacentre.com/event/kalamalka-chorus-47/
CATEGORIES:Club Room
END:VEVENT
BEGIN:VEVENT
DTSTART;TZID=America/Vancouver:20260218T183000
DTEND;TZID=America/Vancouver:20260218T233000
DTSTAMP:20260421T011646
CREATED:20250714T013628Z
LAST-MODIFIED:20260218T235542Z
UID:10005466-1771439400-1771457400@www.halinacentre.com
SUMMARY:Private Event
DESCRIPTION:
URL:https://www.halinacentre.com/event/private-event-52/
CATEGORIES:Halina Room
END:VEVENT
END:VCALENDAR