BEGIN:VCALENDAR
VERSION:2.0
PRODID:-//Halina Centre - ECPv6.15.20//NONSGML v1.0//EN
CALSCALE:GREGORIAN
METHOD:PUBLISH
X-ORIGINAL-URL:https://www.halinacentre.com
X-WR-CALDESC:Events for Halina Centre
REFRESH-INTERVAL;VALUE=DURATION:PT1H
X-Robots-Tag:noindex
X-PUBLISHED-TTL:PT1H
BEGIN:VTIMEZONE
TZID:America/Vancouver
BEGIN:DAYLIGHT
TZOFFSETFROM:-0800
TZOFFSETTO:-0700
TZNAME:PDT
DTSTART:20250309T100000
END:DAYLIGHT
BEGIN:STANDARD
TZOFFSETFROM:-0700
TZOFFSETTO:-0800
TZNAME:PST
DTSTART:20251102T090000
END:STANDARD
BEGIN:DAYLIGHT
TZOFFSETFROM:-0800
TZOFFSETTO:-0700
TZNAME:PDT
DTSTART:20260308T100000
END:DAYLIGHT
BEGIN:STANDARD
TZOFFSETFROM:-0700
TZOFFSETTO:-0800
TZNAME:PST
DTSTART:20261101T090000
END:STANDARD
BEGIN:DAYLIGHT
TZOFFSETFROM:-0800
TZOFFSETTO:-0700
TZNAME:PDT
DTSTART:20270314T100000
END:DAYLIGHT
BEGIN:STANDARD
TZOFFSETFROM:-0700
TZOFFSETTO:-0800
TZNAME:PST
DTSTART:20271107T090000
END:STANDARD
END:VTIMEZONE
BEGIN:VEVENT
DTSTART;TZID=America/Vancouver:20260217T083000
DTEND;TZID=America/Vancouver:20260217T163000
DTSTAMP:20260421T005800
CREATED:20250423T192309Z
LAST-MODIFIED:20260217T222626Z
UID:10005131-1771317000-1771345800@www.halinacentre.com
SUMMARY:Billiards/Snooker/Pool
DESCRIPTION:
URL:https://www.halinacentre.com/event/billiards-snooker-pool-228/
CATEGORIES:Pool Room
END:VEVENT
BEGIN:VEVENT
DTSTART;TZID=America/Vancouver:20260217T090000
DTEND;TZID=America/Vancouver:20260217T100000
DTSTAMP:20260421T005800
CREATED:20250711T013644Z
LAST-MODIFIED:20260216T234046Z
UID:10005457-1771318800-1771322400@www.halinacentre.com
SUMMARY:Senior Exercise
DESCRIPTION:
URL:https://www.halinacentre.com/event/senior-exercise-45/
CATEGORIES:Halina Room
END:VEVENT
BEGIN:VEVENT
DTSTART;TZID=America/Vancouver:20260217T120000
DTEND;TZID=America/Vancouver:20260217T153000
DTSTAMP:20260421T005800
CREATED:20250711T013644Z
LAST-MODIFIED:20260216T234046Z
UID:10005458-1771329600-1771342200@www.halinacentre.com
SUMMARY:Bingo
DESCRIPTION:
URL:https://www.halinacentre.com/event/bingo-120/
CATEGORIES:Halina Room
END:VEVENT
BEGIN:VEVENT
DTSTART;TZID=America/Vancouver:20260217T180000
DTEND;TZID=America/Vancouver:20260217T210000
DTSTAMP:20260421T005800
CREATED:20250424T193822Z
LAST-MODIFIED:20260217T222626Z
UID:10004588-1771351200-1771362000@www.halinacentre.com
SUMMARY:Snooker
DESCRIPTION:
URL:https://www.halinacentre.com/event/snooker-47/
CATEGORIES:Pool Room
END:VEVENT
BEGIN:VEVENT
DTSTART;TZID=America/Vancouver:20260217T180000
DTEND;TZID=America/Vancouver:20260217T220000
DTSTAMP:20260421T005800
CREATED:20250822T053626Z
LAST-MODIFIED:20260217T214139Z
UID:10005697-1771351200-1771365600@www.halinacentre.com
SUMMARY:Open Jam
DESCRIPTION:
URL:https://www.halinacentre.com/event/open-jam-24/
CATEGORIES:Club Room
END:VEVENT
BEGIN:VEVENT
DTSTART;TZID=America/Vancouver:20260217T183000
DTEND;TZID=America/Vancouver:20260217T213000
DTSTAMP:20260421T005800
CREATED:20250712T013634Z
LAST-MODIFIED:20260217T235541Z
UID:10005463-1771353000-1771363800@www.halinacentre.com
SUMMARY:Table Tennis advanced
DESCRIPTION:
URL:https://www.halinacentre.com/event/table-tennis-advanced-45/
CATEGORIES:Halina Room
END:VEVENT
END:VCALENDAR