BEGIN:VCALENDAR
VERSION:2.0
PRODID:-//Halina Centre - ECPv6.15.20//NONSGML v1.0//EN
CALSCALE:GREGORIAN
METHOD:PUBLISH
X-WR-CALNAME:Halina Centre
X-ORIGINAL-URL:https://www.halinacentre.com
X-WR-CALDESC:Events for Halina Centre
REFRESH-INTERVAL;VALUE=DURATION:PT1H
X-Robots-Tag:noindex
X-PUBLISHED-TTL:PT1H
BEGIN:VTIMEZONE
TZID:America/Vancouver
BEGIN:DAYLIGHT
TZOFFSETFROM:-0800
TZOFFSETTO:-0700
TZNAME:PDT
DTSTART:20250309T100000
END:DAYLIGHT
BEGIN:STANDARD
TZOFFSETFROM:-0700
TZOFFSETTO:-0800
TZNAME:PST
DTSTART:20251102T090000
END:STANDARD
BEGIN:DAYLIGHT
TZOFFSETFROM:-0800
TZOFFSETTO:-0700
TZNAME:PDT
DTSTART:20260308T100000
END:DAYLIGHT
BEGIN:STANDARD
TZOFFSETFROM:-0700
TZOFFSETTO:-0800
TZNAME:PST
DTSTART:20261101T090000
END:STANDARD
BEGIN:DAYLIGHT
TZOFFSETFROM:-0800
TZOFFSETTO:-0700
TZNAME:PDT
DTSTART:20270314T100000
END:DAYLIGHT
BEGIN:STANDARD
TZOFFSETFROM:-0700
TZOFFSETTO:-0800
TZNAME:PST
DTSTART:20271107T090000
END:STANDARD
END:VTIMEZONE
BEGIN:VEVENT
DTSTART;TZID=America/Vancouver:20260215T103000
DTEND;TZID=America/Vancouver:20260215T120000
DTSTAMP:20260421T005734
CREATED:20250822T053626Z
LAST-MODIFIED:20260214T211043Z
UID:10005696-1771151400-1771156800@www.halinacentre.com
SUMMARY:Ukulele
DESCRIPTION:
URL:https://www.halinacentre.com/event/ukulele-30/
CATEGORIES:Club Room
END:VEVENT
BEGIN:VEVENT
DTSTART;TZID=America/Vancouver:20260215T123000
DTEND;TZID=America/Vancouver:20260215T190000
DTSTAMP:20260421T005734
CREATED:20250710T013623Z
LAST-MODIFIED:20260215T234120Z
UID:10004919-1771158600-1771182000@www.halinacentre.com
SUMMARY:CornHole League
DESCRIPTION:
URL:https://www.halinacentre.com/event/cornhole-league-19/
CATEGORIES:Halina Room
END:VEVENT
END:VCALENDAR