BEGIN:VCALENDAR
VERSION:2.0
PRODID:-//Halina Centre - ECPv6.15.20//NONSGML v1.0//EN
CALSCALE:GREGORIAN
METHOD:PUBLISH
X-WR-CALNAME:Halina Centre
X-ORIGINAL-URL:https://www.halinacentre.com
X-WR-CALDESC:Events for Halina Centre
REFRESH-INTERVAL;VALUE=DURATION:PT1H
X-Robots-Tag:noindex
X-PUBLISHED-TTL:PT1H
BEGIN:VTIMEZONE
TZID:America/Vancouver
BEGIN:DAYLIGHT
TZOFFSETFROM:-0800
TZOFFSETTO:-0700
TZNAME:PDT
DTSTART:20250309T100000
END:DAYLIGHT
BEGIN:STANDARD
TZOFFSETFROM:-0700
TZOFFSETTO:-0800
TZNAME:PST
DTSTART:20251102T090000
END:STANDARD
BEGIN:DAYLIGHT
TZOFFSETFROM:-0800
TZOFFSETTO:-0700
TZNAME:PDT
DTSTART:20260308T100000
END:DAYLIGHT
BEGIN:STANDARD
TZOFFSETFROM:-0700
TZOFFSETTO:-0800
TZNAME:PST
DTSTART:20261101T090000
END:STANDARD
BEGIN:DAYLIGHT
TZOFFSETFROM:-0800
TZOFFSETTO:-0700
TZNAME:PDT
DTSTART:20270314T100000
END:DAYLIGHT
BEGIN:STANDARD
TZOFFSETFROM:-0700
TZOFFSETTO:-0800
TZNAME:PST
DTSTART:20271107T090000
END:STANDARD
END:VTIMEZONE
BEGIN:VEVENT
DTSTART;TZID=America/Vancouver:20260214T080000
DTEND;TZID=America/Vancouver:20260214T110000
DTSTAMP:20260421T010758
CREATED:20251028T065124Z
LAST-MODIFIED:20260213T232543Z
UID:10006010-1771056000-1771066800@www.halinacentre.com
SUMMARY:Pancake Breakfast - Winter Carnival
DESCRIPTION:
URL:https://www.halinacentre.com/event/pancake-breakfast-winter-carnival/
CATEGORIES:Halina Room
END:VEVENT
BEGIN:VEVENT
DTSTART;TZID=America/Vancouver:20260214T160000
DTEND;TZID=America/Vancouver:20260215T000000
DTSTAMP:20260421T010758
CREATED:20251107T072124Z
LAST-MODIFIED:20260214T234042Z
UID:10006090-1771084800-1771113600@www.halinacentre.com
SUMMARY:Private Event- Valentines Prom
DESCRIPTION:
URL:https://www.halinacentre.com/event/tentative-valentines-prom/
CATEGORIES:Halina Room
END:VEVENT
BEGIN:VEVENT
DTSTART;TZID=America/Vancouver:20260214T160000
DTEND;TZID=America/Vancouver:20260215T000000
DTSTAMP:20260421T010758
CREATED:20251126T115118Z
LAST-MODIFIED:20260214T211043Z
UID:10006209-1771084800-1771113600@www.halinacentre.com
SUMMARY:Private Event - Valentine Prom
DESCRIPTION:
URL:https://www.halinacentre.com/event/private-event-valentine-prom/
CATEGORIES:Club Room
END:VEVENT
END:VCALENDAR