BEGIN:VCALENDAR
VERSION:2.0
PRODID:-//Halina Centre - ECPv6.15.20//NONSGML v1.0//EN
CALSCALE:GREGORIAN
METHOD:PUBLISH
X-ORIGINAL-URL:https://www.halinacentre.com
X-WR-CALDESC:Events for Halina Centre
REFRESH-INTERVAL;VALUE=DURATION:PT1H
X-Robots-Tag:noindex
X-PUBLISHED-TTL:PT1H
BEGIN:VTIMEZONE
TZID:America/Vancouver
BEGIN:DAYLIGHT
TZOFFSETFROM:-0800
TZOFFSETTO:-0700
TZNAME:PDT
DTSTART:20250309T100000
END:DAYLIGHT
BEGIN:STANDARD
TZOFFSETFROM:-0700
TZOFFSETTO:-0800
TZNAME:PST
DTSTART:20251102T090000
END:STANDARD
BEGIN:DAYLIGHT
TZOFFSETFROM:-0800
TZOFFSETTO:-0700
TZNAME:PDT
DTSTART:20260308T100000
END:DAYLIGHT
BEGIN:STANDARD
TZOFFSETFROM:-0700
TZOFFSETTO:-0800
TZNAME:PST
DTSTART:20261101T090000
END:STANDARD
BEGIN:DAYLIGHT
TZOFFSETFROM:-0800
TZOFFSETTO:-0700
TZNAME:PDT
DTSTART:20270314T100000
END:DAYLIGHT
BEGIN:STANDARD
TZOFFSETFROM:-0700
TZOFFSETTO:-0800
TZNAME:PST
DTSTART:20271107T090000
END:STANDARD
END:VTIMEZONE
BEGIN:VEVENT
DTSTART;TZID=America/Vancouver:20260213T080000
DTEND;TZID=America/Vancouver:20260213T090000
DTSTAMP:20260421T023905
CREATED:20251022T062123Z
LAST-MODIFIED:20260212T232553Z
UID:10005982-1770969600-1770973200@www.halinacentre.com
SUMMARY:Tai Chi - Beginners
DESCRIPTION:
URL:https://www.halinacentre.com/event/tai-chi-beginners-46/
CATEGORIES:Halina Room
END:VEVENT
BEGIN:VEVENT
DTSTART;TZID=America/Vancouver:20260213T083000
DTEND;TZID=America/Vancouver:20260213T163000
DTSTAMP:20260421T023905
CREATED:20250422T190657Z
LAST-MODIFIED:20260213T221040Z
UID:10005125-1770971400-1771000200@www.halinacentre.com
SUMMARY:Billiards/Snooker/Pool
DESCRIPTION:
URL:https://www.halinacentre.com/event/billiards-snooker-pool-226/
CATEGORIES:Pool Room
END:VEVENT
BEGIN:VEVENT
DTSTART;TZID=America/Vancouver:20260213T091500
DTEND;TZID=America/Vancouver:20260213T111500
DTSTAMP:20260421T023905
CREATED:20251022T062123Z
LAST-MODIFIED:20260212T232553Z
UID:10005983-1770974100-1770981300@www.halinacentre.com
SUMMARY:Carpet Bowling
DESCRIPTION:
URL:https://www.halinacentre.com/event/carpet-bowling-20/
CATEGORIES:Halina Room
END:VEVENT
BEGIN:VEVENT
DTSTART;TZID=America/Vancouver:20260213T093000
DTEND;TZID=America/Vancouver:20260213T143000
DTSTAMP:20260421T023905
CREATED:20250506T195211Z
LAST-MODIFIED:20260213T211041Z
UID:10005170-1770975000-1770993000@www.halinacentre.com
SUMMARY:Canasta
DESCRIPTION:1st and 3rd Monday
URL:https://www.halinacentre.com/event/canasta-92/
CATEGORIES:Club Room
END:VEVENT
BEGIN:VEVENT
DTSTART;TZID=America/Vancouver:20260213T120000
DTEND;TZID=America/Vancouver:20260213T153000
DTSTAMP:20260421T023905
CREATED:20250709T012126Z
LAST-MODIFIED:20260213T232543Z
UID:10004916-1770984000-1770996600@www.halinacentre.com
SUMMARY:Bingo -
DESCRIPTION:
URL:https://www.halinacentre.com/event/bingo-119/
CATEGORIES:Halina Room
END:VEVENT
BEGIN:VEVENT
DTSTART;TZID=America/Vancouver:20260213T160000
DTEND;TZID=America/Vancouver:20260213T190000
DTSTAMP:20260421T023905
CREATED:20250725T033630Z
LAST-MODIFIED:20260213T211041Z
UID:10005495-1770998400-1771009200@www.halinacentre.com
SUMMARY:Tentative - Aqua Team
DESCRIPTION:
URL:https://www.halinacentre.com/event/tentative-aqua-team/
CATEGORIES:Club Room
END:VEVENT
BEGIN:VEVENT
DTSTART;TZID=America/Vancouver:20260213T170000
DTEND;TZID=America/Vancouver:20260213T220000
DTSTAMP:20260421T023905
CREATED:20260125T221109Z
LAST-MODIFIED:20260213T232543Z
UID:10006524-1771002000-1771020000@www.halinacentre.com
SUMMARY:Private Event
DESCRIPTION:
URL:https://www.halinacentre.com/event/private-event-67/
CATEGORIES:Halina Room
END:VEVENT
END:VCALENDAR