BEGIN:VCALENDAR
VERSION:2.0
PRODID:-//Halina Centre - ECPv6.15.20//NONSGML v1.0//EN
CALSCALE:GREGORIAN
METHOD:PUBLISH
X-ORIGINAL-URL:https://www.halinacentre.com
X-WR-CALDESC:Events for Halina Centre
REFRESH-INTERVAL;VALUE=DURATION:PT1H
X-Robots-Tag:noindex
X-PUBLISHED-TTL:PT1H
BEGIN:VTIMEZONE
TZID:America/Vancouver
BEGIN:DAYLIGHT
TZOFFSETFROM:-0800
TZOFFSETTO:-0700
TZNAME:PDT
DTSTART:20250309T100000
END:DAYLIGHT
BEGIN:STANDARD
TZOFFSETFROM:-0700
TZOFFSETTO:-0800
TZNAME:PST
DTSTART:20251102T090000
END:STANDARD
BEGIN:DAYLIGHT
TZOFFSETFROM:-0800
TZOFFSETTO:-0700
TZNAME:PDT
DTSTART:20260308T100000
END:DAYLIGHT
BEGIN:STANDARD
TZOFFSETFROM:-0700
TZOFFSETTO:-0800
TZNAME:PST
DTSTART:20261101T090000
END:STANDARD
BEGIN:DAYLIGHT
TZOFFSETFROM:-0800
TZOFFSETTO:-0700
TZNAME:PDT
DTSTART:20270314T100000
END:DAYLIGHT
BEGIN:STANDARD
TZOFFSETFROM:-0700
TZOFFSETTO:-0800
TZNAME:PST
DTSTART:20271107T090000
END:STANDARD
END:VTIMEZONE
BEGIN:VEVENT
DTSTART;TZID=America/Vancouver:20260206T080000
DTEND;TZID=America/Vancouver:20260206T090000
DTSTAMP:20260421T024616
CREATED:20250927T045125Z
LAST-MODIFIED:20260122T214042Z
UID:10005877-1770364800-1770368400@www.halinacentre.com
SUMMARY:Tai Chi - Beginners
DESCRIPTION:
URL:https://www.halinacentre.com/event/tai-chi-beginners-44/
CATEGORIES:Halina Room
END:VEVENT
BEGIN:VEVENT
DTSTART;TZID=America/Vancouver:20260206T080000
DTEND;TZID=America/Vancouver:20260206T210000
DTSTAMP:20260421T024616
CREATED:20250703T012241Z
LAST-MODIFIED:20260206T225547Z
UID:10005435-1770364800-1770411600@www.halinacentre.com
SUMMARY:Bingo -Marathon
DESCRIPTION:
URL:https://www.halinacentre.com/event/bingo-117/
CATEGORIES:Halina Room
END:VEVENT
BEGIN:VEVENT
DTSTART;TZID=America/Vancouver:20260206T083000
DTEND;TZID=America/Vancouver:20260206T163000
DTSTAMP:20260421T024616
CREATED:20250415T180850Z
LAST-MODIFIED:20260206T215541Z
UID:10005105-1770366600-1770395400@www.halinacentre.com
SUMMARY:Billiards/Snooker/Pool
DESCRIPTION:
URL:https://www.halinacentre.com/event/billiards-snooker-pool-221/
CATEGORIES:Pool Room
END:VEVENT
BEGIN:VEVENT
DTSTART;TZID=America/Vancouver:20260206T091500
DTEND;TZID=America/Vancouver:20260206T111500
DTSTAMP:20260421T024616
CREATED:20250928T045152Z
LAST-MODIFIED:20260122T214042Z
UID:10005879-1770369300-1770376500@www.halinacentre.com
SUMMARY:Carpet Bowling
DESCRIPTION:
URL:https://www.halinacentre.com/event/carpet-bowling-19/
CATEGORIES:Halina Room
END:VEVENT
BEGIN:VEVENT
DTSTART;TZID=America/Vancouver:20260206T093000
DTEND;TZID=America/Vancouver:20260206T143000
DTSTAMP:20260421T024616
CREATED:20250501T193709Z
LAST-MODIFIED:20260122T202556Z
UID:10004613-1770370200-1770388200@www.halinacentre.com
SUMMARY:Canasta
DESCRIPTION:1st and 3rd Monday
URL:https://www.halinacentre.com/event/canasta-90/
CATEGORIES:Club Room
END:VEVENT
END:VCALENDAR