BEGIN:VCALENDAR
VERSION:2.0
PRODID:-//Halina Centre - ECPv6.15.20//NONSGML v1.0//EN
CALSCALE:GREGORIAN
METHOD:PUBLISH
X-ORIGINAL-URL:https://www.halinacentre.com
X-WR-CALDESC:Events for Halina Centre
REFRESH-INTERVAL;VALUE=DURATION:PT1H
X-Robots-Tag:noindex
X-PUBLISHED-TTL:PT1H
BEGIN:VTIMEZONE
TZID:America/Vancouver
BEGIN:DAYLIGHT
TZOFFSETFROM:-0800
TZOFFSETTO:-0700
TZNAME:PDT
DTSTART:20250309T100000
END:DAYLIGHT
BEGIN:STANDARD
TZOFFSETFROM:-0700
TZOFFSETTO:-0800
TZNAME:PST
DTSTART:20251102T090000
END:STANDARD
BEGIN:DAYLIGHT
TZOFFSETFROM:-0800
TZOFFSETTO:-0700
TZNAME:PDT
DTSTART:20260308T100000
END:DAYLIGHT
BEGIN:STANDARD
TZOFFSETFROM:-0700
TZOFFSETTO:-0800
TZNAME:PST
DTSTART:20261101T090000
END:STANDARD
BEGIN:DAYLIGHT
TZOFFSETFROM:-0800
TZOFFSETTO:-0700
TZNAME:PDT
DTSTART:20270314T100000
END:DAYLIGHT
BEGIN:STANDARD
TZOFFSETFROM:-0700
TZOFFSETTO:-0800
TZNAME:PST
DTSTART:20271107T090000
END:STANDARD
END:VTIMEZONE
BEGIN:VEVENT
DTSTART;TZID=America/Vancouver:20260205T073000
DTEND;TZID=America/Vancouver:20260205T163000
DTSTAMP:20260421T013203
CREATED:20251105T110616Z
LAST-MODIFIED:20260205T211041Z
UID:10006041-1770276600-1770309000@www.halinacentre.com
SUMMARY:Private Event - BC Gov
DESCRIPTION:
URL:https://www.halinacentre.com/event/private-event-bc-gov/
CATEGORIES:Club Room
END:VEVENT
BEGIN:VEVENT
DTSTART;TZID=America/Vancouver:20260205T083000
DTEND;TZID=America/Vancouver:20260205T163000
DTSTAMP:20260421T013203
CREATED:20250411T175334Z
LAST-MODIFIED:20260205T214041Z
UID:10005093-1770280200-1770309000@www.halinacentre.com
SUMMARY:Billiards/Snooker/Pool
DESCRIPTION:
URL:https://www.halinacentre.com/event/billiards-snooker-pool-220/
CATEGORIES:Pool Room
END:VEVENT
BEGIN:VEVENT
DTSTART;TZID=America/Vancouver:20260205T084500
DTEND;TZID=America/Vancouver:20260205T113000
DTSTAMP:20260421T013203
CREATED:20251018T060623Z
LAST-MODIFIED:20260204T225608Z
UID:10005969-1770281100-1770291000@www.halinacentre.com
SUMMARY:Strong & Steady (Osteofit)
DESCRIPTION:
URL:https://www.halinacentre.com/event/strong-steady-osteofit-5/
CATEGORIES:Halina Room
END:VEVENT
BEGIN:VEVENT
DTSTART;TZID=America/Vancouver:20260205T094500
DTEND;TZID=America/Vancouver:20260205T111500
DTSTAMP:20260421T013203
CREATED:20250703T012241Z
LAST-MODIFIED:20250806T022126Z
UID:10005433-1770284700-1770290100@www.halinacentre.com
SUMMARY:Osteofit
DESCRIPTION:
URL:https://www.halinacentre.com/event/osteofit-48/
CATEGORIES:Halina Room
END:VEVENT
BEGIN:VEVENT
DTSTART;TZID=America/Vancouver:20260205T130000
DTEND;TZID=America/Vancouver:20260205T150000
DTSTAMP:20260421T013203
CREATED:20250430T192217Z
LAST-MODIFIED:20251104T110613Z
UID:10005150-1770296400-1770303600@www.halinacentre.com
SUMMARY:Time Out Stitchers
DESCRIPTION:
URL:https://www.halinacentre.com/event/time-out-stitchers-47/
CATEGORIES:Club Room
END:VEVENT
BEGIN:VEVENT
DTSTART;TZID=America/Vancouver:20260205T140000
DTEND;TZID=America/Vancouver:20260205T160000
DTSTAMP:20260421T013203
CREATED:20250703T012241Z
LAST-MODIFIED:20260205T225545Z
UID:10005434-1770300000-1770307200@www.halinacentre.com
SUMMARY:Thursday Dance
DESCRIPTION:
URL:https://www.halinacentre.com/event/thursday-dance-46/
CATEGORIES:Halina Room
END:VEVENT
BEGIN:VEVENT
DTSTART;TZID=America/Vancouver:20260205T180000
DTEND;TZID=America/Vancouver:20260205T200000
DTSTAMP:20260421T013203
CREATED:20250412T175250Z
LAST-MODIFIED:20260205T211041Z
UID:10005096-1770314400-1770321600@www.halinacentre.com
SUMMARY:Toastmasters
DESCRIPTION:
URL:https://www.halinacentre.com/event/toastmasters-46/
CATEGORIES:Club Room,Pool Room
END:VEVENT
BEGIN:VEVENT
DTSTART;TZID=America/Vancouver:20260205T180000
DTEND;TZID=America/Vancouver:20260205T220000
DTSTAMP:20260421T013203
CREATED:20251012T055126Z
LAST-MODIFIED:20260205T225545Z
UID:10005931-1770314400-1770328800@www.halinacentre.com
SUMMARY:Star Country Squares
DESCRIPTION:
URL:https://www.halinacentre.com/event/star-country-squares-19/
CATEGORIES:Halina Room
END:VEVENT
END:VCALENDAR