BEGIN:VCALENDAR
VERSION:2.0
PRODID:-//Halina Centre - ECPv6.15.20//NONSGML v1.0//EN
CALSCALE:GREGORIAN
METHOD:PUBLISH
X-WR-CALNAME:Halina Centre
X-ORIGINAL-URL:https://www.halinacentre.com
X-WR-CALDESC:Events for Halina Centre
REFRESH-INTERVAL;VALUE=DURATION:PT1H
X-Robots-Tag:noindex
X-PUBLISHED-TTL:PT1H
BEGIN:VTIMEZONE
TZID:America/Vancouver
BEGIN:DAYLIGHT
TZOFFSETFROM:-0800
TZOFFSETTO:-0700
TZNAME:PDT
DTSTART:20250309T100000
END:DAYLIGHT
BEGIN:STANDARD
TZOFFSETFROM:-0700
TZOFFSETTO:-0800
TZNAME:PST
DTSTART:20251102T090000
END:STANDARD
BEGIN:DAYLIGHT
TZOFFSETFROM:-0800
TZOFFSETTO:-0700
TZNAME:PDT
DTSTART:20260308T100000
END:DAYLIGHT
BEGIN:STANDARD
TZOFFSETFROM:-0700
TZOFFSETTO:-0800
TZNAME:PST
DTSTART:20261101T090000
END:STANDARD
BEGIN:DAYLIGHT
TZOFFSETFROM:-0800
TZOFFSETTO:-0700
TZNAME:PDT
DTSTART:20270314T100000
END:DAYLIGHT
BEGIN:STANDARD
TZOFFSETFROM:-0700
TZOFFSETTO:-0800
TZNAME:PST
DTSTART:20271107T090000
END:STANDARD
END:VTIMEZONE
BEGIN:VEVENT
DTSTART;TZID=America/Vancouver:20260127T083000
DTEND;TZID=America/Vancouver:20260127T163000
DTSTAMP:20260421T022136
CREATED:20250408T170951Z
LAST-MODIFIED:20260127T204042Z
UID:10004354-1769502600-1769531400@www.halinacentre.com
SUMMARY:Billiards/Snooker/Pool
DESCRIPTION:
URL:https://www.halinacentre.com/event/billiards-snooker-pool-213/
CATEGORIES:Pool Room
END:VEVENT
BEGIN:VEVENT
DTSTART;TZID=America/Vancouver:20260127T090000
DTEND;TZID=America/Vancouver:20260127T100000
DTSTAMP:20260421T022136
CREATED:20250703T012237Z
LAST-MODIFIED:20260126T221042Z
UID:10004881-1769504400-1769508000@www.halinacentre.com
SUMMARY:Senior Exercise
DESCRIPTION:
URL:https://www.halinacentre.com/event/senior-exercise-42/
CATEGORIES:Halina Room
END:VEVENT
BEGIN:VEVENT
DTSTART;TZID=America/Vancouver:20260127T120000
DTEND;TZID=America/Vancouver:20260127T153000
DTSTAMP:20260421T022136
CREATED:20250703T012237Z
LAST-MODIFIED:20260127T222548Z
UID:10004883-1769515200-1769527800@www.halinacentre.com
SUMMARY:Bingo
DESCRIPTION:
URL:https://www.halinacentre.com/event/bingo-114/
CATEGORIES:Halina Room
END:VEVENT
BEGIN:VEVENT
DTSTART;TZID=America/Vancouver:20260127T180000
DTEND;TZID=America/Vancouver:20260127T210000
DTSTAMP:20260421T022136
CREATED:20250408T170952Z
LAST-MODIFIED:20260127T204042Z
UID:10004355-1769536800-1769547600@www.halinacentre.com
SUMMARY:Snooker
DESCRIPTION:
URL:https://www.halinacentre.com/event/snooker-44/
CATEGORIES:Pool Room
END:VEVENT
BEGIN:VEVENT
DTSTART;TZID=America/Vancouver:20260127T180000
DTEND;TZID=America/Vancouver:20260127T220000
DTSTAMP:20260421T022136
CREATED:20250822T053623Z
LAST-MODIFIED:20260112T195140Z
UID:10005689-1769536800-1769551200@www.halinacentre.com
SUMMARY:Open Jam
DESCRIPTION:
URL:https://www.halinacentre.com/event/open-jam-21/
CATEGORIES:Club Room
END:VEVENT
BEGIN:VEVENT
DTSTART;TZID=America/Vancouver:20260127T183000
DTEND;TZID=America/Vancouver:20260127T213000
DTSTAMP:20260421T022136
CREATED:20250703T012237Z
LAST-MODIFIED:20260127T222548Z
UID:10004885-1769538600-1769549400@www.halinacentre.com
SUMMARY:Table Tennis advanced
DESCRIPTION:
URL:https://www.halinacentre.com/event/table-tennis-advanced-42/
CATEGORIES:Halina Room
END:VEVENT
END:VCALENDAR