BEGIN:VCALENDAR
VERSION:2.0
PRODID:-//Halina Centre - ECPv6.15.20//NONSGML v1.0//EN
CALSCALE:GREGORIAN
METHOD:PUBLISH
X-ORIGINAL-URL:https://www.halinacentre.com
X-WR-CALDESC:Events for Halina Centre
REFRESH-INTERVAL;VALUE=DURATION:PT1H
X-Robots-Tag:noindex
X-PUBLISHED-TTL:PT1H
BEGIN:VTIMEZONE
TZID:America/Vancouver
BEGIN:DAYLIGHT
TZOFFSETFROM:-0800
TZOFFSETTO:-0700
TZNAME:PDT
DTSTART:20250309T100000
END:DAYLIGHT
BEGIN:STANDARD
TZOFFSETFROM:-0700
TZOFFSETTO:-0800
TZNAME:PST
DTSTART:20251102T090000
END:STANDARD
BEGIN:DAYLIGHT
TZOFFSETFROM:-0800
TZOFFSETTO:-0700
TZNAME:PDT
DTSTART:20260308T100000
END:DAYLIGHT
BEGIN:STANDARD
TZOFFSETFROM:-0700
TZOFFSETTO:-0800
TZNAME:PST
DTSTART:20261101T090000
END:STANDARD
BEGIN:DAYLIGHT
TZOFFSETFROM:-0800
TZOFFSETTO:-0700
TZNAME:PDT
DTSTART:20270314T100000
END:DAYLIGHT
BEGIN:STANDARD
TZOFFSETFROM:-0700
TZOFFSETTO:-0800
TZNAME:PST
DTSTART:20271107T090000
END:STANDARD
END:VTIMEZONE
BEGIN:VEVENT
DTSTART;TZID=America/Vancouver:20260126T083000
DTEND;TZID=America/Vancouver:20260126T163000
DTSTAMP:20260421T021107
CREATED:20250408T170951Z
LAST-MODIFIED:20260126T204108Z
UID:10004353-1769416200-1769445000@www.halinacentre.com
SUMMARY:Billiards/Snooker/Pool
DESCRIPTION:
URL:https://www.halinacentre.com/event/billiards-snooker-pool-212/
CATEGORIES:Pool Room
END:VEVENT
BEGIN:VEVENT
DTSTART;TZID=America/Vancouver:20260126T093000
DTEND;TZID=America/Vancouver:20260126T120000
DTSTAMP:20260421T021107
CREATED:20250703T012237Z
LAST-MODIFIED:20260125T221107Z
UID:10005429-1769419800-1769428800@www.halinacentre.com
SUMMARY:Floor Curling
DESCRIPTION:
URL:https://www.halinacentre.com/event/floor-curling-45/
CATEGORIES:Halina Room
END:VEVENT
BEGIN:VEVENT
DTSTART;TZID=America/Vancouver:20260126T093000
DTEND;TZID=America/Vancouver:20260126T143000
DTSTAMP:20260421T021107
CREATED:20250421T183733Z
LAST-MODIFIED:20260126T205542Z
UID:10005119-1769419800-1769437800@www.halinacentre.com
SUMMARY:Canasta
DESCRIPTION:1st and 3rd Monday
URL:https://www.halinacentre.com/event/canasta-87/
CATEGORIES:Club Room
END:VEVENT
BEGIN:VEVENT
DTSTART;TZID=America/Vancouver:20260126T120000
DTEND;TZID=America/Vancouver:20260126T160000
DTSTAMP:20260421T021107
CREATED:20250919T043627Z
LAST-MODIFIED:20251021T061103Z
UID:10005845-1769428800-1769443200@www.halinacentre.com
SUMMARY:Crib
DESCRIPTION:join our crib group\, every Monday in the Halina Room\, except Sept 29\n$15 drop in fee
URL:https://www.halinacentre.com/event/crib-37/
CATEGORIES:Halina Room
END:VEVENT
END:VCALENDAR