BEGIN:VCALENDAR
VERSION:2.0
PRODID:-//Halina Centre - ECPv6.15.20//NONSGML v1.0//EN
CALSCALE:GREGORIAN
METHOD:PUBLISH
X-ORIGINAL-URL:https://www.halinacentre.com
X-WR-CALDESC:Events for Halina Centre
REFRESH-INTERVAL;VALUE=DURATION:PT1H
X-Robots-Tag:noindex
X-PUBLISHED-TTL:PT1H
BEGIN:VTIMEZONE
TZID:America/Vancouver
BEGIN:DAYLIGHT
TZOFFSETFROM:-0800
TZOFFSETTO:-0700
TZNAME:PDT
DTSTART:20250309T100000
END:DAYLIGHT
BEGIN:STANDARD
TZOFFSETFROM:-0700
TZOFFSETTO:-0800
TZNAME:PST
DTSTART:20251102T090000
END:STANDARD
BEGIN:DAYLIGHT
TZOFFSETFROM:-0800
TZOFFSETTO:-0700
TZNAME:PDT
DTSTART:20260308T100000
END:DAYLIGHT
BEGIN:STANDARD
TZOFFSETFROM:-0700
TZOFFSETTO:-0800
TZNAME:PST
DTSTART:20261101T090000
END:STANDARD
BEGIN:DAYLIGHT
TZOFFSETFROM:-0800
TZOFFSETTO:-0700
TZNAME:PDT
DTSTART:20270314T100000
END:DAYLIGHT
BEGIN:STANDARD
TZOFFSETFROM:-0700
TZOFFSETTO:-0800
TZNAME:PST
DTSTART:20271107T090000
END:STANDARD
END:VTIMEZONE
BEGIN:VEVENT
DTSTART;TZID=America/Vancouver:20260122T083000
DTEND;TZID=America/Vancouver:20260122T163000
DTSTAMP:20260421T021115
CREATED:20250408T170950Z
LAST-MODIFIED:20260122T204042Z
UID:10004350-1769070600-1769099400@www.halinacentre.com
SUMMARY:Billiards/Snooker/Pool
DESCRIPTION:
URL:https://www.halinacentre.com/event/billiards-snooker-pool-210/
CATEGORIES:Pool Room
END:VEVENT
BEGIN:VEVENT
DTSTART;TZID=America/Vancouver:20260122T084500
DTEND;TZID=America/Vancouver:20260122T113000
DTSTAMP:20260421T021115
CREATED:20251018T060621Z
LAST-MODIFIED:20260121T212642Z
UID:10005967-1769071500-1769081400@www.halinacentre.com
SUMMARY:Strong & Steady (Osteofit)
DESCRIPTION:
URL:https://www.halinacentre.com/event/strong-steady-osteofit-3/
CATEGORIES:Halina Room
END:VEVENT
BEGIN:VEVENT
DTSTART;TZID=America/Vancouver:20260122T094500
DTEND;TZID=America/Vancouver:20260122T111500
DTSTAMP:20260421T021115
CREATED:20250625T002606Z
LAST-MODIFIED:20250806T022124Z
UID:10005399-1769075100-1769080500@www.halinacentre.com
SUMMARY:Osteofit
DESCRIPTION:
URL:https://www.halinacentre.com/event/osteofit-46/
CATEGORIES:Halina Room
END:VEVENT
BEGIN:VEVENT
DTSTART;TZID=America/Vancouver:20260122T130000
DTEND;TZID=America/Vancouver:20260122T150000
DTSTAMP:20260421T021115
CREATED:20250418T180642Z
LAST-MODIFIED:20260122T202543Z
UID:10004575-1769086800-1769094000@www.halinacentre.com
SUMMARY:Time Out Stitchers
DESCRIPTION:
URL:https://www.halinacentre.com/event/time-out-stitchers-45/
CATEGORIES:Club Room
END:VEVENT
BEGIN:VEVENT
DTSTART;TZID=America/Vancouver:20260122T140000
DTEND;TZID=America/Vancouver:20260122T160000
DTSTAMP:20260421T021115
CREATED:20250626T003731Z
LAST-MODIFIED:20260122T214043Z
UID:10005402-1769090400-1769097600@www.halinacentre.com
SUMMARY:Thursday Dance
DESCRIPTION:
URL:https://www.halinacentre.com/event/thursday-dance-44/
CATEGORIES:Halina Room
END:VEVENT
BEGIN:VEVENT
DTSTART;TZID=America/Vancouver:20260122T180000
DTEND;TZID=America/Vancouver:20260122T200000
DTSTAMP:20260421T021115
CREATED:20250408T170950Z
LAST-MODIFIED:20260122T202543Z
UID:10004351-1769104800-1769112000@www.halinacentre.com
SUMMARY:Toastmasters
DESCRIPTION:
URL:https://www.halinacentre.com/event/toastmasters-44/
CATEGORIES:Club Room,Pool Room
END:VEVENT
BEGIN:VEVENT
DTSTART;TZID=America/Vancouver:20260122T180000
DTEND;TZID=America/Vancouver:20260122T220000
DTSTAMP:20260421T021115
CREATED:20250626T003731Z
LAST-MODIFIED:20250626T003731Z
UID:10005403-1769104800-1769119200@www.halinacentre.com
SUMMARY:Square Dancing
DESCRIPTION:
URL:https://www.halinacentre.com/event/square-dancing-43/
CATEGORIES:Halina Room
END:VEVENT
BEGIN:VEVENT
DTSTART;TZID=America/Vancouver:20260122T180000
DTEND;TZID=America/Vancouver:20260122T220000
DTSTAMP:20260421T021115
CREATED:20251010T052123Z
LAST-MODIFIED:20260122T214043Z
UID:10005926-1769104800-1769119200@www.halinacentre.com
SUMMARY:Star Country Squares
DESCRIPTION:
URL:https://www.halinacentre.com/event/star-country-squares-17/
CATEGORIES:Halina Room
END:VEVENT
END:VCALENDAR