BEGIN:VCALENDAR
VERSION:2.0
PRODID:-//Halina Centre - ECPv6.15.20//NONSGML v1.0//EN
CALSCALE:GREGORIAN
METHOD:PUBLISH
X-ORIGINAL-URL:https://www.halinacentre.com
X-WR-CALDESC:Events for Halina Centre
REFRESH-INTERVAL;VALUE=DURATION:PT1H
X-Robots-Tag:noindex
X-PUBLISHED-TTL:PT1H
BEGIN:VTIMEZONE
TZID:America/Vancouver
BEGIN:DAYLIGHT
TZOFFSETFROM:-0800
TZOFFSETTO:-0700
TZNAME:PDT
DTSTART:20250309T100000
END:DAYLIGHT
BEGIN:STANDARD
TZOFFSETFROM:-0700
TZOFFSETTO:-0800
TZNAME:PST
DTSTART:20251102T090000
END:STANDARD
BEGIN:DAYLIGHT
TZOFFSETFROM:-0800
TZOFFSETTO:-0700
TZNAME:PDT
DTSTART:20260308T100000
END:DAYLIGHT
BEGIN:STANDARD
TZOFFSETFROM:-0700
TZOFFSETTO:-0800
TZNAME:PST
DTSTART:20261101T090000
END:STANDARD
BEGIN:DAYLIGHT
TZOFFSETFROM:-0800
TZOFFSETTO:-0700
TZNAME:PDT
DTSTART:20270314T100000
END:DAYLIGHT
BEGIN:STANDARD
TZOFFSETFROM:-0700
TZOFFSETTO:-0800
TZNAME:PST
DTSTART:20271107T090000
END:STANDARD
END:VTIMEZONE
BEGIN:VEVENT
DTSTART;TZID=America/Vancouver:20260121T080000
DTEND;TZID=America/Vancouver:20260121T090000
DTSTAMP:20260421T033611
CREATED:20250915T040626Z
LAST-MODIFIED:20260120T212111Z
UID:10005834-1768982400-1768986000@www.halinacentre.com
SUMMARY:Tai Chi - Beginners
DESCRIPTION:
URL:https://www.halinacentre.com/event/tai-chi-beginners-39/
CATEGORIES:Halina Room
END:VEVENT
BEGIN:VEVENT
DTSTART;TZID=America/Vancouver:20260121T083000
DTEND;TZID=America/Vancouver:20260121T163000
DTSTAMP:20260421T033611
CREATED:20250408T170950Z
LAST-MODIFIED:20260121T203640Z
UID:10004349-1768984200-1769013000@www.halinacentre.com
SUMMARY:Billiards/Snooker/Pool
DESCRIPTION:
URL:https://www.halinacentre.com/event/billiards-snooker-pool-209/
CATEGORIES:Pool Room
END:VEVENT
BEGIN:VEVENT
DTSTART;TZID=America/Vancouver:20260121T093000
DTEND;TZID=America/Vancouver:20260121T113000
DTSTAMP:20260421T033611
CREATED:20250417T180651Z
LAST-MODIFIED:20250604T221346Z
UID:10004564-1768987800-1768995000@www.halinacentre.com
SUMMARY:Recreational Table Tennis
DESCRIPTION:
URL:https://www.halinacentre.com/event/recreational-table-tennis-43/
CATEGORIES:Club Room
END:VEVENT
BEGIN:VEVENT
DTSTART;TZID=America/Vancouver:20260121T100000
DTEND;TZID=America/Vancouver:20260121T120000
DTSTAMP:20260421T033611
CREATED:20251002T045126Z
LAST-MODIFIED:20260120T212111Z
UID:10005898-1768989600-1768996800@www.halinacentre.com
SUMMARY:Recreational Table Tennis
DESCRIPTION:
URL:https://www.halinacentre.com/event/recreational-table-tennis-67/
CATEGORIES:Halina Room
END:VEVENT
BEGIN:VEVENT
DTSTART;TZID=America/Vancouver:20260121T130000
DTEND;TZID=America/Vancouver:20260121T150000
DTSTAMP:20260421T033611
CREATED:20250417T180651Z
LAST-MODIFIED:20260121T202109Z
UID:10004566-1769000400-1769007600@www.halinacentre.com
SUMMARY:Halina Crafters
DESCRIPTION:
URL:https://www.halinacentre.com/event/halina-crafters-45/
CATEGORIES:Club Room
END:VEVENT
BEGIN:VEVENT
DTSTART;TZID=America/Vancouver:20260121T130000
DTEND;TZID=America/Vancouver:20260121T150000
DTSTAMP:20260421T033611
CREATED:20250417T180651Z
LAST-MODIFIED:20251014T093633Z
UID:10004567-1769000400-1769007600@www.halinacentre.com
SUMMARY:Mahjong
DESCRIPTION:
URL:https://www.halinacentre.com/event/mahjong-44/
CATEGORIES:Club Room
END:VEVENT
BEGIN:VEVENT
DTSTART;TZID=America/Vancouver:20260121T130000
DTEND;TZID=America/Vancouver:20260121T150000
DTSTAMP:20260421T033611
CREATED:20250802T015122Z
LAST-MODIFIED:20260121T212641Z
UID:10005523-1769000400-1769007600@www.halinacentre.com
SUMMARY:Line Dance Lessons
DESCRIPTION:
URL:https://www.halinacentre.com/event/line-dance-lessons-29/
CATEGORIES:Halina Room
END:VEVENT
BEGIN:VEVENT
DTSTART;TZID=America/Vancouver:20260121T183000
DTEND;TZID=America/Vancouver:20260121T203000
DTSTAMP:20260421T033611
CREATED:20250417T180651Z
LAST-MODIFIED:20260121T202109Z
UID:10004569-1769020200-1769027400@www.halinacentre.com
SUMMARY:kalamalka Chorus
DESCRIPTION:
URL:https://www.halinacentre.com/event/kalamalka-chorus-43/
CATEGORIES:Club Room
END:VEVENT
BEGIN:VEVENT
DTSTART;TZID=America/Vancouver:20260121T183000
DTEND;TZID=America/Vancouver:20260121T233000
DTSTAMP:20260421T033611
CREATED:20250625T002606Z
LAST-MODIFIED:20260121T212642Z
UID:10005398-1769020200-1769038200@www.halinacentre.com
SUMMARY:Private Event
DESCRIPTION:
URL:https://www.halinacentre.com/event/private-event-48/
CATEGORIES:Halina Room
END:VEVENT
END:VCALENDAR