BEGIN:VCALENDAR
VERSION:2.0
PRODID:-//Halina Centre - ECPv6.15.20//NONSGML v1.0//EN
CALSCALE:GREGORIAN
METHOD:PUBLISH
X-WR-CALNAME:Halina Centre
X-ORIGINAL-URL:https://www.halinacentre.com
X-WR-CALDESC:Events for Halina Centre
REFRESH-INTERVAL;VALUE=DURATION:PT1H
X-Robots-Tag:noindex
X-PUBLISHED-TTL:PT1H
BEGIN:VTIMEZONE
TZID:America/Vancouver
BEGIN:DAYLIGHT
TZOFFSETFROM:-0800
TZOFFSETTO:-0700
TZNAME:PDT
DTSTART:20250309T100000
END:DAYLIGHT
BEGIN:STANDARD
TZOFFSETFROM:-0700
TZOFFSETTO:-0800
TZNAME:PST
DTSTART:20251102T090000
END:STANDARD
BEGIN:DAYLIGHT
TZOFFSETFROM:-0800
TZOFFSETTO:-0700
TZNAME:PDT
DTSTART:20260308T100000
END:DAYLIGHT
BEGIN:STANDARD
TZOFFSETFROM:-0700
TZOFFSETTO:-0800
TZNAME:PST
DTSTART:20261101T090000
END:STANDARD
BEGIN:DAYLIGHT
TZOFFSETFROM:-0800
TZOFFSETTO:-0700
TZNAME:PDT
DTSTART:20270314T100000
END:DAYLIGHT
BEGIN:STANDARD
TZOFFSETFROM:-0700
TZOFFSETTO:-0800
TZNAME:PST
DTSTART:20271107T090000
END:STANDARD
END:VTIMEZONE
BEGIN:VEVENT
DTSTART;TZID=America/Vancouver:20260113T083000
DTEND;TZID=America/Vancouver:20260113T163000
DTSTAMP:20260421T033447
CREATED:20250408T170948Z
LAST-MODIFIED:20260113T200624Z
UID:10004331-1768293000-1768321800@www.halinacentre.com
SUMMARY:Billiards/Snooker/Pool
DESCRIPTION:
URL:https://www.halinacentre.com/event/billiards-snooker-pool-203/
CATEGORIES:Pool Room
END:VEVENT
BEGIN:VEVENT
DTSTART;TZID=America/Vancouver:20260113T090000
DTEND;TZID=America/Vancouver:20260113T100000
DTSTAMP:20260421T033447
CREATED:20250625T002552Z
LAST-MODIFIED:20260112T202110Z
UID:10005386-1768294800-1768298400@www.halinacentre.com
SUMMARY:Senior Exercise
DESCRIPTION:
URL:https://www.halinacentre.com/event/senior-exercise-40/
CATEGORIES:Halina Room
END:VEVENT
BEGIN:VEVENT
DTSTART;TZID=America/Vancouver:20260113T120000
DTEND;TZID=America/Vancouver:20260113T153000
DTSTAMP:20260421T033447
CREATED:20250625T002553Z
LAST-MODIFIED:20260113T202110Z
UID:10005387-1768305600-1768318200@www.halinacentre.com
SUMMARY:Bingo
DESCRIPTION:
URL:https://www.halinacentre.com/event/bingo-110/
CATEGORIES:Halina Room
END:VEVENT
BEGIN:VEVENT
DTSTART;TZID=America/Vancouver:20260113T180000
DTEND;TZID=America/Vancouver:20260113T210000
DTSTAMP:20260421T033447
CREATED:20250408T170948Z
LAST-MODIFIED:20260113T200624Z
UID:10004333-1768327200-1768338000@www.halinacentre.com
SUMMARY:Snooker
DESCRIPTION:
URL:https://www.halinacentre.com/event/snooker-42/
CATEGORIES:Pool Room
END:VEVENT
BEGIN:VEVENT
DTSTART;TZID=America/Vancouver:20260113T180000
DTEND;TZID=America/Vancouver:20260113T220000
DTSTAMP:20260421T033447
CREATED:20250822T053622Z
LAST-MODIFIED:20260111T195132Z
UID:10005682-1768327200-1768341600@www.halinacentre.com
SUMMARY:Open Jam
DESCRIPTION:
URL:https://www.halinacentre.com/event/open-jam-19/
CATEGORIES:Club Room
END:VEVENT
BEGIN:VEVENT
DTSTART;TZID=America/Vancouver:20260113T183000
DTEND;TZID=America/Vancouver:20260113T213000
DTSTAMP:20260421T033447
CREATED:20250625T002555Z
LAST-MODIFIED:20260113T202110Z
UID:10005388-1768329000-1768339800@www.halinacentre.com
SUMMARY:Table Tennis advanced
DESCRIPTION:
URL:https://www.halinacentre.com/event/table-tennis-advanced-40/
CATEGORIES:Halina Room
END:VEVENT
END:VCALENDAR