BEGIN:VCALENDAR
VERSION:2.0
PRODID:-//Halina Centre - ECPv6.15.20//NONSGML v1.0//EN
CALSCALE:GREGORIAN
METHOD:PUBLISH
X-ORIGINAL-URL:https://www.halinacentre.com
X-WR-CALDESC:Events for Halina Centre
REFRESH-INTERVAL;VALUE=DURATION:PT1H
X-Robots-Tag:noindex
X-PUBLISHED-TTL:PT1H
BEGIN:VTIMEZONE
TZID:America/Vancouver
BEGIN:DAYLIGHT
TZOFFSETFROM:-0800
TZOFFSETTO:-0700
TZNAME:PDT
DTSTART:20250309T100000
END:DAYLIGHT
BEGIN:STANDARD
TZOFFSETFROM:-0700
TZOFFSETTO:-0800
TZNAME:PST
DTSTART:20251102T090000
END:STANDARD
BEGIN:DAYLIGHT
TZOFFSETFROM:-0800
TZOFFSETTO:-0700
TZNAME:PDT
DTSTART:20260308T100000
END:DAYLIGHT
BEGIN:STANDARD
TZOFFSETFROM:-0700
TZOFFSETTO:-0800
TZNAME:PST
DTSTART:20261101T090000
END:STANDARD
BEGIN:DAYLIGHT
TZOFFSETFROM:-0800
TZOFFSETTO:-0700
TZNAME:PDT
DTSTART:20270314T100000
END:DAYLIGHT
BEGIN:STANDARD
TZOFFSETFROM:-0700
TZOFFSETTO:-0800
TZNAME:PST
DTSTART:20271107T090000
END:STANDARD
END:VTIMEZONE
BEGIN:VEVENT
DTSTART;TZID=America/Vancouver:20260109T080000
DTEND;TZID=America/Vancouver:20260109T090000
DTSTAMP:20260421T033544
CREATED:20250823T032127Z
LAST-MODIFIED:20260108T195134Z
UID:10005755-1767945600-1767949200@www.halinacentre.com
SUMMARY:Tai Chi - Beginners
DESCRIPTION:
URL:https://www.halinacentre.com/event/tai-chi-beginners-36/
CATEGORIES:Halina Room
END:VEVENT
BEGIN:VEVENT
DTSTART;TZID=America/Vancouver:20260109T083000
DTEND;TZID=America/Vancouver:20260109T163000
DTSTAMP:20260421T033544
CREATED:20250408T170947Z
LAST-MODIFIED:20260109T195114Z
UID:10004094-1767947400-1767976200@www.halinacentre.com
SUMMARY:Billiards/Snooker/Pool
DESCRIPTION:
URL:https://www.halinacentre.com/event/billiards-snooker-pool-201/
CATEGORIES:Pool Room
END:VEVENT
BEGIN:VEVENT
DTSTART;TZID=America/Vancouver:20260109T091500
DTEND;TZID=America/Vancouver:20260109T111500
DTSTAMP:20260421T033544
CREATED:20250822T032128Z
LAST-MODIFIED:20260108T195134Z
UID:10005624-1767950100-1767957300@www.halinacentre.com
SUMMARY:Carpet Bowling
DESCRIPTION:
URL:https://www.halinacentre.com/event/carpet-bowling-15/
CATEGORIES:Halina Room
END:VEVENT
BEGIN:VEVENT
DTSTART;TZID=America/Vancouver:20260109T093000
DTEND;TZID=America/Vancouver:20260109T143000
DTSTAMP:20260421T033544
CREATED:20250410T172153Z
LAST-MODIFIED:20260109T195136Z
UID:10004546-1767951000-1767969000@www.halinacentre.com
SUMMARY:Canasta
DESCRIPTION:1st and 3rd Monday
URL:https://www.halinacentre.com/event/canasta-82/
CATEGORIES:Club Room
END:VEVENT
BEGIN:VEVENT
DTSTART;TZID=America/Vancouver:20260109T120000
DTEND;TZID=America/Vancouver:20260109T153000
DTSTAMP:20260421T033544
CREATED:20250625T002543Z
LAST-MODIFIED:20260109T200615Z
UID:10004849-1767960000-1767972600@www.halinacentre.com
SUMMARY:Bingo -
DESCRIPTION:
URL:https://www.halinacentre.com/event/bingo-109/
CATEGORIES:Halina Room
END:VEVENT
END:VCALENDAR