BEGIN:VCALENDAR
VERSION:2.0
PRODID:-//Halina Centre - ECPv6.15.20//NONSGML v1.0//EN
CALSCALE:GREGORIAN
METHOD:PUBLISH
X-ORIGINAL-URL:https://www.halinacentre.com
X-WR-CALDESC:Events for Halina Centre
REFRESH-INTERVAL;VALUE=DURATION:PT1H
X-Robots-Tag:noindex
X-PUBLISHED-TTL:PT1H
BEGIN:VTIMEZONE
TZID:America/Vancouver
BEGIN:DAYLIGHT
TZOFFSETFROM:-0800
TZOFFSETTO:-0700
TZNAME:PDT
DTSTART:20250309T100000
END:DAYLIGHT
BEGIN:STANDARD
TZOFFSETFROM:-0700
TZOFFSETTO:-0800
TZNAME:PST
DTSTART:20251102T090000
END:STANDARD
BEGIN:DAYLIGHT
TZOFFSETFROM:-0800
TZOFFSETTO:-0700
TZNAME:PDT
DTSTART:20260308T100000
END:DAYLIGHT
BEGIN:STANDARD
TZOFFSETFROM:-0700
TZOFFSETTO:-0800
TZNAME:PST
DTSTART:20261101T090000
END:STANDARD
BEGIN:DAYLIGHT
TZOFFSETFROM:-0800
TZOFFSETTO:-0700
TZNAME:PDT
DTSTART:20270314T100000
END:DAYLIGHT
BEGIN:STANDARD
TZOFFSETFROM:-0700
TZOFFSETTO:-0800
TZNAME:PST
DTSTART:20271107T090000
END:STANDARD
END:VTIMEZONE
BEGIN:VEVENT
DTSTART;TZID=America/Vancouver:20260106T083000
DTEND;TZID=America/Vancouver:20260106T163000
DTSTAMP:20260421T022144
CREATED:20250408T170946Z
LAST-MODIFIED:20260106T193609Z
UID:10004085-1767688200-1767717000@www.halinacentre.com
SUMMARY:Billiards/Snooker/Pool
DESCRIPTION:
URL:https://www.halinacentre.com/event/billiards-snooker-pool-198/
CATEGORIES:Pool Room
END:VEVENT
BEGIN:VEVENT
DTSTART;TZID=America/Vancouver:20260106T090000
DTEND;TZID=America/Vancouver:20260106T100000
DTSTAMP:20260421T022144
CREATED:20250625T002528Z
LAST-MODIFIED:20260105T195131Z
UID:10004838-1767690000-1767693600@www.halinacentre.com
SUMMARY:Senior Exercise
DESCRIPTION:
URL:https://www.halinacentre.com/event/senior-exercise-39/
CATEGORIES:Halina Room
END:VEVENT
BEGIN:VEVENT
DTSTART;TZID=America/Vancouver:20260106T120000
DTEND;TZID=America/Vancouver:20260106T153000
DTSTAMP:20260421T022144
CREATED:20250625T002529Z
LAST-MODIFIED:20260106T195134Z
UID:10004840-1767700800-1767713400@www.halinacentre.com
SUMMARY:Bingo
DESCRIPTION:
URL:https://www.halinacentre.com/event/bingo-108/
CATEGORIES:Halina Room
END:VEVENT
BEGIN:VEVENT
DTSTART;TZID=America/Vancouver:20260106T180000
DTEND;TZID=America/Vancouver:20260106T210000
DTSTAMP:20260421T022144
CREATED:20250408T170946Z
LAST-MODIFIED:20260106T193609Z
UID:10004087-1767722400-1767733200@www.halinacentre.com
SUMMARY:Snooker
DESCRIPTION:
URL:https://www.halinacentre.com/event/snooker-41/
CATEGORIES:Pool Room
END:VEVENT
BEGIN:VEVENT
DTSTART;TZID=America/Vancouver:20260106T180000
DTEND;TZID=America/Vancouver:20260106T220000
DTSTAMP:20260421T022144
CREATED:20250822T053621Z
LAST-MODIFIED:20260106T195116Z
UID:10005680-1767722400-1767736800@www.halinacentre.com
SUMMARY:Open Jam
DESCRIPTION:
URL:https://www.halinacentre.com/event/open-jam-18/
CATEGORIES:Club Room
END:VEVENT
BEGIN:VEVENT
DTSTART;TZID=America/Vancouver:20260106T183000
DTEND;TZID=America/Vancouver:20260106T213000
DTSTAMP:20260421T022144
CREATED:20250625T002532Z
LAST-MODIFIED:20260106T195134Z
UID:10004841-1767724200-1767735000@www.halinacentre.com
SUMMARY:Table Tennis advanced
DESCRIPTION:
URL:https://www.halinacentre.com/event/table-tennis-advanced-39/
CATEGORIES:Halina Room
END:VEVENT
END:VCALENDAR