BEGIN:VCALENDAR
VERSION:2.0
PRODID:-//Halina Centre - ECPv6.15.20//NONSGML v1.0//EN
CALSCALE:GREGORIAN
METHOD:PUBLISH
X-ORIGINAL-URL:https://www.halinacentre.com
X-WR-CALDESC:Events for Halina Centre
REFRESH-INTERVAL;VALUE=DURATION:PT1H
X-Robots-Tag:noindex
X-PUBLISHED-TTL:PT1H
BEGIN:VTIMEZONE
TZID:America/Vancouver
BEGIN:DAYLIGHT
TZOFFSETFROM:-0800
TZOFFSETTO:-0700
TZNAME:PDT
DTSTART:20250309T100000
END:DAYLIGHT
BEGIN:STANDARD
TZOFFSETFROM:-0700
TZOFFSETTO:-0800
TZNAME:PST
DTSTART:20251102T090000
END:STANDARD
BEGIN:DAYLIGHT
TZOFFSETFROM:-0800
TZOFFSETTO:-0700
TZNAME:PDT
DTSTART:20260308T100000
END:DAYLIGHT
BEGIN:STANDARD
TZOFFSETFROM:-0700
TZOFFSETTO:-0800
TZNAME:PST
DTSTART:20261101T090000
END:STANDARD
BEGIN:DAYLIGHT
TZOFFSETFROM:-0800
TZOFFSETTO:-0700
TZNAME:PDT
DTSTART:20270314T100000
END:DAYLIGHT
BEGIN:STANDARD
TZOFFSETFROM:-0700
TZOFFSETTO:-0800
TZNAME:PST
DTSTART:20271107T090000
END:STANDARD
END:VTIMEZONE
BEGIN:VEVENT
DTSTART;TZID=America/Vancouver:20260105T083000
DTEND;TZID=America/Vancouver:20260105T163000
DTSTAMP:20260421T022144
CREATED:20250408T170946Z
LAST-MODIFIED:20260105T193609Z
UID:10004083-1767601800-1767630600@www.halinacentre.com
SUMMARY:Billiards/Snooker/Pool
DESCRIPTION:
URL:https://www.halinacentre.com/event/billiards-snooker-pool-197/
CATEGORIES:Pool Room
END:VEVENT
BEGIN:VEVENT
DTSTART;TZID=America/Vancouver:20260105T093000
DTEND;TZID=America/Vancouver:20260105T120000
DTSTAMP:20260421T022144
CREATED:20250625T002527Z
LAST-MODIFIED:20260105T195131Z
UID:10004835-1767605400-1767614400@www.halinacentre.com
SUMMARY:Floor Curling
DESCRIPTION:
URL:https://www.halinacentre.com/event/floor-curling-42/
CATEGORIES:Halina Room
END:VEVENT
BEGIN:VEVENT
DTSTART;TZID=America/Vancouver:20260105T093000
DTEND;TZID=America/Vancouver:20260105T143000
DTSTAMP:20260421T022144
CREATED:20250408T171207Z
LAST-MODIFIED:20260105T195113Z
UID:10004740-1767605400-1767623400@www.halinacentre.com
SUMMARY:Canasta
DESCRIPTION:1st and 3rd Monday
URL:https://www.halinacentre.com/event/canasta-81/
CATEGORIES:Club Room
END:VEVENT
BEGIN:VEVENT
DTSTART;TZID=America/Vancouver:20260105T110000
DTEND;TZID=America/Vancouver:20260105T160000
DTSTAMP:20260421T022144
CREATED:20250827T032127Z
LAST-MODIFIED:20250902T032139Z
UID:10005777-1767610800-1767628800@www.halinacentre.com
SUMMARY:Crib
DESCRIPTION:join our crib group\, every Monday in the Halina Room\, except Sept 29
URL:https://www.halinacentre.com/event/crib-17/
CATEGORIES:Halina Room
END:VEVENT
BEGIN:VEVENT
DTSTART;TZID=America/Vancouver:20260105T120000
DTEND;TZID=America/Vancouver:20260105T160000
DTSTAMP:20260421T022144
CREATED:20250903T032128Z
LAST-MODIFIED:20251021T060954Z
UID:10005805-1767614400-1767628800@www.halinacentre.com
SUMMARY:Crib
DESCRIPTION:join our crib group\, every Monday in the Halina Room\, except Sept 29\n$15 drop in fee
URL:https://www.halinacentre.com/event/crib-34/
CATEGORIES:Halina Room
END:VEVENT
END:VCALENDAR