BEGIN:VCALENDAR
VERSION:2.0
PRODID:-//Halina Centre - ECPv6.15.20//NONSGML v1.0//EN
CALSCALE:GREGORIAN
METHOD:PUBLISH
X-WR-CALNAME:Halina Centre
X-ORIGINAL-URL:https://www.halinacentre.com
X-WR-CALDESC:Events for Halina Centre
REFRESH-INTERVAL;VALUE=DURATION:PT1H
X-Robots-Tag:noindex
X-PUBLISHED-TTL:PT1H
BEGIN:VTIMEZONE
TZID:America/Vancouver
BEGIN:DAYLIGHT
TZOFFSETFROM:-0800
TZOFFSETTO:-0700
TZNAME:PDT
DTSTART:20250309T100000
END:DAYLIGHT
BEGIN:STANDARD
TZOFFSETFROM:-0700
TZOFFSETTO:-0800
TZNAME:PST
DTSTART:20251102T090000
END:STANDARD
BEGIN:DAYLIGHT
TZOFFSETFROM:-0800
TZOFFSETTO:-0700
TZNAME:PDT
DTSTART:20260308T100000
END:DAYLIGHT
BEGIN:STANDARD
TZOFFSETFROM:-0700
TZOFFSETTO:-0800
TZNAME:PST
DTSTART:20261101T090000
END:STANDARD
BEGIN:DAYLIGHT
TZOFFSETFROM:-0800
TZOFFSETTO:-0700
TZNAME:PDT
DTSTART:20270314T100000
END:DAYLIGHT
BEGIN:STANDARD
TZOFFSETFROM:-0700
TZOFFSETTO:-0800
TZNAME:PST
DTSTART:20271107T090000
END:STANDARD
END:VTIMEZONE
BEGIN:VEVENT
DTSTART;TZID=America/Vancouver:20260104T103000
DTEND;TZID=America/Vancouver:20260104T120000
DTSTAMP:20260421T033449
CREATED:20250822T053621Z
LAST-MODIFIED:20251228T190616Z
UID:10005678-1767522600-1767528000@www.halinacentre.com
SUMMARY:Ukulele
DESCRIPTION:
URL:https://www.halinacentre.com/event/ukulele-24/
CATEGORIES:Club Room
END:VEVENT
BEGIN:VEVENT
DTSTART;TZID=America/Vancouver:20260104T123000
DTEND;TZID=America/Vancouver:20260104T160000
DTSTAMP:20260421T033449
CREATED:20251210T125108Z
LAST-MODIFIED:20260104T193634Z
UID:10006354-1767529800-1767542400@www.halinacentre.com
SUMMARY:Baby Shower - Candace F
DESCRIPTION:
URL:https://www.halinacentre.com/event/baby-shower-candace-f/
CATEGORIES:Pool Room
END:VEVENT
BEGIN:VEVENT
DTSTART;TZID=America/Vancouver:20260104T123000
DTEND;TZID=America/Vancouver:20260104T190000
DTSTAMP:20260421T033449
CREATED:20250627T003854Z
LAST-MODIFIED:20260104T195109Z
UID:10005410-1767529800-1767553200@www.halinacentre.com
SUMMARY:CornHole League
DESCRIPTION:
URL:https://www.halinacentre.com/event/cornhole-league-13/
CATEGORIES:Halina Room
END:VEVENT
END:VCALENDAR