BEGIN:VCALENDAR
VERSION:2.0
PRODID:-//Halina Centre - ECPv6.15.20//NONSGML v1.0//EN
CALSCALE:GREGORIAN
METHOD:PUBLISH
X-WR-CALNAME:Halina Centre
X-ORIGINAL-URL:https://www.halinacentre.com
X-WR-CALDESC:Events for Halina Centre
REFRESH-INTERVAL;VALUE=DURATION:PT1H
X-Robots-Tag:noindex
X-PUBLISHED-TTL:PT1H
BEGIN:VTIMEZONE
TZID:America/Vancouver
BEGIN:DAYLIGHT
TZOFFSETFROM:-0800
TZOFFSETTO:-0700
TZNAME:PDT
DTSTART:20240310T100000
END:DAYLIGHT
BEGIN:STANDARD
TZOFFSETFROM:-0700
TZOFFSETTO:-0800
TZNAME:PST
DTSTART:20241103T090000
END:STANDARD
BEGIN:DAYLIGHT
TZOFFSETFROM:-0800
TZOFFSETTO:-0700
TZNAME:PDT
DTSTART:20250309T100000
END:DAYLIGHT
BEGIN:STANDARD
TZOFFSETFROM:-0700
TZOFFSETTO:-0800
TZNAME:PST
DTSTART:20251102T090000
END:STANDARD
BEGIN:DAYLIGHT
TZOFFSETFROM:-0800
TZOFFSETTO:-0700
TZNAME:PDT
DTSTART:20260308T100000
END:DAYLIGHT
BEGIN:STANDARD
TZOFFSETFROM:-0700
TZOFFSETTO:-0800
TZNAME:PST
DTSTART:20261101T090000
END:STANDARD
END:VTIMEZONE
BEGIN:VEVENT
DTSTART;VALUE=DATE:20251228
DTEND;VALUE=DATE:20251229
DTSTAMP:20260421T024548
CREATED:20251107T072116Z
LAST-MODIFIED:20251228T190635Z
UID:10006075-1766880000-1766966399@www.halinacentre.com
SUMMARY:CLOSED
DESCRIPTION:
URL:https://www.halinacentre.com/event/closed-14/
CATEGORIES:Halina Room
END:VEVENT
BEGIN:VEVENT
DTSTART;VALUE=DATE:20251228
DTEND;VALUE=DATE:20251229
DTSTAMP:20260421T024548
CREATED:20251107T110610Z
LAST-MODIFIED:20251228T190615Z
UID:10006102-1766880000-1766966399@www.halinacentre.com
SUMMARY:CLOSED
DESCRIPTION:
URL:https://www.halinacentre.com/event/closed-30/
CATEGORIES:Club Room
END:VEVENT
BEGIN:VEVENT
DTSTART;VALUE=DATE:20251228
DTEND;VALUE=DATE:20251229
DTSTAMP:20260421T024548
CREATED:20251107T115109Z
LAST-MODIFIED:20251228T192112Z
UID:10006115-1766880000-1766966399@www.halinacentre.com
SUMMARY:CLOSED
DESCRIPTION:
URL:https://www.halinacentre.com/event/closed-42/
CATEGORIES:Pool Room
END:VEVENT
BEGIN:VEVENT
DTSTART;TZID=America/Vancouver:20251228T103000
DTEND;TZID=America/Vancouver:20251228T120000
DTSTAMP:20260421T024548
CREATED:20250822T053621Z
LAST-MODIFIED:20251106T110611Z
UID:10005675-1766917800-1766923200@www.halinacentre.com
SUMMARY:Ukulele
DESCRIPTION:
URL:https://www.halinacentre.com/event/ukulele-23/
CATEGORIES:Club Room
END:VEVENT
END:VCALENDAR