BEGIN:VCALENDAR
VERSION:2.0
PRODID:-//Halina Centre - ECPv6.15.20//NONSGML v1.0//EN
CALSCALE:GREGORIAN
METHOD:PUBLISH
X-WR-CALNAME:Halina Centre
X-ORIGINAL-URL:https://www.halinacentre.com
X-WR-CALDESC:Events for Halina Centre
REFRESH-INTERVAL;VALUE=DURATION:PT1H
X-Robots-Tag:noindex
X-PUBLISHED-TTL:PT1H
BEGIN:VTIMEZONE
TZID:America/Vancouver
BEGIN:DAYLIGHT
TZOFFSETFROM:-0800
TZOFFSETTO:-0700
TZNAME:PDT
DTSTART:20240310T100000
END:DAYLIGHT
BEGIN:STANDARD
TZOFFSETFROM:-0700
TZOFFSETTO:-0800
TZNAME:PST
DTSTART:20241103T090000
END:STANDARD
BEGIN:DAYLIGHT
TZOFFSETFROM:-0800
TZOFFSETTO:-0700
TZNAME:PDT
DTSTART:20250309T100000
END:DAYLIGHT
BEGIN:STANDARD
TZOFFSETFROM:-0700
TZOFFSETTO:-0800
TZNAME:PST
DTSTART:20251102T090000
END:STANDARD
BEGIN:DAYLIGHT
TZOFFSETFROM:-0800
TZOFFSETTO:-0700
TZNAME:PDT
DTSTART:20260308T100000
END:DAYLIGHT
BEGIN:STANDARD
TZOFFSETFROM:-0700
TZOFFSETTO:-0800
TZNAME:PST
DTSTART:20261101T090000
END:STANDARD
END:VTIMEZONE
BEGIN:VEVENT
DTSTART;VALUE=DATE:20251226
DTEND;VALUE=DATE:20251227
DTSTAMP:20260421T053946
CREATED:20251107T072116Z
LAST-MODIFIED:20251226T190613Z
UID:10006074-1766707200-1766793599@www.halinacentre.com
SUMMARY:CLOSED
DESCRIPTION:
URL:https://www.halinacentre.com/event/closed-13/
CATEGORIES:Halina Room
END:VEVENT
BEGIN:VEVENT
DTSTART;VALUE=DATE:20251226
DTEND;VALUE=DATE:20251227
DTSTAMP:20260421T053946
CREATED:20251107T110610Z
LAST-MODIFIED:20251226T183611Z
UID:10006099-1766707200-1766793599@www.halinacentre.com
SUMMARY:CLOSED
DESCRIPTION:
URL:https://www.halinacentre.com/event/closed-27/
CATEGORIES:Club Room
END:VEVENT
BEGIN:VEVENT
DTSTART;VALUE=DATE:20251226
DTEND;VALUE=DATE:20251227
DTSTAMP:20260421T053946
CREATED:20251107T115109Z
LAST-MODIFIED:20251226T192110Z
UID:10006114-1766707200-1766793599@www.halinacentre.com
SUMMARY:CLOSED
DESCRIPTION:
URL:https://www.halinacentre.com/event/closed-41/
CATEGORIES:Pool Room
END:VEVENT
BEGIN:VEVENT
DTSTART;TZID=America/Vancouver:20251226T080000
DTEND;TZID=America/Vancouver:20251226T090000
DTSTAMP:20260421T053946
CREATED:20250823T032125Z
LAST-MODIFIED:20251106T072117Z
UID:10005751-1766736000-1766739600@www.halinacentre.com
SUMMARY:Tai Chi - Beginners
DESCRIPTION:
URL:https://www.halinacentre.com/event/tai-chi-beginners-32/
CATEGORIES:Halina Room
END:VEVENT
BEGIN:VEVENT
DTSTART;TZID=America/Vancouver:20251226T083000
DTEND;TZID=America/Vancouver:20251226T163000
DTSTAMP:20260421T053946
CREATED:20250408T170944Z
LAST-MODIFIED:20251106T115111Z
UID:10004324-1766737800-1766766600@www.halinacentre.com
SUMMARY:Billiards/Snooker/Pool
DESCRIPTION:
URL:https://www.halinacentre.com/event/billiards-snooker-pool-191/
CATEGORIES:Pool Room
END:VEVENT
BEGIN:VEVENT
DTSTART;TZID=America/Vancouver:20251226T091500
DTEND;TZID=America/Vancouver:20251226T111500
DTSTAMP:20260421T053946
CREATED:20250822T032126Z
LAST-MODIFIED:20251106T072118Z
UID:10005622-1766740500-1766747700@www.halinacentre.com
SUMMARY:Carpet Bowling
DESCRIPTION:
URL:https://www.halinacentre.com/event/carpet-bowling-13/
CATEGORIES:Halina Room
END:VEVENT
BEGIN:VEVENT
DTSTART;TZID=America/Vancouver:20251226T093000
DTEND;TZID=America/Vancouver:20251226T143000
DTSTAMP:20260421T053946
CREATED:20250408T171205Z
LAST-MODIFIED:20251106T110611Z
UID:10004725-1766741400-1766759400@www.halinacentre.com
SUMMARY:Canasta
DESCRIPTION:1st and 3rd Monday
URL:https://www.halinacentre.com/event/canasta-78/
CATEGORIES:Club Room
END:VEVENT
BEGIN:VEVENT
DTSTART;TZID=America/Vancouver:20251226T120000
DTEND;TZID=America/Vancouver:20251226T153000
DTSTAMP:20260421T053946
CREATED:20250625T002509Z
LAST-MODIFIED:20251106T072118Z
UID:10005374-1766750400-1766763000@www.halinacentre.com
SUMMARY:Bingo -
DESCRIPTION:
URL:https://www.halinacentre.com/event/bingo-105/
CATEGORIES:Halina Room
END:VEVENT
END:VCALENDAR