BEGIN:VCALENDAR
VERSION:2.0
PRODID:-//Halina Centre - ECPv6.15.20//NONSGML v1.0//EN
CALSCALE:GREGORIAN
METHOD:PUBLISH
X-WR-CALNAME:Halina Centre
X-ORIGINAL-URL:https://www.halinacentre.com
X-WR-CALDESC:Events for Halina Centre
REFRESH-INTERVAL;VALUE=DURATION:PT1H
X-Robots-Tag:noindex
X-PUBLISHED-TTL:PT1H
BEGIN:VTIMEZONE
TZID:America/Vancouver
BEGIN:DAYLIGHT
TZOFFSETFROM:-0800
TZOFFSETTO:-0700
TZNAME:PDT
DTSTART:20240310T100000
END:DAYLIGHT
BEGIN:STANDARD
TZOFFSETFROM:-0700
TZOFFSETTO:-0800
TZNAME:PST
DTSTART:20241103T090000
END:STANDARD
BEGIN:DAYLIGHT
TZOFFSETFROM:-0800
TZOFFSETTO:-0700
TZNAME:PDT
DTSTART:20250309T100000
END:DAYLIGHT
BEGIN:STANDARD
TZOFFSETFROM:-0700
TZOFFSETTO:-0800
TZNAME:PST
DTSTART:20251102T090000
END:STANDARD
BEGIN:DAYLIGHT
TZOFFSETFROM:-0800
TZOFFSETTO:-0700
TZNAME:PDT
DTSTART:20260308T100000
END:DAYLIGHT
BEGIN:STANDARD
TZOFFSETFROM:-0700
TZOFFSETTO:-0800
TZNAME:PST
DTSTART:20261101T090000
END:STANDARD
END:VTIMEZONE
BEGIN:VEVENT
DTSTART;TZID=America/Vancouver:20251218T083000
DTEND;TZID=America/Vancouver:20251218T163000
DTSTAMP:20260421T053121
CREATED:20250408T170942Z
LAST-MODIFIED:20251218T180728Z
UID:10004294-1766046600-1766075400@www.halinacentre.com
SUMMARY:Billiards/Snooker/Pool
DESCRIPTION:
URL:https://www.halinacentre.com/event/billiards-snooker-pool-185/
CATEGORIES:Pool Room
END:VEVENT
BEGIN:VEVENT
DTSTART;TZID=America/Vancouver:20251218T084500
DTEND;TZID=America/Vancouver:20251218T113000
DTSTAMP:20260421T053121
CREATED:20250822T032125Z
LAST-MODIFIED:20251209T083754Z
UID:10005620-1766047500-1766057400@www.halinacentre.com
SUMMARY:Osteofit - Vernon Rec Services
DESCRIPTION:
URL:https://www.halinacentre.com/event/osteofit-vernon-rec-services-14/
CATEGORIES:Halina Room
END:VEVENT
BEGIN:VEVENT
DTSTART;TZID=America/Vancouver:20251218T094500
DTEND;TZID=America/Vancouver:20251218T111500
DTSTAMP:20260421T053121
CREATED:20250408T171604Z
LAST-MODIFIED:20250813T203750Z
UID:10004498-1766051100-1766056500@www.halinacentre.com
SUMMARY:Osteofit
DESCRIPTION:
URL:https://www.halinacentre.com/event/osteofit-24/2025-12-18/
CATEGORIES:Halina Room
END:VEVENT
BEGIN:VEVENT
DTSTART;TZID=America/Vancouver:20251218T094500
DTEND;TZID=America/Vancouver:20251218T111500
DTSTAMP:20260421T053121
CREATED:20250625T002448Z
LAST-MODIFIED:20250806T022120Z
UID:10005362-1766051100-1766056500@www.halinacentre.com
SUMMARY:Osteofit
DESCRIPTION:
URL:https://www.halinacentre.com/event/osteofit-41/
CATEGORIES:Halina Room
END:VEVENT
BEGIN:VEVENT
DTSTART;TZID=America/Vancouver:20251218T130000
DTEND;TZID=America/Vancouver:20251218T150000
DTSTAMP:20260421T053121
CREATED:20250408T171202Z
LAST-MODIFIED:20251218T180654Z
UID:10004300-1766062800-1766070000@www.halinacentre.com
SUMMARY:Time Out Stitchers
DESCRIPTION:
URL:https://www.halinacentre.com/event/time-out-stitchers-40/
CATEGORIES:Club Room
END:VEVENT
BEGIN:VEVENT
DTSTART;TZID=America/Vancouver:20251218T140000
DTEND;TZID=America/Vancouver:20251218T160000
DTSTAMP:20260421T053121
CREATED:20250625T002449Z
LAST-MODIFIED:20251218T180758Z
UID:10005363-1766066400-1766073600@www.halinacentre.com
SUMMARY:Thursday Dance
DESCRIPTION:
URL:https://www.halinacentre.com/event/thursday-dance-39/
CATEGORIES:Halina Room
END:VEVENT
BEGIN:VEVENT
DTSTART;TZID=America/Vancouver:20251218T180000
DTEND;TZID=America/Vancouver:20251218T200000
DTSTAMP:20260421T053121
CREATED:20250408T170942Z
LAST-MODIFIED:20251218T180654Z
UID:10004296-1766080800-1766088000@www.halinacentre.com
SUMMARY:Toastmasters
DESCRIPTION:
URL:https://www.halinacentre.com/event/toastmasters-39/
CATEGORIES:Club Room,Pool Room
END:VEVENT
BEGIN:VEVENT
DTSTART;TZID=America/Vancouver:20251218T180000
DTEND;TZID=America/Vancouver:20251218T220000
DTSTAMP:20260421T053121
CREATED:20250625T002451Z
LAST-MODIFIED:20250702T012139Z
UID:10005364-1766080800-1766095200@www.halinacentre.com
SUMMARY:Square Dancing
DESCRIPTION:
URL:https://www.halinacentre.com/event/square-dancing-38/
CATEGORIES:Halina Room
END:VEVENT
BEGIN:VEVENT
DTSTART;TZID=America/Vancouver:20251218T180000
DTEND;TZID=America/Vancouver:20251218T220000
DTSTAMP:20260421T053121
CREATED:20251010T052118Z
LAST-MODIFIED:20251218T180758Z
UID:10005921-1766080800-1766095200@www.halinacentre.com
SUMMARY:Star Country Squares
DESCRIPTION:
URL:https://www.halinacentre.com/event/star-country-squares-12/
CATEGORIES:Halina Room
END:VEVENT
END:VCALENDAR