BEGIN:VCALENDAR
VERSION:2.0
PRODID:-//Halina Centre - ECPv6.15.20//NONSGML v1.0//EN
CALSCALE:GREGORIAN
METHOD:PUBLISH
X-ORIGINAL-URL:https://www.halinacentre.com
X-WR-CALDESC:Events for Halina Centre
REFRESH-INTERVAL;VALUE=DURATION:PT1H
X-Robots-Tag:noindex
X-PUBLISHED-TTL:PT1H
BEGIN:VTIMEZONE
TZID:America/Vancouver
BEGIN:DAYLIGHT
TZOFFSETFROM:-0800
TZOFFSETTO:-0700
TZNAME:PDT
DTSTART:20240310T100000
END:DAYLIGHT
BEGIN:STANDARD
TZOFFSETFROM:-0700
TZOFFSETTO:-0800
TZNAME:PST
DTSTART:20241103T090000
END:STANDARD
BEGIN:DAYLIGHT
TZOFFSETFROM:-0800
TZOFFSETTO:-0700
TZNAME:PDT
DTSTART:20250309T100000
END:DAYLIGHT
BEGIN:STANDARD
TZOFFSETFROM:-0700
TZOFFSETTO:-0800
TZNAME:PST
DTSTART:20251102T090000
END:STANDARD
BEGIN:DAYLIGHT
TZOFFSETFROM:-0800
TZOFFSETTO:-0700
TZNAME:PDT
DTSTART:20260308T100000
END:DAYLIGHT
BEGIN:STANDARD
TZOFFSETFROM:-0700
TZOFFSETTO:-0800
TZNAME:PST
DTSTART:20261101T090000
END:STANDARD
END:VTIMEZONE
BEGIN:VEVENT
DTSTART;TZID=America/Vancouver:20251217T080000
DTEND;TZID=America/Vancouver:20251217T090000
DTSTAMP:20260421T054036
CREATED:20250823T032124Z
LAST-MODIFIED:20251216T092113Z
UID:10005748-1765958400-1765962000@www.halinacentre.com
SUMMARY:Tai Chi - Beginners
DESCRIPTION:
URL:https://www.halinacentre.com/event/tai-chi-beginners-29/
CATEGORIES:Halina Room
END:VEVENT
BEGIN:VEVENT
DTSTART;TZID=America/Vancouver:20251217T083000
DTEND;TZID=America/Vancouver:20251217T163000
DTSTAMP:20260421T054036
CREATED:20250408T170942Z
LAST-MODIFIED:20251216T132119Z
UID:10004292-1765960200-1765989000@www.halinacentre.com
SUMMARY:Billiards/Snooker/Pool
DESCRIPTION:
URL:https://www.halinacentre.com/event/billiards-snooker-pool-184/
CATEGORIES:Pool Room
END:VEVENT
BEGIN:VEVENT
DTSTART;TZID=America/Vancouver:20251217T093000
DTEND;TZID=America/Vancouver:20251217T113000
DTSTAMP:20260421T054036
CREATED:20250408T171201Z
LAST-MODIFIED:20250604T221251Z
UID:10004721-1765963800-1765971000@www.halinacentre.com
SUMMARY:Recreational Table Tennis
DESCRIPTION:
URL:https://www.halinacentre.com/event/recreational-table-tennis-38/
CATEGORIES:Club Room
END:VEVENT
BEGIN:VEVENT
DTSTART;TZID=America/Vancouver:20251217T100000
DTEND;TZID=America/Vancouver:20251217T120000
DTSTAMP:20260421T054036
CREATED:20251002T045122Z
LAST-MODIFIED:20251216T092113Z
UID:10005893-1765965600-1765972800@www.halinacentre.com
SUMMARY:Recreational Table Tennis
DESCRIPTION:
URL:https://www.halinacentre.com/event/recreational-table-tennis-62/
CATEGORIES:Halina Room
END:VEVENT
BEGIN:VEVENT
DTSTART;TZID=America/Vancouver:20251217T130000
DTEND;TZID=America/Vancouver:20251217T150000
DTSTAMP:20260421T054036
CREATED:20250408T171201Z
LAST-MODIFIED:20251014T093631Z
UID:10004723-1765976400-1765983600@www.halinacentre.com
SUMMARY:Mahjong
DESCRIPTION:
URL:https://www.halinacentre.com/event/mahjong-39/
CATEGORIES:Club Room
END:VEVENT
BEGIN:VEVENT
DTSTART;TZID=America/Vancouver:20251217T130000
DTEND;TZID=America/Vancouver:20251217T150000
DTSTAMP:20260421T054036
CREATED:20250408T171202Z
LAST-MODIFIED:20251216T133618Z
UID:10004298-1765976400-1765983600@www.halinacentre.com
SUMMARY:Halina Crafters
DESCRIPTION:
URL:https://www.halinacentre.com/event/halina-crafters-40/
CATEGORIES:Club Room
END:VEVENT
BEGIN:VEVENT
DTSTART;TZID=America/Vancouver:20251217T130000
DTEND;TZID=America/Vancouver:20251217T150000
DTSTAMP:20260421T054036
CREATED:20250802T015119Z
LAST-MODIFIED:20251216T092113Z
UID:10004983-1765976400-1765983600@www.halinacentre.com
SUMMARY:Line Dance Lessons
DESCRIPTION:
URL:https://www.halinacentre.com/event/line-dance-lessons-24/
CATEGORIES:Halina Room
END:VEVENT
BEGIN:VEVENT
DTSTART;TZID=America/Vancouver:20251217T183000
DTEND;TZID=America/Vancouver:20251217T203000
DTSTAMP:20260421T054036
CREATED:20250408T171202Z
LAST-MODIFIED:20251216T133618Z
UID:10004299-1765996200-1766003400@www.halinacentre.com
SUMMARY:kalamalka Chorus
DESCRIPTION:
URL:https://www.halinacentre.com/event/kalamalka-chorus-38/
CATEGORIES:Club Room
END:VEVENT
BEGIN:VEVENT
DTSTART;TZID=America/Vancouver:20251217T183000
DTEND;TZID=America/Vancouver:20251217T233000
DTSTAMP:20260421T054036
CREATED:20250625T002447Z
LAST-MODIFIED:20251216T092113Z
UID:10004826-1765996200-1766014200@www.halinacentre.com
SUMMARY:Private Event
DESCRIPTION:
URL:https://www.halinacentre.com/event/private-event-43/
CATEGORIES:Halina Room
END:VEVENT
END:VCALENDAR