BEGIN:VCALENDAR
VERSION:2.0
PRODID:-//Halina Centre - ECPv6.15.20//NONSGML v1.0//EN
CALSCALE:GREGORIAN
METHOD:PUBLISH
X-WR-CALNAME:Halina Centre
X-ORIGINAL-URL:https://www.halinacentre.com
X-WR-CALDESC:Events for Halina Centre
REFRESH-INTERVAL;VALUE=DURATION:PT1H
X-Robots-Tag:noindex
X-PUBLISHED-TTL:PT1H
BEGIN:VTIMEZONE
TZID:America/Vancouver
BEGIN:DAYLIGHT
TZOFFSETFROM:-0800
TZOFFSETTO:-0700
TZNAME:PDT
DTSTART:20240310T100000
END:DAYLIGHT
BEGIN:STANDARD
TZOFFSETFROM:-0700
TZOFFSETTO:-0800
TZNAME:PST
DTSTART:20241103T090000
END:STANDARD
BEGIN:DAYLIGHT
TZOFFSETFROM:-0800
TZOFFSETTO:-0700
TZNAME:PDT
DTSTART:20250309T100000
END:DAYLIGHT
BEGIN:STANDARD
TZOFFSETFROM:-0700
TZOFFSETTO:-0800
TZNAME:PST
DTSTART:20251102T090000
END:STANDARD
BEGIN:DAYLIGHT
TZOFFSETFROM:-0800
TZOFFSETTO:-0700
TZNAME:PDT
DTSTART:20260308T100000
END:DAYLIGHT
BEGIN:STANDARD
TZOFFSETFROM:-0700
TZOFFSETTO:-0800
TZNAME:PST
DTSTART:20261101T090000
END:STANDARD
END:VTIMEZONE
BEGIN:VEVENT
DTSTART;TZID=America/Vancouver:20251215T083000
DTEND;TZID=America/Vancouver:20251215T163000
DTSTAMP:20260421T053935
CREATED:20250408T170941Z
LAST-MODIFIED:20251215T132109Z
UID:10004285-1765787400-1765816200@www.halinacentre.com
SUMMARY:Billiards/Snooker/Pool
DESCRIPTION:
URL:https://www.halinacentre.com/event/billiards-snooker-pool-182/
CATEGORIES:Pool Room
END:VEVENT
BEGIN:VEVENT
DTSTART;TZID=America/Vancouver:20251215T093000
DTEND;TZID=America/Vancouver:20251215T120000
DTSTAMP:20260421T053935
CREATED:20250624T000715Z
LAST-MODIFIED:20251215T092110Z
UID:10004817-1765791000-1765800000@www.halinacentre.com
SUMMARY:Floor Curling
DESCRIPTION:
URL:https://www.halinacentre.com/event/floor-curling-39/
CATEGORIES:Halina Room
END:VEVENT
BEGIN:VEVENT
DTSTART;TZID=America/Vancouver:20251215T093000
DTEND;TZID=America/Vancouver:20251215T143000
DTSTAMP:20260421T053935
CREATED:20250408T171201Z
LAST-MODIFIED:20251215T133610Z
UID:10004719-1765791000-1765809000@www.halinacentre.com
SUMMARY:Canasta
DESCRIPTION:1st and 3rd Monday
URL:https://www.halinacentre.com/event/canasta-75/
CATEGORIES:Club Room
END:VEVENT
BEGIN:VEVENT
DTSTART;TZID=America/Vancouver:20251215T110000
DTEND;TZID=America/Vancouver:20251215T160000
DTSTAMP:20260421T053936
CREATED:20250827T032125Z
LAST-MODIFIED:20250902T032135Z
UID:10005774-1765796400-1765814400@www.halinacentre.com
SUMMARY:Crib
DESCRIPTION:join our crib group\, every Monday in the Halina Room\, except Sept 29
URL:https://www.halinacentre.com/event/crib-14/
CATEGORIES:Halina Room
END:VEVENT
BEGIN:VEVENT
DTSTART;TZID=America/Vancouver:20251215T120000
DTEND;TZID=America/Vancouver:20251215T160000
DTSTAMP:20260421T053936
CREATED:20250903T032124Z
LAST-MODIFIED:20251021T060908Z
UID:10005802-1765800000-1765814400@www.halinacentre.com
SUMMARY:Crib
DESCRIPTION:join our crib group\, every Monday in the Halina Room\, except Sept 29\n$15 drop in fee
URL:https://www.halinacentre.com/event/crib-31/
CATEGORIES:Halina Room
END:VEVENT
BEGIN:VEVENT
DTSTART;TZID=America/Vancouver:20251215T150000
DTEND;TZID=America/Vancouver:20251215T220000
DTSTAMP:20260421T053936
CREATED:20251107T072115Z
LAST-MODIFIED:20251215T092110Z
UID:10006063-1765810800-1765836000@www.halinacentre.com
SUMMARY:Private Event - A & W
DESCRIPTION:
URL:https://www.halinacentre.com/event/private-event-a-w/
CATEGORIES:Halina Room
END:VEVENT
END:VCALENDAR