BEGIN:VCALENDAR
VERSION:2.0
PRODID:-//Halina Centre - ECPv6.15.20//NONSGML v1.0//EN
CALSCALE:GREGORIAN
METHOD:PUBLISH
X-ORIGINAL-URL:https://www.halinacentre.com
X-WR-CALDESC:Events for Halina Centre
REFRESH-INTERVAL;VALUE=DURATION:PT1H
X-Robots-Tag:noindex
X-PUBLISHED-TTL:PT1H
BEGIN:VTIMEZONE
TZID:America/Vancouver
BEGIN:DAYLIGHT
TZOFFSETFROM:-0800
TZOFFSETTO:-0700
TZNAME:PDT
DTSTART:20240310T100000
END:DAYLIGHT
BEGIN:STANDARD
TZOFFSETFROM:-0700
TZOFFSETTO:-0800
TZNAME:PST
DTSTART:20241103T090000
END:STANDARD
BEGIN:DAYLIGHT
TZOFFSETFROM:-0800
TZOFFSETTO:-0700
TZNAME:PDT
DTSTART:20250309T100000
END:DAYLIGHT
BEGIN:STANDARD
TZOFFSETFROM:-0700
TZOFFSETTO:-0800
TZNAME:PST
DTSTART:20251102T090000
END:STANDARD
BEGIN:DAYLIGHT
TZOFFSETFROM:-0800
TZOFFSETTO:-0700
TZNAME:PDT
DTSTART:20260308T100000
END:DAYLIGHT
BEGIN:STANDARD
TZOFFSETFROM:-0700
TZOFFSETTO:-0800
TZNAME:PST
DTSTART:20261101T090000
END:STANDARD
END:VTIMEZONE
BEGIN:VEVENT
DTSTART;TZID=America/Vancouver:20251212T080000
DTEND;TZID=America/Vancouver:20251212T090000
DTSTAMP:20260421T054105
CREATED:20250823T032123Z
LAST-MODIFIED:20251212T092120Z
UID:10005747-1765526400-1765530000@www.halinacentre.com
SUMMARY:Tai Chi - Beginners
DESCRIPTION:
URL:https://www.halinacentre.com/event/tai-chi-beginners-28/
CATEGORIES:Halina Room
END:VEVENT
BEGIN:VEVENT
DTSTART;TZID=America/Vancouver:20251212T083000
DTEND;TZID=America/Vancouver:20251212T163000
DTSTAMP:20260421T054105
CREATED:20250408T170941Z
LAST-MODIFIED:20251212T130608Z
UID:10004284-1765528200-1765557000@www.halinacentre.com
SUMMARY:Billiards/Snooker/Pool
DESCRIPTION:
URL:https://www.halinacentre.com/event/billiards-snooker-pool-181/
CATEGORIES:Pool Room
END:VEVENT
BEGIN:VEVENT
DTSTART;TZID=America/Vancouver:20251212T091500
DTEND;TZID=America/Vancouver:20251212T111500
DTSTAMP:20260421T054105
CREATED:20250822T032124Z
LAST-MODIFIED:20251212T092120Z
UID:10005619-1765530900-1765538100@www.halinacentre.com
SUMMARY:Carpet Bowling
DESCRIPTION:
URL:https://www.halinacentre.com/event/carpet-bowling-11/
CATEGORIES:Halina Room
END:VEVENT
BEGIN:VEVENT
DTSTART;TZID=America/Vancouver:20251212T093000
DTEND;TZID=America/Vancouver:20251212T143000
DTSTAMP:20260421T054105
CREATED:20250408T171201Z
LAST-MODIFIED:20251212T133609Z
UID:10004718-1765531800-1765549800@www.halinacentre.com
SUMMARY:Canasta
DESCRIPTION:1st and 3rd Monday
URL:https://www.halinacentre.com/event/canasta-74/
CATEGORIES:Club Room
END:VEVENT
BEGIN:VEVENT
DTSTART;TZID=America/Vancouver:20251212T120000
DTEND;TZID=America/Vancouver:20251212T153000
DTSTAMP:20260421T054105
CREATED:20250620T235226Z
LAST-MODIFIED:20251212T092120Z
UID:10005359-1765540800-1765553400@www.halinacentre.com
SUMMARY:Bingo -
DESCRIPTION:
URL:https://www.halinacentre.com/event/bingo-101/
CATEGORIES:Halina Room
END:VEVENT
END:VCALENDAR