BEGIN:VCALENDAR
VERSION:2.0
PRODID:-//Halina Centre - ECPv6.15.20//NONSGML v1.0//EN
CALSCALE:GREGORIAN
METHOD:PUBLISH
X-WR-CALNAME:Halina Centre
X-ORIGINAL-URL:https://www.halinacentre.com
X-WR-CALDESC:Events for Halina Centre
REFRESH-INTERVAL;VALUE=DURATION:PT1H
X-Robots-Tag:noindex
X-PUBLISHED-TTL:PT1H
BEGIN:VTIMEZONE
TZID:America/Vancouver
BEGIN:DAYLIGHT
TZOFFSETFROM:-0800
TZOFFSETTO:-0700
TZNAME:PDT
DTSTART:20240310T100000
END:DAYLIGHT
BEGIN:STANDARD
TZOFFSETFROM:-0700
TZOFFSETTO:-0800
TZNAME:PST
DTSTART:20241103T090000
END:STANDARD
BEGIN:DAYLIGHT
TZOFFSETFROM:-0800
TZOFFSETTO:-0700
TZNAME:PDT
DTSTART:20250309T100000
END:DAYLIGHT
BEGIN:STANDARD
TZOFFSETFROM:-0700
TZOFFSETTO:-0800
TZNAME:PST
DTSTART:20251102T090000
END:STANDARD
BEGIN:DAYLIGHT
TZOFFSETFROM:-0800
TZOFFSETTO:-0700
TZNAME:PDT
DTSTART:20260308T100000
END:DAYLIGHT
BEGIN:STANDARD
TZOFFSETFROM:-0700
TZOFFSETTO:-0800
TZNAME:PST
DTSTART:20261101T090000
END:STANDARD
END:VTIMEZONE
BEGIN:VEVENT
DTSTART;TZID=America/Vancouver:20251204T083000
DTEND;TZID=America/Vancouver:20251204T163000
DTSTAMP:20260421T053936
CREATED:20250408T170939Z
LAST-MODIFIED:20251204T122110Z
UID:10004069-1764837000-1764865800@www.halinacentre.com
SUMMARY:Billiards/Snooker/Pool
DESCRIPTION:
URL:https://www.halinacentre.com/event/billiards-snooker-pool-175/
CATEGORIES:Pool Room
END:VEVENT
BEGIN:VEVENT
DTSTART;TZID=America/Vancouver:20251204T084500
DTEND;TZID=America/Vancouver:20251204T113000
DTSTAMP:20260421T053936
CREATED:20250822T032123Z
LAST-MODIFIED:20251204T083610Z
UID:10005616-1764837900-1764847800@www.halinacentre.com
SUMMARY:Osteofit - Vernon Rec Services
DESCRIPTION:
URL:https://www.halinacentre.com/event/osteofit-vernon-rec-services-12/
CATEGORIES:Halina Room
END:VEVENT
BEGIN:VEVENT
DTSTART;TZID=America/Vancouver:20251204T094500
DTEND;TZID=America/Vancouver:20251204T111500
DTSTAMP:20260421T053936
CREATED:20250408T171604Z
LAST-MODIFIED:20250813T203750Z
UID:10004496-1764841500-1764846900@www.halinacentre.com
SUMMARY:Osteofit
DESCRIPTION:
URL:https://www.halinacentre.com/event/osteofit-24/2025-12-04/
CATEGORIES:Halina Room
END:VEVENT
BEGIN:VEVENT
DTSTART;TZID=America/Vancouver:20251204T094500
DTEND;TZID=America/Vancouver:20251204T111500
DTSTAMP:20260421T053936
CREATED:20250613T225153Z
LAST-MODIFIED:20250806T022118Z
UID:10005316-1764841500-1764846900@www.halinacentre.com
SUMMARY:Osteofit
DESCRIPTION:
URL:https://www.halinacentre.com/event/osteofit-39/
CATEGORIES:Halina Room
END:VEVENT
BEGIN:VEVENT
DTSTART;TZID=America/Vancouver:20251204T130000
DTEND;TZID=America/Vancouver:20251204T150000
DTSTAMP:20260421T053936
CREATED:20250408T171159Z
LAST-MODIFIED:20251204T125110Z
UID:10004704-1764853200-1764860400@www.halinacentre.com
SUMMARY:Time Out Stitchers
DESCRIPTION:
URL:https://www.halinacentre.com/event/time-out-stitchers-38/
CATEGORIES:Club Room
END:VEVENT
BEGIN:VEVENT
DTSTART;TZID=America/Vancouver:20251204T140000
DTEND;TZID=America/Vancouver:20251204T160000
DTSTAMP:20260421T053936
CREATED:20250613T225154Z
LAST-MODIFIED:20251204T083610Z
UID:10005317-1764856800-1764864000@www.halinacentre.com
SUMMARY:Thursday Dance
DESCRIPTION:
URL:https://www.halinacentre.com/event/thursday-dance-37/
CATEGORIES:Halina Room
END:VEVENT
BEGIN:VEVENT
DTSTART;TZID=America/Vancouver:20251204T180000
DTEND;TZID=America/Vancouver:20251204T200000
DTSTAMP:20260421T053936
CREATED:20250408T170939Z
LAST-MODIFIED:20251204T125110Z
UID:10004071-1764871200-1764878400@www.halinacentre.com
SUMMARY:Toastmasters
DESCRIPTION:
URL:https://www.halinacentre.com/event/toastmasters-37/
CATEGORIES:Club Room,Pool Room
END:VEVENT
BEGIN:VEVENT
DTSTART;TZID=America/Vancouver:20251204T180000
DTEND;TZID=America/Vancouver:20251204T220000
DTSTAMP:20260421T053936
CREATED:20250613T225154Z
LAST-MODIFIED:20250702T012137Z
UID:10005318-1764871200-1764885600@www.halinacentre.com
SUMMARY:Square Dancing
DESCRIPTION:
URL:https://www.halinacentre.com/event/square-dancing-36/
CATEGORIES:Halina Room
END:VEVENT
BEGIN:VEVENT
DTSTART;TZID=America/Vancouver:20251204T180000
DTEND;TZID=America/Vancouver:20251204T220000
DTSTAMP:20260421T053936
CREATED:20251010T052117Z
LAST-MODIFIED:20251204T083610Z
UID:10005919-1764871200-1764885600@www.halinacentre.com
SUMMARY:Star Country Squares
DESCRIPTION:
URL:https://www.halinacentre.com/event/star-country-squares-10/
CATEGORIES:Halina Room
END:VEVENT
END:VCALENDAR