BEGIN:VCALENDAR
VERSION:2.0
PRODID:-//Halina Centre - ECPv6.15.20//NONSGML v1.0//EN
CALSCALE:GREGORIAN
METHOD:PUBLISH
X-ORIGINAL-URL:https://www.halinacentre.com
X-WR-CALDESC:Events for Halina Centre
REFRESH-INTERVAL;VALUE=DURATION:PT1H
X-Robots-Tag:noindex
X-PUBLISHED-TTL:PT1H
BEGIN:VTIMEZONE
TZID:America/Vancouver
BEGIN:DAYLIGHT
TZOFFSETFROM:-0800
TZOFFSETTO:-0700
TZNAME:PDT
DTSTART:20240310T100000
END:DAYLIGHT
BEGIN:STANDARD
TZOFFSETFROM:-0700
TZOFFSETTO:-0800
TZNAME:PST
DTSTART:20241103T090000
END:STANDARD
BEGIN:DAYLIGHT
TZOFFSETFROM:-0800
TZOFFSETTO:-0700
TZNAME:PDT
DTSTART:20250309T100000
END:DAYLIGHT
BEGIN:STANDARD
TZOFFSETFROM:-0700
TZOFFSETTO:-0800
TZNAME:PST
DTSTART:20251102T090000
END:STANDARD
BEGIN:DAYLIGHT
TZOFFSETFROM:-0800
TZOFFSETTO:-0700
TZNAME:PDT
DTSTART:20260308T100000
END:DAYLIGHT
BEGIN:STANDARD
TZOFFSETFROM:-0700
TZOFFSETTO:-0800
TZNAME:PST
DTSTART:20261101T090000
END:STANDARD
END:VTIMEZONE
BEGIN:VEVENT
DTSTART;TZID=America/Vancouver:20251203T080000
DTEND;TZID=America/Vancouver:20251203T090000
DTSTAMP:20260421T054105
CREATED:20250823T032122Z
LAST-MODIFIED:20251203T083609Z
UID:10005744-1764748800-1764752400@www.halinacentre.com
SUMMARY:Tai Chi - Beginners
DESCRIPTION:
URL:https://www.halinacentre.com/event/tai-chi-beginners-25/
CATEGORIES:Halina Room
END:VEVENT
BEGIN:VEVENT
DTSTART;TZID=America/Vancouver:20251203T083000
DTEND;TZID=America/Vancouver:20251203T163000
DTSTAMP:20260421T054105
CREATED:20250408T170939Z
LAST-MODIFIED:20251203T122110Z
UID:10004067-1764750600-1764779400@www.halinacentre.com
SUMMARY:Billiards/Snooker/Pool
DESCRIPTION:
URL:https://www.halinacentre.com/event/billiards-snooker-pool-174/
CATEGORIES:Pool Room
END:VEVENT
BEGIN:VEVENT
DTSTART;TZID=America/Vancouver:20251203T093000
DTEND;TZID=America/Vancouver:20251203T113000
DTSTAMP:20260421T054105
CREATED:20250408T171159Z
LAST-MODIFIED:20250604T221236Z
UID:10004697-1764754200-1764761400@www.halinacentre.com
SUMMARY:Recreational Table Tennis
DESCRIPTION:
URL:https://www.halinacentre.com/event/recreational-table-tennis-36/
CATEGORIES:Club Room
END:VEVENT
BEGIN:VEVENT
DTSTART;TZID=America/Vancouver:20251203T100000
DTEND;TZID=America/Vancouver:20251203T120000
DTSTAMP:20260421T054105
CREATED:20251002T045120Z
LAST-MODIFIED:20251203T083609Z
UID:10005891-1764756000-1764763200@www.halinacentre.com
SUMMARY:Recreational Table Tennis
DESCRIPTION:
URL:https://www.halinacentre.com/event/recreational-table-tennis-60/
CATEGORIES:Halina Room
END:VEVENT
BEGIN:VEVENT
DTSTART;TZID=America/Vancouver:20251203T130000
DTEND;TZID=America/Vancouver:20251203T150000
DTSTAMP:20260421T054105
CREATED:20250408T171159Z
LAST-MODIFIED:20251014T093631Z
UID:10004699-1764766800-1764774000@www.halinacentre.com
SUMMARY:Mahjong
DESCRIPTION:
URL:https://www.halinacentre.com/event/mahjong-37/
CATEGORIES:Club Room
END:VEVENT
BEGIN:VEVENT
DTSTART;TZID=America/Vancouver:20251203T130000
DTEND;TZID=America/Vancouver:20251203T150000
DTSTAMP:20260421T054105
CREATED:20250408T171159Z
LAST-MODIFIED:20251203T125119Z
UID:10004701-1764766800-1764774000@www.halinacentre.com
SUMMARY:Halina Crafters
DESCRIPTION:
URL:https://www.halinacentre.com/event/halina-crafters-38/
CATEGORIES:Club Room
END:VEVENT
BEGIN:VEVENT
DTSTART;TZID=America/Vancouver:20251203T130000
DTEND;TZID=America/Vancouver:20251203T150000
DTSTAMP:20260421T054105
CREATED:20250802T015118Z
LAST-MODIFIED:20251203T083610Z
UID:10004980-1764766800-1764774000@www.halinacentre.com
SUMMARY:Line Dance Lessons
DESCRIPTION:
URL:https://www.halinacentre.com/event/line-dance-lessons-22/
CATEGORIES:Halina Room
END:VEVENT
BEGIN:VEVENT
DTSTART;TZID=America/Vancouver:20251203T183000
DTEND;TZID=America/Vancouver:20251203T203000
DTSTAMP:20260421T054105
CREATED:20250408T171159Z
LAST-MODIFIED:20251203T125119Z
UID:10004702-1764786600-1764793800@www.halinacentre.com
SUMMARY:kalamalka Chorus
DESCRIPTION:
URL:https://www.halinacentre.com/event/kalamalka-chorus-36/
CATEGORIES:Club Room
END:VEVENT
BEGIN:VEVENT
DTSTART;TZID=America/Vancouver:20251203T183000
DTEND;TZID=America/Vancouver:20251203T233000
DTSTAMP:20260421T054105
CREATED:20250613T225153Z
LAST-MODIFIED:20251203T083610Z
UID:10005315-1764786600-1764804600@www.halinacentre.com
SUMMARY:Private Event
DESCRIPTION:
URL:https://www.halinacentre.com/event/private-event-41/
CATEGORIES:Halina Room
END:VEVENT
END:VCALENDAR