BEGIN:VCALENDAR
VERSION:2.0
PRODID:-//Halina Centre - ECPv6.15.20//NONSGML v1.0//EN
CALSCALE:GREGORIAN
METHOD:PUBLISH
X-ORIGINAL-URL:https://www.halinacentre.com
X-WR-CALDESC:Events for Halina Centre
REFRESH-INTERVAL;VALUE=DURATION:PT1H
X-Robots-Tag:noindex
X-PUBLISHED-TTL:PT1H
BEGIN:VTIMEZONE
TZID:America/Vancouver
BEGIN:DAYLIGHT
TZOFFSETFROM:-0800
TZOFFSETTO:-0700
TZNAME:PDT
DTSTART:20240310T100000
END:DAYLIGHT
BEGIN:STANDARD
TZOFFSETFROM:-0700
TZOFFSETTO:-0800
TZNAME:PST
DTSTART:20241103T090000
END:STANDARD
BEGIN:DAYLIGHT
TZOFFSETFROM:-0800
TZOFFSETTO:-0700
TZNAME:PDT
DTSTART:20250309T100000
END:DAYLIGHT
BEGIN:STANDARD
TZOFFSETFROM:-0700
TZOFFSETTO:-0800
TZNAME:PST
DTSTART:20251102T090000
END:STANDARD
BEGIN:DAYLIGHT
TZOFFSETFROM:-0800
TZOFFSETTO:-0700
TZNAME:PDT
DTSTART:20260308T100000
END:DAYLIGHT
BEGIN:STANDARD
TZOFFSETFROM:-0700
TZOFFSETTO:-0800
TZNAME:PST
DTSTART:20261101T090000
END:STANDARD
END:VTIMEZONE
BEGIN:VEVENT
DTSTART;TZID=America/Vancouver:20251202T083000
DTEND;TZID=America/Vancouver:20251202T163000
DTSTAMP:20260421T054121
CREATED:20250408T170938Z
LAST-MODIFIED:20251202T122111Z
UID:10004063-1764664200-1764693000@www.halinacentre.com
SUMMARY:Billiards/Snooker/Pool
DESCRIPTION:
URL:https://www.halinacentre.com/event/billiards-snooker-pool-173/
CATEGORIES:Pool Room
END:VEVENT
BEGIN:VEVENT
DTSTART;TZID=America/Vancouver:20251202T090000
DTEND;TZID=America/Vancouver:20251202T100000
DTSTAMP:20260421T054121
CREATED:20250611T223722Z
LAST-MODIFIED:20251202T083614Z
UID:10005306-1764666000-1764669600@www.halinacentre.com
SUMMARY:Senior Exercise
DESCRIPTION:
URL:https://www.halinacentre.com/event/senior-exercise-34/
CATEGORIES:Halina Room
END:VEVENT
BEGIN:VEVENT
DTSTART;TZID=America/Vancouver:20251202T120000
DTEND;TZID=America/Vancouver:20251202T153000
DTSTAMP:20260421T054121
CREATED:20250616T225218Z
LAST-MODIFIED:20251202T083614Z
UID:10005338-1764676800-1764689400@www.halinacentre.com
SUMMARY:Bingo
DESCRIPTION:
URL:https://www.halinacentre.com/event/bingo-99/
CATEGORIES:Halina Room
END:VEVENT
BEGIN:VEVENT
DTSTART;TZID=America/Vancouver:20251202T130000
DTEND;TZID=America/Vancouver:20251202T153000
DTSTAMP:20260421T054121
CREATED:20250611T223722Z
LAST-MODIFIED:20250615T225156Z
UID:10005307-1764680400-1764689400@www.halinacentre.com
SUMMARY:Bingo
DESCRIPTION:
URL:https://www.halinacentre.com/event/bingo-73/
CATEGORIES:Halina Room
END:VEVENT
BEGIN:VEVENT
DTSTART;TZID=America/Vancouver:20251202T180000
DTEND;TZID=America/Vancouver:20251202T210000
DTSTAMP:20260421T054121
CREATED:20250408T170939Z
LAST-MODIFIED:20251202T122111Z
UID:10004065-1764698400-1764709200@www.halinacentre.com
SUMMARY:Snooker
DESCRIPTION:
URL:https://www.halinacentre.com/event/snooker-36/
CATEGORIES:Pool Room
END:VEVENT
BEGIN:VEVENT
DTSTART;TZID=America/Vancouver:20251202T180000
DTEND;TZID=America/Vancouver:20251202T220000
DTSTAMP:20260421T054121
CREATED:20250822T053618Z
LAST-MODIFIED:20251202T125125Z
UID:10005665-1764698400-1764712800@www.halinacentre.com
SUMMARY:Open Jam
DESCRIPTION:
URL:https://www.halinacentre.com/event/open-jam-13/
CATEGORIES:Club Room
END:VEVENT
BEGIN:VEVENT
DTSTART;TZID=America/Vancouver:20251202T183000
DTEND;TZID=America/Vancouver:20251202T213000
DTSTAMP:20260421T054121
CREATED:20250612T223717Z
LAST-MODIFIED:20251202T083614Z
UID:10005313-1764700200-1764711000@www.halinacentre.com
SUMMARY:Table Tennis advanced
DESCRIPTION:
URL:https://www.halinacentre.com/event/table-tennis-advanced-34/
CATEGORIES:Halina Room
END:VEVENT
END:VCALENDAR