BEGIN:VCALENDAR
VERSION:2.0
PRODID:-//Halina Centre - ECPv6.15.20//NONSGML v1.0//EN
CALSCALE:GREGORIAN
METHOD:PUBLISH
X-WR-CALNAME:Halina Centre
X-ORIGINAL-URL:https://www.halinacentre.com
X-WR-CALDESC:Events for Halina Centre
REFRESH-INTERVAL;VALUE=DURATION:PT1H
X-Robots-Tag:noindex
X-PUBLISHED-TTL:PT1H
BEGIN:VTIMEZONE
TZID:America/Vancouver
BEGIN:DAYLIGHT
TZOFFSETFROM:-0800
TZOFFSETTO:-0700
TZNAME:PDT
DTSTART:20240310T100000
END:DAYLIGHT
BEGIN:STANDARD
TZOFFSETFROM:-0700
TZOFFSETTO:-0800
TZNAME:PST
DTSTART:20241103T090000
END:STANDARD
BEGIN:DAYLIGHT
TZOFFSETFROM:-0800
TZOFFSETTO:-0700
TZNAME:PDT
DTSTART:20250309T100000
END:DAYLIGHT
BEGIN:STANDARD
TZOFFSETFROM:-0700
TZOFFSETTO:-0800
TZNAME:PST
DTSTART:20251102T090000
END:STANDARD
BEGIN:DAYLIGHT
TZOFFSETFROM:-0800
TZOFFSETTO:-0700
TZNAME:PDT
DTSTART:20260308T100000
END:DAYLIGHT
BEGIN:STANDARD
TZOFFSETFROM:-0700
TZOFFSETTO:-0800
TZNAME:PST
DTSTART:20261101T090000
END:STANDARD
END:VTIMEZONE
BEGIN:VEVENT
DTSTART;TZID=America/Vancouver:20251201T083000
DTEND;TZID=America/Vancouver:20251201T163000
DTSTAMP:20260421T053237
CREATED:20250408T170938Z
LAST-MODIFIED:20251201T122110Z
UID:10004061-1764577800-1764606600@www.halinacentre.com
SUMMARY:Billiards/Snooker/Pool
DESCRIPTION:
URL:https://www.halinacentre.com/event/billiards-snooker-pool-172/
CATEGORIES:Pool Room
END:VEVENT
BEGIN:VEVENT
DTSTART;TZID=America/Vancouver:20251201T093000
DTEND;TZID=America/Vancouver:20251201T120000
DTSTAMP:20260421T053237
CREATED:20250609T220655Z
LAST-MODIFIED:20251201T083610Z
UID:10005301-1764581400-1764590400@www.halinacentre.com
SUMMARY:Floor Curling
DESCRIPTION:
URL:https://www.halinacentre.com/event/floor-curling-37/
CATEGORIES:Halina Room
END:VEVENT
BEGIN:VEVENT
DTSTART;TZID=America/Vancouver:20251201T093000
DTEND;TZID=America/Vancouver:20251201T143000
DTSTAMP:20260421T053237
CREATED:20250408T171158Z
LAST-MODIFIED:20251201T125109Z
UID:10004695-1764581400-1764599400@www.halinacentre.com
SUMMARY:Canasta
DESCRIPTION:1st and 3rd Monday
URL:https://www.halinacentre.com/event/canasta-71/
CATEGORIES:Club Room
END:VEVENT
BEGIN:VEVENT
DTSTART;TZID=America/Vancouver:20251201T110000
DTEND;TZID=America/Vancouver:20251201T160000
DTSTAMP:20260421T053237
CREATED:20250827T032122Z
LAST-MODIFIED:20250902T032132Z
UID:10005772-1764586800-1764604800@www.halinacentre.com
SUMMARY:Crib
DESCRIPTION:join our crib group\, every Monday in the Halina Room\, except Sept 29
URL:https://www.halinacentre.com/event/crib-12/
CATEGORIES:Halina Room
END:VEVENT
BEGIN:VEVENT
DTSTART;TZID=America/Vancouver:20251201T113000
DTEND;TZID=America/Vancouver:20251201T163000
DTSTAMP:20260421T053237
CREATED:20251023T063613Z
LAST-MODIFIED:20251201T083610Z
UID:10005994-1764588600-1764606600@www.halinacentre.com
SUMMARY:Decorating Team - Christmas
DESCRIPTION:
URL:https://www.halinacentre.com/event/decorating-team-christmas-2/
CATEGORIES:Halina Room
END:VEVENT
BEGIN:VEVENT
DTSTART;TZID=America/Vancouver:20251201T120000
DTEND;TZID=America/Vancouver:20251201T160000
DTSTAMP:20260421T053237
CREATED:20250903T032122Z
LAST-MODIFIED:20251021T060823Z
UID:10005800-1764590400-1764604800@www.halinacentre.com
SUMMARY:Crib
DESCRIPTION:join our crib group\, every Monday in the Halina Room\, except Sept 29\n$15 drop in fee
URL:https://www.halinacentre.com/event/crib-29/
CATEGORIES:Halina Room
END:VEVENT
BEGIN:VEVENT
DTSTART;TZID=America/Vancouver:20251201T180000
DTEND;TZID=America/Vancouver:20251201T230000
DTSTAMP:20260421T053237
CREATED:20250913T062239Z
LAST-MODIFIED:20251201T125109Z
UID:10005832-1764612000-1764630000@www.halinacentre.com
SUMMARY:Sons of Scotland
DESCRIPTION:
URL:https://www.halinacentre.com/event/sons-of-scotland/
CATEGORIES:Club Room
END:VEVENT
END:VCALENDAR