BEGIN:VCALENDAR
VERSION:2.0
PRODID:-//Halina Centre - ECPv6.15.20//NONSGML v1.0//EN
CALSCALE:GREGORIAN
METHOD:PUBLISH
X-ORIGINAL-URL:https://www.halinacentre.com
X-WR-CALDESC:Events for Halina Centre
REFRESH-INTERVAL;VALUE=DURATION:PT1H
X-Robots-Tag:noindex
X-PUBLISHED-TTL:PT1H
BEGIN:VTIMEZONE
TZID:America/Vancouver
BEGIN:DAYLIGHT
TZOFFSETFROM:-0800
TZOFFSETTO:-0700
TZNAME:PDT
DTSTART:20240310T100000
END:DAYLIGHT
BEGIN:STANDARD
TZOFFSETFROM:-0700
TZOFFSETTO:-0800
TZNAME:PST
DTSTART:20241103T090000
END:STANDARD
BEGIN:DAYLIGHT
TZOFFSETFROM:-0800
TZOFFSETTO:-0700
TZNAME:PDT
DTSTART:20250309T100000
END:DAYLIGHT
BEGIN:STANDARD
TZOFFSETFROM:-0700
TZOFFSETTO:-0800
TZNAME:PST
DTSTART:20251102T090000
END:STANDARD
BEGIN:DAYLIGHT
TZOFFSETFROM:-0800
TZOFFSETTO:-0700
TZNAME:PDT
DTSTART:20260308T100000
END:DAYLIGHT
BEGIN:STANDARD
TZOFFSETFROM:-0700
TZOFFSETTO:-0800
TZNAME:PST
DTSTART:20261101T090000
END:STANDARD
END:VTIMEZONE
BEGIN:VEVENT
DTSTART;TZID=America/Vancouver:20251128T080000
DTEND;TZID=America/Vancouver:20251128T090000
DTSTAMP:20260421T070011
CREATED:20250823T032121Z
LAST-MODIFIED:20251128T083610Z
UID:10005743-1764316800-1764320400@www.halinacentre.com
SUMMARY:Tai Chi - Beginners
DESCRIPTION:
URL:https://www.halinacentre.com/event/tai-chi-beginners-24/
CATEGORIES:Halina Room
END:VEVENT
BEGIN:VEVENT
DTSTART;TZID=America/Vancouver:20251128T083000
DTEND;TZID=America/Vancouver:20251128T163000
DTSTAMP:20260421T070011
CREATED:20250408T170938Z
LAST-MODIFIED:20251128T122136Z
UID:10004059-1764318600-1764347400@www.halinacentre.com
SUMMARY:Billiards/Snooker/Pool
DESCRIPTION:
URL:https://www.halinacentre.com/event/billiards-snooker-pool-171/
CATEGORIES:Pool Room
END:VEVENT
BEGIN:VEVENT
DTSTART;TZID=America/Vancouver:20251128T091500
DTEND;TZID=America/Vancouver:20251128T111500
DTSTAMP:20260421T070011
CREATED:20250822T032122Z
LAST-MODIFIED:20251128T083610Z
UID:10005615-1764321300-1764328500@www.halinacentre.com
SUMMARY:Carpet Bowling
DESCRIPTION:
URL:https://www.halinacentre.com/event/carpet-bowling-9/
CATEGORIES:Halina Room
END:VEVENT
BEGIN:VEVENT
DTSTART;TZID=America/Vancouver:20251128T093000
DTEND;TZID=America/Vancouver:20251128T143000
DTSTAMP:20260421T070011
CREATED:20250408T171158Z
LAST-MODIFIED:20251128T122112Z
UID:10004694-1764322200-1764340200@www.halinacentre.com
SUMMARY:Canasta
DESCRIPTION:1st and 3rd Monday
URL:https://www.halinacentre.com/event/canasta-70/
CATEGORIES:Club Room
END:VEVENT
BEGIN:VEVENT
DTSTART;TZID=America/Vancouver:20251128T120000
DTEND;TZID=America/Vancouver:20251128T153000
DTSTAMP:20260421T070011
CREATED:20250608T220701Z
LAST-MODIFIED:20251128T083610Z
UID:10005299-1764331200-1764343800@www.halinacentre.com
SUMMARY:Bingo -
DESCRIPTION:
URL:https://www.halinacentre.com/event/bingo-72/
CATEGORIES:Halina Room
END:VEVENT
BEGIN:VEVENT
DTSTART;TZID=America/Vancouver:20251128T160000
DTEND;TZID=America/Vancouver:20251128T180000
DTSTAMP:20260421T070011
CREATED:20250920T043617Z
LAST-MODIFIED:20251128T083610Z
UID:10005848-1764345600-1764352800@www.halinacentre.com
SUMMARY:weavers in for set up
DESCRIPTION:
URL:https://www.halinacentre.com/event/weavers-in-for-set-up/
CATEGORIES:Halina Room
END:VEVENT
BEGIN:VEVENT
DTSTART;TZID=America/Vancouver:20251128T160000
DTEND;TZID=America/Vancouver:20251128T180000
DTSTAMP:20260421T070011
CREATED:20251104T110608Z
LAST-MODIFIED:20251128T122112Z
UID:10006037-1764345600-1764352800@www.halinacentre.com
SUMMARY:Kal Weavers
DESCRIPTION:
URL:https://www.halinacentre.com/event/kal-weavers/
CATEGORIES:Club Room
END:VEVENT
END:VCALENDAR