BEGIN:VCALENDAR
VERSION:2.0
PRODID:-//Halina Centre - ECPv6.15.20//NONSGML v1.0//EN
CALSCALE:GREGORIAN
METHOD:PUBLISH
X-WR-CALNAME:Halina Centre
X-ORIGINAL-URL:https://www.halinacentre.com
X-WR-CALDESC:Events for Halina Centre
REFRESH-INTERVAL;VALUE=DURATION:PT1H
X-Robots-Tag:noindex
X-PUBLISHED-TTL:PT1H
BEGIN:VTIMEZONE
TZID:America/Vancouver
BEGIN:DAYLIGHT
TZOFFSETFROM:-0800
TZOFFSETTO:-0700
TZNAME:PDT
DTSTART:20240310T100000
END:DAYLIGHT
BEGIN:STANDARD
TZOFFSETFROM:-0700
TZOFFSETTO:-0800
TZNAME:PST
DTSTART:20241103T090000
END:STANDARD
BEGIN:DAYLIGHT
TZOFFSETFROM:-0800
TZOFFSETTO:-0700
TZNAME:PDT
DTSTART:20250309T100000
END:DAYLIGHT
BEGIN:STANDARD
TZOFFSETFROM:-0700
TZOFFSETTO:-0800
TZNAME:PST
DTSTART:20251102T090000
END:STANDARD
BEGIN:DAYLIGHT
TZOFFSETFROM:-0800
TZOFFSETTO:-0700
TZNAME:PDT
DTSTART:20260308T100000
END:DAYLIGHT
BEGIN:STANDARD
TZOFFSETFROM:-0700
TZOFFSETTO:-0800
TZNAME:PST
DTSTART:20261101T090000
END:STANDARD
END:VTIMEZONE
BEGIN:VEVENT
DTSTART;TZID=America/Vancouver:20251127T083000
DTEND;TZID=America/Vancouver:20251127T163000
DTSTAMP:20260421T065803
CREATED:20250408T170938Z
LAST-MODIFIED:20251127T122108Z
UID:10004055-1764232200-1764261000@www.halinacentre.com
SUMMARY:Billiards/Snooker/Pool
DESCRIPTION:
URL:https://www.halinacentre.com/event/billiards-snooker-pool-170/
CATEGORIES:Pool Room
END:VEVENT
BEGIN:VEVENT
DTSTART;TZID=America/Vancouver:20251127T084500
DTEND;TZID=America/Vancouver:20251127T113000
DTSTAMP:20260421T065803
CREATED:20250822T032122Z
LAST-MODIFIED:20251127T083617Z
UID:10005614-1764233100-1764243000@www.halinacentre.com
SUMMARY:Osteofit - Vernon Rec Services
DESCRIPTION:
URL:https://www.halinacentre.com/event/osteofit-vernon-rec-services-11/
CATEGORIES:Halina Room
END:VEVENT
BEGIN:VEVENT
DTSTART;TZID=America/Vancouver:20251127T094500
DTEND;TZID=America/Vancouver:20251127T111500
DTSTAMP:20260421T065803
CREATED:20250408T171604Z
LAST-MODIFIED:20250813T203750Z
UID:10004495-1764236700-1764242100@www.halinacentre.com
SUMMARY:Osteofit
DESCRIPTION:
URL:https://www.halinacentre.com/event/osteofit-24/2025-11-27/
CATEGORIES:Halina Room
END:VEVENT
BEGIN:VEVENT
DTSTART;TZID=America/Vancouver:20251127T094500
DTEND;TZID=America/Vancouver:20251127T111500
DTSTAMP:20260421T065803
CREATED:20250605T215159Z
LAST-MODIFIED:20250806T022118Z
UID:10005268-1764236700-1764242100@www.halinacentre.com
SUMMARY:Osteofit
DESCRIPTION:
URL:https://www.halinacentre.com/event/osteofit-38/
CATEGORIES:Halina Room
END:VEVENT
BEGIN:VEVENT
DTSTART;TZID=America/Vancouver:20251127T130000
DTEND;TZID=America/Vancouver:20251127T150000
DTSTAMP:20260421T065803
CREATED:20250408T171158Z
LAST-MODIFIED:20251127T120611Z
UID:10004693-1764248400-1764255600@www.halinacentre.com
SUMMARY:Time Out Stitchers
DESCRIPTION:
URL:https://www.halinacentre.com/event/time-out-stitchers-37/
CATEGORIES:Club Room
END:VEVENT
BEGIN:VEVENT
DTSTART;TZID=America/Vancouver:20251127T140000
DTEND;TZID=America/Vancouver:20251127T160000
DTSTAMP:20260421T065803
CREATED:20250606T215254Z
LAST-MODIFIED:20251127T083617Z
UID:10005292-1764252000-1764259200@www.halinacentre.com
SUMMARY:Thursday Dance
DESCRIPTION:
URL:https://www.halinacentre.com/event/thursday-dance-36/
CATEGORIES:Halina Room
END:VEVENT
BEGIN:VEVENT
DTSTART;TZID=America/Vancouver:20251127T180000
DTEND;TZID=America/Vancouver:20251127T200000
DTSTAMP:20260421T065803
CREATED:20250408T170938Z
LAST-MODIFIED:20251127T120611Z
UID:10004057-1764266400-1764273600@www.halinacentre.com
SUMMARY:Toastmasters
DESCRIPTION:
URL:https://www.halinacentre.com/event/toastmasters-36/
CATEGORIES:Club Room,Pool Room
END:VEVENT
BEGIN:VEVENT
DTSTART;TZID=America/Vancouver:20251127T180000
DTEND;TZID=America/Vancouver:20251127T220000
DTSTAMP:20260421T065803
CREATED:20250606T215254Z
LAST-MODIFIED:20250702T012137Z
UID:10005293-1764266400-1764280800@www.halinacentre.com
SUMMARY:Square Dancing
DESCRIPTION:
URL:https://www.halinacentre.com/event/square-dancing-35/
CATEGORIES:Halina Room
END:VEVENT
BEGIN:VEVENT
DTSTART;TZID=America/Vancouver:20251127T180000
DTEND;TZID=America/Vancouver:20251127T220000
DTSTAMP:20260421T065803
CREATED:20251010T052116Z
LAST-MODIFIED:20251127T083617Z
UID:10005918-1764266400-1764280800@www.halinacentre.com
SUMMARY:Star Country Squares
DESCRIPTION:
URL:https://www.halinacentre.com/event/star-country-squares-9/
CATEGORIES:Halina Room
END:VEVENT
END:VCALENDAR