BEGIN:VCALENDAR
VERSION:2.0
PRODID:-//Halina Centre - ECPv6.15.20//NONSGML v1.0//EN
CALSCALE:GREGORIAN
METHOD:PUBLISH
X-WR-CALNAME:Halina Centre
X-ORIGINAL-URL:https://www.halinacentre.com
X-WR-CALDESC:Events for Halina Centre
REFRESH-INTERVAL;VALUE=DURATION:PT1H
X-Robots-Tag:noindex
X-PUBLISHED-TTL:PT1H
BEGIN:VTIMEZONE
TZID:America/Vancouver
BEGIN:DAYLIGHT
TZOFFSETFROM:-0800
TZOFFSETTO:-0700
TZNAME:PDT
DTSTART:20240310T100000
END:DAYLIGHT
BEGIN:STANDARD
TZOFFSETFROM:-0700
TZOFFSETTO:-0800
TZNAME:PST
DTSTART:20241103T090000
END:STANDARD
BEGIN:DAYLIGHT
TZOFFSETFROM:-0800
TZOFFSETTO:-0700
TZNAME:PDT
DTSTART:20250309T100000
END:DAYLIGHT
BEGIN:STANDARD
TZOFFSETFROM:-0700
TZOFFSETTO:-0800
TZNAME:PST
DTSTART:20251102T090000
END:STANDARD
BEGIN:DAYLIGHT
TZOFFSETFROM:-0800
TZOFFSETTO:-0700
TZNAME:PDT
DTSTART:20260308T100000
END:DAYLIGHT
BEGIN:STANDARD
TZOFFSETFROM:-0700
TZOFFSETTO:-0800
TZNAME:PST
DTSTART:20261101T090000
END:STANDARD
END:VTIMEZONE
BEGIN:VEVENT
DTSTART;TZID=America/Vancouver:20251125T083000
DTEND;TZID=America/Vancouver:20251125T163000
DTSTAMP:20260421T065803
CREATED:20250408T170937Z
LAST-MODIFIED:20251125T120629Z
UID:10004271-1764059400-1764088200@www.halinacentre.com
SUMMARY:Billiards/Snooker/Pool
DESCRIPTION:
URL:https://www.halinacentre.com/event/billiards-snooker-pool-168/
CATEGORIES:Pool Room
END:VEVENT
BEGIN:VEVENT
DTSTART;TZID=America/Vancouver:20251125T090000
DTEND;TZID=America/Vancouver:20251125T100000
DTSTAMP:20260421T065803
CREATED:20250604T215144Z
LAST-MODIFIED:20251125T083613Z
UID:10005258-1764061200-1764064800@www.halinacentre.com
SUMMARY:Senior Exercise
DESCRIPTION:
URL:https://www.halinacentre.com/event/senior-exercise-33/
CATEGORIES:Halina Room
END:VEVENT
BEGIN:VEVENT
DTSTART;TZID=America/Vancouver:20251125T120000
DTEND;TZID=America/Vancouver:20251125T153000
DTSTAMP:20260421T065803
CREATED:20250616T225216Z
LAST-MODIFIED:20251125T083613Z
UID:10005337-1764072000-1764084600@www.halinacentre.com
SUMMARY:Bingo
DESCRIPTION:
URL:https://www.halinacentre.com/event/bingo-98/
CATEGORIES:Halina Room
END:VEVENT
BEGIN:VEVENT
DTSTART;TZID=America/Vancouver:20251125T130000
DTEND;TZID=America/Vancouver:20251125T153000
DTSTAMP:20260421T065803
CREATED:20250604T215145Z
LAST-MODIFIED:20250615T225154Z
UID:10005259-1764075600-1764084600@www.halinacentre.com
SUMMARY:Bingo
DESCRIPTION:
URL:https://www.halinacentre.com/event/bingo-71/
CATEGORIES:Halina Room
END:VEVENT
BEGIN:VEVENT
DTSTART;TZID=America/Vancouver:20251125T180000
DTEND;TZID=America/Vancouver:20251125T210000
DTSTAMP:20260421T065803
CREATED:20250408T170937Z
LAST-MODIFIED:20251125T120629Z
UID:10004272-1764093600-1764104400@www.halinacentre.com
SUMMARY:Snooker
DESCRIPTION:
URL:https://www.halinacentre.com/event/snooker-35/
CATEGORIES:Pool Room
END:VEVENT
BEGIN:VEVENT
DTSTART;TZID=America/Vancouver:20251125T180000
DTEND;TZID=America/Vancouver:20251125T220000
DTSTAMP:20260421T065803
CREATED:20250822T053617Z
LAST-MODIFIED:20250919T070613Z
UID:10005661-1764093600-1764108000@www.halinacentre.com
SUMMARY:Open Jam
DESCRIPTION:
URL:https://www.halinacentre.com/event/open-jam-12/
CATEGORIES:Club Room
END:VEVENT
BEGIN:VEVENT
DTSTART;TZID=America/Vancouver:20251125T183000
DTEND;TZID=America/Vancouver:20251125T213000
DTSTAMP:20260421T065803
CREATED:20250604T215145Z
LAST-MODIFIED:20251125T083614Z
UID:10005260-1764095400-1764106200@www.halinacentre.com
SUMMARY:Table Tennis advanced
DESCRIPTION:
URL:https://www.halinacentre.com/event/table-tennis-advanced-33/
CATEGORIES:Halina Room
END:VEVENT
END:VCALENDAR