BEGIN:VCALENDAR
VERSION:2.0
PRODID:-//Halina Centre - ECPv6.15.20//NONSGML v1.0//EN
CALSCALE:GREGORIAN
METHOD:PUBLISH
X-ORIGINAL-URL:https://www.halinacentre.com
X-WR-CALDESC:Events for Halina Centre
REFRESH-INTERVAL;VALUE=DURATION:PT1H
X-Robots-Tag:noindex
X-PUBLISHED-TTL:PT1H
BEGIN:VTIMEZONE
TZID:America/Vancouver
BEGIN:DAYLIGHT
TZOFFSETFROM:-0800
TZOFFSETTO:-0700
TZNAME:PDT
DTSTART:20240310T100000
END:DAYLIGHT
BEGIN:STANDARD
TZOFFSETFROM:-0700
TZOFFSETTO:-0800
TZNAME:PST
DTSTART:20241103T090000
END:STANDARD
BEGIN:DAYLIGHT
TZOFFSETFROM:-0800
TZOFFSETTO:-0700
TZNAME:PDT
DTSTART:20250309T100000
END:DAYLIGHT
BEGIN:STANDARD
TZOFFSETFROM:-0700
TZOFFSETTO:-0800
TZNAME:PST
DTSTART:20251102T090000
END:STANDARD
BEGIN:DAYLIGHT
TZOFFSETFROM:-0800
TZOFFSETTO:-0700
TZNAME:PDT
DTSTART:20260308T100000
END:DAYLIGHT
BEGIN:STANDARD
TZOFFSETFROM:-0700
TZOFFSETTO:-0800
TZNAME:PST
DTSTART:20261101T090000
END:STANDARD
END:VTIMEZONE
BEGIN:VEVENT
DTSTART;TZID=America/Vancouver:20251112T080000
DTEND;TZID=America/Vancouver:20251112T090000
DTSTAMP:20260421T070054
CREATED:20250823T032119Z
LAST-MODIFIED:20251112T075135Z
UID:10005738-1762934400-1762938000@www.halinacentre.com
SUMMARY:Tai Chi - Beginners
DESCRIPTION:
URL:https://www.halinacentre.com/event/tai-chi-beginners-19/
CATEGORIES:Halina Room
END:VEVENT
BEGIN:VEVENT
DTSTART;TZID=America/Vancouver:20251112T083000
DTEND;TZID=America/Vancouver:20251112T163000
DTSTAMP:20260421T070054
CREATED:20250408T170932Z
LAST-MODIFIED:20251112T115109Z
UID:10004249-1762936200-1762965000@www.halinacentre.com
SUMMARY:Billiards/Snooker/Pool
DESCRIPTION:
URL:https://www.halinacentre.com/event/billiards-snooker-pool-159/
CATEGORIES:Pool Room
END:VEVENT
BEGIN:VEVENT
DTSTART;TZID=America/Vancouver:20251112T093000
DTEND;TZID=America/Vancouver:20251112T113000
DTSTAMP:20260421T070054
CREATED:20250408T171154Z
LAST-MODIFIED:20250604T221201Z
UID:10004678-1762939800-1762947000@www.halinacentre.com
SUMMARY:Recreational Table Tennis
DESCRIPTION:
URL:https://www.halinacentre.com/event/recreational-table-tennis-33/
CATEGORIES:Club Room
END:VEVENT
BEGIN:VEVENT
DTSTART;TZID=America/Vancouver:20251112T100000
DTEND;TZID=America/Vancouver:20251112T120000
DTSTAMP:20260421T070054
CREATED:20251002T045117Z
LAST-MODIFIED:20251112T075135Z
UID:10005888-1762941600-1762948800@www.halinacentre.com
SUMMARY:Recreational Table Tennis
DESCRIPTION:
URL:https://www.halinacentre.com/event/recreational-table-tennis-57/
CATEGORIES:Halina Room
END:VEVENT
BEGIN:VEVENT
DTSTART;TZID=America/Vancouver:20251112T101500
DTEND;TZID=America/Vancouver:20251112T131500
DTSTAMP:20260421T070054
CREATED:20251015T055112Z
LAST-MODIFIED:20251112T075135Z
UID:10005933-1762942500-1762953300@www.halinacentre.com
SUMMARY:Decorating - Sock Hop
DESCRIPTION:
URL:https://www.halinacentre.com/event/decorating-sock-hop/
CATEGORIES:Halina Room
END:VEVENT
BEGIN:VEVENT
DTSTART;TZID=America/Vancouver:20251112T130000
DTEND;TZID=America/Vancouver:20251112T150000
DTSTAMP:20260421T070054
CREATED:20250408T171154Z
LAST-MODIFIED:20251112T113628Z
UID:10004680-1762952400-1762959600@www.halinacentre.com
SUMMARY:Halina Crafters
DESCRIPTION:
URL:https://www.halinacentre.com/event/halina-crafters-35/
CATEGORIES:Club Room
END:VEVENT
BEGIN:VEVENT
DTSTART;TZID=America/Vancouver:20251112T130000
DTEND;TZID=America/Vancouver:20251112T150000
DTSTAMP:20260421T070054
CREATED:20250408T171155Z
LAST-MODIFIED:20251014T093629Z
UID:10004682-1762952400-1762959600@www.halinacentre.com
SUMMARY:Mahjong
DESCRIPTION:
URL:https://www.halinacentre.com/event/mahjong-34/
CATEGORIES:Club Room
END:VEVENT
BEGIN:VEVENT
DTSTART;TZID=America/Vancouver:20251112T130000
DTEND;TZID=America/Vancouver:20251112T150000
DTSTAMP:20260421T070054
CREATED:20250802T015116Z
LAST-MODIFIED:20251112T075135Z
UID:10004974-1762952400-1762959600@www.halinacentre.com
SUMMARY:Line Dance Lessons
DESCRIPTION:
URL:https://www.halinacentre.com/event/line-dance-lessons-19/
CATEGORIES:Halina Room
END:VEVENT
BEGIN:VEVENT
DTSTART;TZID=America/Vancouver:20251112T183000
DTEND;TZID=America/Vancouver:20251112T203000
DTSTAMP:20260421T070054
CREATED:20250408T171155Z
LAST-MODIFIED:20251112T113628Z
UID:10004684-1762972200-1762979400@www.halinacentre.com
SUMMARY:kalamalka Chorus
DESCRIPTION:
URL:https://www.halinacentre.com/event/kalamalka-chorus-33/
CATEGORIES:Club Room
END:VEVENT
BEGIN:VEVENT
DTSTART;TZID=America/Vancouver:20251112T183000
DTEND;TZID=America/Vancouver:20251112T233000
DTSTAMP:20260421T070054
CREATED:20250523T205207Z
LAST-MODIFIED:20251112T075135Z
UID:10004689-1762972200-1762990200@www.halinacentre.com
SUMMARY:Private Event
DESCRIPTION:
URL:https://www.halinacentre.com/event/private-event-38/
CATEGORIES:Halina Room
END:VEVENT
END:VCALENDAR