BEGIN:VCALENDAR
VERSION:2.0
PRODID:-//Halina Centre - ECPv6.15.20//NONSGML v1.0//EN
CALSCALE:GREGORIAN
METHOD:PUBLISH
X-WR-CALNAME:Halina Centre
X-ORIGINAL-URL:https://www.halinacentre.com
X-WR-CALDESC:Events for Halina Centre
REFRESH-INTERVAL;VALUE=DURATION:PT1H
X-Robots-Tag:noindex
X-PUBLISHED-TTL:PT1H
BEGIN:VTIMEZONE
TZID:America/Vancouver
BEGIN:DAYLIGHT
TZOFFSETFROM:-0800
TZOFFSETTO:-0700
TZNAME:PDT
DTSTART:20240310T100000
END:DAYLIGHT
BEGIN:STANDARD
TZOFFSETFROM:-0700
TZOFFSETTO:-0800
TZNAME:PST
DTSTART:20241103T090000
END:STANDARD
BEGIN:DAYLIGHT
TZOFFSETFROM:-0800
TZOFFSETTO:-0700
TZNAME:PDT
DTSTART:20250309T100000
END:DAYLIGHT
BEGIN:STANDARD
TZOFFSETFROM:-0700
TZOFFSETTO:-0800
TZNAME:PST
DTSTART:20251102T090000
END:STANDARD
BEGIN:DAYLIGHT
TZOFFSETFROM:-0800
TZOFFSETTO:-0700
TZNAME:PDT
DTSTART:20260308T100000
END:DAYLIGHT
BEGIN:STANDARD
TZOFFSETFROM:-0700
TZOFFSETTO:-0800
TZNAME:PST
DTSTART:20261101T090000
END:STANDARD
END:VTIMEZONE
BEGIN:VEVENT
DTSTART;TZID=America/Vancouver:20251106T083000
DTEND;TZID=America/Vancouver:20251106T163000
DTSTAMP:20260421T065738
CREATED:20250408T170931Z
LAST-MODIFIED:20251106T115109Z
UID:10004243-1762417800-1762446600@www.halinacentre.com
SUMMARY:Billiards/Snooker/Pool
DESCRIPTION:
URL:https://www.halinacentre.com/event/billiards-snooker-pool-155/
CATEGORIES:Pool Room
END:VEVENT
BEGIN:VEVENT
DTSTART;TZID=America/Vancouver:20251106T084500
DTEND;TZID=America/Vancouver:20251106T113000
DTSTAMP:20260421T065738
CREATED:20250822T032119Z
LAST-MODIFIED:20251106T072110Z
UID:10005608-1762418700-1762428600@www.halinacentre.com
SUMMARY:Osteofit - Vernon Rec Services
DESCRIPTION:
URL:https://www.halinacentre.com/event/osteofit-vernon-rec-services-8/
CATEGORIES:Halina Room
END:VEVENT
BEGIN:VEVENT
DTSTART;TZID=America/Vancouver:20251106T094500
DTEND;TZID=America/Vancouver:20251106T111500
DTSTAMP:20260421T065738
CREATED:20250408T171604Z
LAST-MODIFIED:20250813T203750Z
UID:10004492-1762422300-1762427700@www.halinacentre.com
SUMMARY:Osteofit
DESCRIPTION:
URL:https://www.halinacentre.com/event/osteofit-24/2025-11-06/
CATEGORIES:Halina Room
END:VEVENT
BEGIN:VEVENT
DTSTART;TZID=America/Vancouver:20251106T094500
DTEND;TZID=America/Vancouver:20251106T111500
DTSTAMP:20260421T065738
CREATED:20250517T202204Z
LAST-MODIFIED:20250806T022116Z
UID:10005209-1762422300-1762427700@www.halinacentre.com
SUMMARY:Osteofit
DESCRIPTION:
URL:https://www.halinacentre.com/event/osteofit-35/
CATEGORIES:Halina Room
END:VEVENT
BEGIN:VEVENT
DTSTART;TZID=America/Vancouver:20251106T130000
DTEND;TZID=America/Vancouver:20251106T150000
DTSTAMP:20260421T065738
CREATED:20250408T171152Z
LAST-MODIFIED:20251106T110608Z
UID:10004672-1762434000-1762441200@www.halinacentre.com
SUMMARY:Time Out Stitchers
DESCRIPTION:
URL:https://www.halinacentre.com/event/time-out-stitchers-34/
CATEGORIES:Club Room
END:VEVENT
BEGIN:VEVENT
DTSTART;TZID=America/Vancouver:20251106T140000
DTEND;TZID=America/Vancouver:20251106T160000
DTSTAMP:20260421T065738
CREATED:20250518T202151Z
LAST-MODIFIED:20251106T072110Z
UID:10005212-1762437600-1762444800@www.halinacentre.com
SUMMARY:Thursday Dance
DESCRIPTION:
URL:https://www.halinacentre.com/event/thursday-dance-33/
CATEGORIES:Halina Room
END:VEVENT
BEGIN:VEVENT
DTSTART;TZID=America/Vancouver:20251106T180000
DTEND;TZID=America/Vancouver:20251106T200000
DTSTAMP:20260421T065738
CREATED:20250408T170931Z
LAST-MODIFIED:20251106T115109Z
UID:10004244-1762452000-1762459200@www.halinacentre.com
SUMMARY:Toastmasters
DESCRIPTION:
URL:https://www.halinacentre.com/event/toastmasters-33/
CATEGORIES:Pool Room
END:VEVENT
BEGIN:VEVENT
DTSTART;TZID=America/Vancouver:20251106T180000
DTEND;TZID=America/Vancouver:20251106T220000
DTSTAMP:20260421T065738
CREATED:20250519T202301Z
LAST-MODIFIED:20250702T012134Z
UID:10005214-1762452000-1762466400@www.halinacentre.com
SUMMARY:Square Dancing
DESCRIPTION:
URL:https://www.halinacentre.com/event/square-dancing-32/
CATEGORIES:Halina Room
END:VEVENT
BEGIN:VEVENT
DTSTART;TZID=America/Vancouver:20251106T180000
DTEND;TZID=America/Vancouver:20251106T220000
DTSTAMP:20260421T065738
CREATED:20251010T052112Z
LAST-MODIFIED:20251106T072110Z
UID:10005915-1762452000-1762466400@www.halinacentre.com
SUMMARY:Star Country Squares
DESCRIPTION:
URL:https://www.halinacentre.com/event/star-country-squares-6/
CATEGORIES:Halina Room
END:VEVENT
END:VCALENDAR