BEGIN:VCALENDAR
VERSION:2.0
PRODID:-//Halina Centre - ECPv6.15.20//NONSGML v1.0//EN
CALSCALE:GREGORIAN
METHOD:PUBLISH
X-ORIGINAL-URL:https://www.halinacentre.com
X-WR-CALDESC:Events for Halina Centre
REFRESH-INTERVAL;VALUE=DURATION:PT1H
X-Robots-Tag:noindex
X-PUBLISHED-TTL:PT1H
BEGIN:VTIMEZONE
TZID:America/Vancouver
BEGIN:DAYLIGHT
TZOFFSETFROM:-0800
TZOFFSETTO:-0700
TZNAME:PDT
DTSTART:20240310T100000
END:DAYLIGHT
BEGIN:STANDARD
TZOFFSETFROM:-0700
TZOFFSETTO:-0800
TZNAME:PST
DTSTART:20241103T090000
END:STANDARD
BEGIN:DAYLIGHT
TZOFFSETFROM:-0800
TZOFFSETTO:-0700
TZNAME:PDT
DTSTART:20250309T100000
END:DAYLIGHT
BEGIN:STANDARD
TZOFFSETFROM:-0700
TZOFFSETTO:-0800
TZNAME:PST
DTSTART:20251102T090000
END:STANDARD
BEGIN:DAYLIGHT
TZOFFSETFROM:-0800
TZOFFSETTO:-0700
TZNAME:PDT
DTSTART:20260308T100000
END:DAYLIGHT
BEGIN:STANDARD
TZOFFSETFROM:-0700
TZOFFSETTO:-0800
TZNAME:PST
DTSTART:20261101T090000
END:STANDARD
END:VTIMEZONE
BEGIN:VEVENT
DTSTART;TZID=America/Vancouver:20251025T080000
DTEND;TZID=America/Vancouver:20251025T110000
DTSTAMP:20260421T081008
CREATED:20250508T195156Z
LAST-MODIFIED:20251020T213422Z
UID:10004636-1761379200-1761390000@www.halinacentre.com
SUMMARY:Pancake Breakfast
DESCRIPTION:
URL:https://www.halinacentre.com/event/pancake-breakfast-10/
CATEGORIES:Halina Room
END:VEVENT
BEGIN:VEVENT
DTSTART;TZID=America/Vancouver:20251025T080000
DTEND;TZID=America/Vancouver:20251025T110000
DTSTAMP:20260421T081008
CREATED:20251021T060610Z
LAST-MODIFIED:20251025T063610Z
UID:10005974-1761379200-1761390000@www.halinacentre.com
SUMMARY:Pancake Breakfast
DESCRIPTION:
URL:https://www.halinacentre.com/event/pancake-breakfast/
CATEGORIES:Halina Room
END:VEVENT
BEGIN:VEVENT
DTSTART;TZID=America/Vancouver:20251025T130000
DTEND;TZID=America/Vancouver:20251025T220000
DTSTAMP:20260421T081008
CREATED:20250508T195156Z
LAST-MODIFIED:20251025T063610Z
UID:10004638-1761397200-1761429600@www.halinacentre.com
SUMMARY:Private Event - Marquetti
DESCRIPTION:
URL:https://www.halinacentre.com/event/private-event-marquetti/
CATEGORIES:Halina Room
END:VEVENT
END:VCALENDAR