BEGIN:VCALENDAR
VERSION:2.0
PRODID:-//Halina Centre - ECPv6.15.20//NONSGML v1.0//EN
CALSCALE:GREGORIAN
METHOD:PUBLISH
X-WR-CALNAME:Halina Centre
X-ORIGINAL-URL:https://www.halinacentre.com
X-WR-CALDESC:Events for Halina Centre
REFRESH-INTERVAL;VALUE=DURATION:PT1H
X-Robots-Tag:noindex
X-PUBLISHED-TTL:PT1H
BEGIN:VTIMEZONE
TZID:America/Vancouver
BEGIN:DAYLIGHT
TZOFFSETFROM:-0800
TZOFFSETTO:-0700
TZNAME:PDT
DTSTART:20240310T100000
END:DAYLIGHT
BEGIN:STANDARD
TZOFFSETFROM:-0700
TZOFFSETTO:-0800
TZNAME:PST
DTSTART:20241103T090000
END:STANDARD
BEGIN:DAYLIGHT
TZOFFSETFROM:-0800
TZOFFSETTO:-0700
TZNAME:PDT
DTSTART:20250309T100000
END:DAYLIGHT
BEGIN:STANDARD
TZOFFSETFROM:-0700
TZOFFSETTO:-0800
TZNAME:PST
DTSTART:20251102T090000
END:STANDARD
BEGIN:DAYLIGHT
TZOFFSETFROM:-0800
TZOFFSETTO:-0700
TZNAME:PDT
DTSTART:20260308T100000
END:DAYLIGHT
BEGIN:STANDARD
TZOFFSETFROM:-0700
TZOFFSETTO:-0800
TZNAME:PST
DTSTART:20261101T090000
END:STANDARD
END:VTIMEZONE
BEGIN:VEVENT
DTSTART;TZID=America/Vancouver:20251022T080000
DTEND;TZID=America/Vancouver:20251022T090000
DTSTAMP:20260421T123021
CREATED:20250823T032116Z
LAST-MODIFIED:20251022T062110Z
UID:10005732-1761120000-1761123600@www.halinacentre.com
SUMMARY:Tai Chi - Beginners
DESCRIPTION:
URL:https://www.halinacentre.com/event/tai-chi-beginners-13/
CATEGORIES:Halina Room
END:VEVENT
BEGIN:VEVENT
DTSTART;TZID=America/Vancouver:20251022T083000
DTEND;TZID=America/Vancouver:20251022T163000
DTSTAMP:20260421T123021
CREATED:20250408T170928Z
LAST-MODIFIED:20251022T105110Z
UID:10004228-1761121800-1761150600@www.halinacentre.com
SUMMARY:Billiards/Snooker/Pool
DESCRIPTION:
URL:https://www.halinacentre.com/event/billiards-snooker-pool-144/
CATEGORIES:Pool Room
END:VEVENT
BEGIN:VEVENT
DTSTART;TZID=America/Vancouver:20251022T100000
DTEND;TZID=America/Vancouver:20251022T120000
DTSTAMP:20260421T123021
CREATED:20251002T045114Z
LAST-MODIFIED:20251022T062110Z
UID:10005885-1761127200-1761134400@www.halinacentre.com
SUMMARY:Recreational Table Tennis
DESCRIPTION:
URL:https://www.halinacentre.com/event/recreational-table-tennis-54/
CATEGORIES:Halina Room
END:VEVENT
BEGIN:VEVENT
DTSTART;TZID=America/Vancouver:20251022T130000
DTEND;TZID=America/Vancouver:20251022T150000
DTSTAMP:20260421T123021
CREATED:20250408T171145Z
LAST-MODIFIED:20251022T102109Z
UID:10004267-1761138000-1761145200@www.halinacentre.com
SUMMARY:Halina Crafters
DESCRIPTION:
URL:https://www.halinacentre.com/event/halina-crafters-32/
CATEGORIES:Club Room
END:VEVENT
BEGIN:VEVENT
DTSTART;TZID=America/Vancouver:20251022T130000
DTEND;TZID=America/Vancouver:20251022T150000
DTSTAMP:20260421T123021
CREATED:20250802T015114Z
LAST-MODIFIED:20251022T062110Z
UID:10005520-1761138000-1761145200@www.halinacentre.com
SUMMARY:Line Dance Lessons
DESCRIPTION:
URL:https://www.halinacentre.com/event/line-dance-lessons-16/
CATEGORIES:Halina Room
END:VEVENT
BEGIN:VEVENT
DTSTART;TZID=America/Vancouver:20251022T183000
DTEND;TZID=America/Vancouver:20251022T203000
DTSTAMP:20260421T123021
CREATED:20250408T171146Z
LAST-MODIFIED:20251022T102109Z
UID:10004647-1761157800-1761165000@www.halinacentre.com
SUMMARY:kalamalka Chorus
DESCRIPTION:
URL:https://www.halinacentre.com/event/kalamalka-chorus-30/
CATEGORIES:Club Room
END:VEVENT
BEGIN:VEVENT
DTSTART;TZID=America/Vancouver:20251022T183000
DTEND;TZID=America/Vancouver:20251022T233000
DTSTAMP:20260421T123021
CREATED:20250504T195204Z
LAST-MODIFIED:20251022T062110Z
UID:10005166-1761157800-1761175800@www.halinacentre.com
SUMMARY:Private Event
DESCRIPTION:
URL:https://www.halinacentre.com/event/private-event-35/
CATEGORIES:Halina Room
END:VEVENT
END:VCALENDAR