BEGIN:VCALENDAR
VERSION:2.0
PRODID:-//Halina Centre - ECPv6.15.20//NONSGML v1.0//EN
CALSCALE:GREGORIAN
METHOD:PUBLISH
X-ORIGINAL-URL:https://www.halinacentre.com
X-WR-CALDESC:Events for Halina Centre
REFRESH-INTERVAL;VALUE=DURATION:PT1H
X-Robots-Tag:noindex
X-PUBLISHED-TTL:PT1H
BEGIN:VTIMEZONE
TZID:America/Vancouver
BEGIN:DAYLIGHT
TZOFFSETFROM:-0800
TZOFFSETTO:-0700
TZNAME:PDT
DTSTART:20240310T100000
END:DAYLIGHT
BEGIN:STANDARD
TZOFFSETFROM:-0700
TZOFFSETTO:-0800
TZNAME:PST
DTSTART:20241103T090000
END:STANDARD
BEGIN:DAYLIGHT
TZOFFSETFROM:-0800
TZOFFSETTO:-0700
TZNAME:PDT
DTSTART:20250309T100000
END:DAYLIGHT
BEGIN:STANDARD
TZOFFSETFROM:-0700
TZOFFSETTO:-0800
TZNAME:PST
DTSTART:20251102T090000
END:STANDARD
BEGIN:DAYLIGHT
TZOFFSETFROM:-0800
TZOFFSETTO:-0700
TZNAME:PDT
DTSTART:20260308T100000
END:DAYLIGHT
BEGIN:STANDARD
TZOFFSETFROM:-0700
TZOFFSETTO:-0800
TZNAME:PST
DTSTART:20261101T090000
END:STANDARD
END:VTIMEZONE
BEGIN:VEVENT
DTSTART;TZID=America/Vancouver:20251016T083000
DTEND;TZID=America/Vancouver:20251016T163000
DTSTAMP:20260422T023839
CREATED:20250408T170924Z
LAST-MODIFIED:20251016T102129Z
UID:10004222-1760603400-1760632200@www.halinacentre.com
SUMMARY:Billiards/Snooker/Pool
DESCRIPTION:
URL:https://www.halinacentre.com/event/billiards-snooker-pool-140/
CATEGORIES:Pool Room
END:VEVENT
BEGIN:VEVENT
DTSTART;TZID=America/Vancouver:20251016T094500
DTEND;TZID=America/Vancouver:20251016T111500
DTSTAMP:20260422T023839
CREATED:20250408T171604Z
LAST-MODIFIED:20250813T203750Z
UID:10004489-1760607900-1760613300@www.halinacentre.com
SUMMARY:Osteofit
DESCRIPTION:
URL:https://www.halinacentre.com/event/osteofit-24/2025-10-16/
CATEGORIES:Halina Room
END:VEVENT
BEGIN:VEVENT
DTSTART;TZID=America/Vancouver:20251016T130000
DTEND;TZID=America/Vancouver:20251016T150000
DTSTAMP:20260422T023839
CREATED:20250408T171144Z
LAST-MODIFIED:20251016T093610Z
UID:10004261-1760619600-1760626800@www.halinacentre.com
SUMMARY:Time Out Stitchers
DESCRIPTION:
URL:https://www.halinacentre.com/event/time-out-stitchers-31/
CATEGORIES:Club Room
END:VEVENT
BEGIN:VEVENT
DTSTART;TZID=America/Vancouver:20251016T140000
DTEND;TZID=America/Vancouver:20251016T160000
DTSTAMP:20260422T023839
CREATED:20250430T193711Z
LAST-MODIFIED:20251016T055109Z
UID:10005153-1760623200-1760630400@www.halinacentre.com
SUMMARY:Thursday Dance
DESCRIPTION:
URL:https://www.halinacentre.com/event/thursday-dance-30/
CATEGORIES:Halina Room
END:VEVENT
BEGIN:VEVENT
DTSTART;TZID=America/Vancouver:20251016T180000
DTEND;TZID=America/Vancouver:20251016T200000
DTSTAMP:20260422T023839
CREATED:20250408T170925Z
LAST-MODIFIED:20251016T102129Z
UID:10004223-1760637600-1760644800@www.halinacentre.com
SUMMARY:Toastmasters
DESCRIPTION:
URL:https://www.halinacentre.com/event/toastmasters-30/
CATEGORIES:Pool Room
END:VEVENT
BEGIN:VEVENT
DTSTART;TZID=America/Vancouver:20251016T180000
DTEND;TZID=America/Vancouver:20251016T220000
DTSTAMP:20260422T023839
CREATED:20251010T052109Z
LAST-MODIFIED:20251016T055109Z
UID:10005912-1760637600-1760652000@www.halinacentre.com
SUMMARY:Star Country Squares
DESCRIPTION:
URL:https://www.halinacentre.com/event/star-country-squares/
CATEGORIES:Halina Room
END:VEVENT
END:VCALENDAR