BEGIN:VCALENDAR
VERSION:2.0
PRODID:-//Halina Centre - ECPv6.15.20//NONSGML v1.0//EN
CALSCALE:GREGORIAN
METHOD:PUBLISH
X-ORIGINAL-URL:https://www.halinacentre.com
X-WR-CALDESC:Events for Halina Centre
REFRESH-INTERVAL;VALUE=DURATION:PT1H
X-Robots-Tag:noindex
X-PUBLISHED-TTL:PT1H
BEGIN:VTIMEZONE
TZID:America/Vancouver
BEGIN:DAYLIGHT
TZOFFSETFROM:-0800
TZOFFSETTO:-0700
TZNAME:PDT
DTSTART:20240310T100000
END:DAYLIGHT
BEGIN:STANDARD
TZOFFSETFROM:-0700
TZOFFSETTO:-0800
TZNAME:PST
DTSTART:20241103T090000
END:STANDARD
BEGIN:DAYLIGHT
TZOFFSETFROM:-0800
TZOFFSETTO:-0700
TZNAME:PDT
DTSTART:20250309T100000
END:DAYLIGHT
BEGIN:STANDARD
TZOFFSETFROM:-0700
TZOFFSETTO:-0800
TZNAME:PST
DTSTART:20251102T090000
END:STANDARD
BEGIN:DAYLIGHT
TZOFFSETFROM:-0800
TZOFFSETTO:-0700
TZNAME:PDT
DTSTART:20260308T100000
END:DAYLIGHT
BEGIN:STANDARD
TZOFFSETFROM:-0700
TZOFFSETTO:-0800
TZNAME:PST
DTSTART:20261101T090000
END:STANDARD
END:VTIMEZONE
BEGIN:VEVENT
DTSTART;TZID=America/Vancouver:20251015T080000
DTEND;TZID=America/Vancouver:20251015T090000
DTSTAMP:20260422T063412
CREATED:20250823T032115Z
LAST-MODIFIED:20251015T055110Z
UID:10005730-1760515200-1760518800@www.halinacentre.com
SUMMARY:Tai Chi - Beginners
DESCRIPTION:
URL:https://www.halinacentre.com/event/tai-chi-beginners-11/
CATEGORIES:Halina Room
END:VEVENT
BEGIN:VEVENT
DTSTART;TZID=America/Vancouver:20251015T083000
DTEND;TZID=America/Vancouver:20251015T163000
DTSTAMP:20260422T063412
CREATED:20250408T170924Z
LAST-MODIFIED:20251015T102108Z
UID:10004221-1760517000-1760545800@www.halinacentre.com
SUMMARY:Billiards/Snooker/Pool
DESCRIPTION:
URL:https://www.halinacentre.com/event/billiards-snooker-pool-139/
CATEGORIES:Pool Room
END:VEVENT
BEGIN:VEVENT
DTSTART;TZID=America/Vancouver:20251015T100000
DTEND;TZID=America/Vancouver:20251015T120000
DTSTAMP:20260422T063412
CREATED:20251002T045113Z
LAST-MODIFIED:20251015T055111Z
UID:10005884-1760522400-1760529600@www.halinacentre.com
SUMMARY:Recreational Table Tennis
DESCRIPTION:
URL:https://www.halinacentre.com/event/recreational-table-tennis-53/
CATEGORIES:Halina Room
END:VEVENT
BEGIN:VEVENT
DTSTART;TZID=America/Vancouver:20251015T130000
DTEND;TZID=America/Vancouver:20251015T150000
DTSTAMP:20260422T063412
CREATED:20250408T171143Z
LAST-MODIFIED:20251015T093608Z
UID:10004256-1760533200-1760540400@www.halinacentre.com
SUMMARY:Halina Crafters
DESCRIPTION:
URL:https://www.halinacentre.com/event/halina-crafters-31/
CATEGORIES:Club Room
END:VEVENT
BEGIN:VEVENT
DTSTART;TZID=America/Vancouver:20251015T130000
DTEND;TZID=America/Vancouver:20251015T150000
DTSTAMP:20260422T063412
CREATED:20250802T015114Z
LAST-MODIFIED:20251015T055111Z
UID:10005519-1760533200-1760540400@www.halinacentre.com
SUMMARY:Line Dance Lessons
DESCRIPTION:
URL:https://www.halinacentre.com/event/line-dance-lessons-15/
CATEGORIES:Halina Room
END:VEVENT
BEGIN:VEVENT
DTSTART;TZID=America/Vancouver:20251015T183000
DTEND;TZID=America/Vancouver:20251015T203000
DTSTAMP:20260422T063412
CREATED:20250408T171144Z
LAST-MODIFIED:20251015T093608Z
UID:10004260-1760553000-1760560200@www.halinacentre.com
SUMMARY:kalamalka Chorus
DESCRIPTION:
URL:https://www.halinacentre.com/event/kalamalka-chorus-29/
CATEGORIES:Club Room
END:VEVENT
BEGIN:VEVENT
DTSTART;TZID=America/Vancouver:20251015T183000
DTEND;TZID=America/Vancouver:20251015T233000
DTSTAMP:20260422T063412
CREATED:20250429T193643Z
LAST-MODIFIED:20251016T055109Z
UID:10005149-1760553000-1760571000@www.halinacentre.com
SUMMARY:Private Event
DESCRIPTION:
URL:https://www.halinacentre.com/event/private-event-34/
CATEGORIES:Halina Room
END:VEVENT
END:VCALENDAR