BEGIN:VCALENDAR
VERSION:2.0
PRODID:-//Halina Centre - ECPv6.15.20//NONSGML v1.0//EN
CALSCALE:GREGORIAN
METHOD:PUBLISH
X-ORIGINAL-URL:https://www.halinacentre.com
X-WR-CALDESC:Events for Halina Centre
REFRESH-INTERVAL;VALUE=DURATION:PT1H
X-Robots-Tag:noindex
X-PUBLISHED-TTL:PT1H
BEGIN:VTIMEZONE
TZID:America/Vancouver
BEGIN:DAYLIGHT
TZOFFSETFROM:-0800
TZOFFSETTO:-0700
TZNAME:PDT
DTSTART:20240310T100000
END:DAYLIGHT
BEGIN:STANDARD
TZOFFSETFROM:-0700
TZOFFSETTO:-0800
TZNAME:PST
DTSTART:20241103T090000
END:STANDARD
BEGIN:DAYLIGHT
TZOFFSETFROM:-0800
TZOFFSETTO:-0700
TZNAME:PDT
DTSTART:20250309T100000
END:DAYLIGHT
BEGIN:STANDARD
TZOFFSETFROM:-0700
TZOFFSETTO:-0800
TZNAME:PST
DTSTART:20251102T090000
END:STANDARD
BEGIN:DAYLIGHT
TZOFFSETFROM:-0800
TZOFFSETTO:-0700
TZNAME:PDT
DTSTART:20260308T100000
END:DAYLIGHT
BEGIN:STANDARD
TZOFFSETFROM:-0700
TZOFFSETTO:-0800
TZNAME:PST
DTSTART:20261101T090000
END:STANDARD
END:VTIMEZONE
BEGIN:VEVENT
DTSTART;TZID=America/Vancouver:20251014T083000
DTEND;TZID=America/Vancouver:20251014T163000
DTSTAMP:20260422T081009
CREATED:20250408T170923Z
LAST-MODIFIED:20251014T102108Z
UID:10004218-1760430600-1760459400@www.halinacentre.com
SUMMARY:Billiards/Snooker/Pool
DESCRIPTION:
URL:https://www.halinacentre.com/event/billiards-snooker-pool-138/
CATEGORIES:Pool Room
END:VEVENT
BEGIN:VEVENT
DTSTART;TZID=America/Vancouver:20251014T090000
DTEND;TZID=America/Vancouver:20251014T100000
DTSTAMP:20260422T081009
CREATED:20250428T193643Z
LAST-MODIFIED:20251014T055109Z
UID:10005144-1760432400-1760436000@www.halinacentre.com
SUMMARY:Senior Exercise
DESCRIPTION:
URL:https://www.halinacentre.com/event/senior-exercise-27/
CATEGORIES:Halina Room
END:VEVENT
BEGIN:VEVENT
DTSTART;TZID=America/Vancouver:20251014T120000
DTEND;TZID=America/Vancouver:20251014T153000
DTSTAMP:20260422T081009
CREATED:20250616T225149Z
LAST-MODIFIED:20251014T055110Z
UID:10004793-1760443200-1760455800@www.halinacentre.com
SUMMARY:Bingo
DESCRIPTION:
URL:https://www.halinacentre.com/event/bingo-92/
CATEGORIES:Halina Room
END:VEVENT
BEGIN:VEVENT
DTSTART;TZID=America/Vancouver:20251014T180000
DTEND;TZID=America/Vancouver:20251014T210000
DTSTAMP:20260422T081009
CREATED:20250408T170923Z
LAST-MODIFIED:20251014T102108Z
UID:10004220-1760464800-1760475600@www.halinacentre.com
SUMMARY:Snooker
DESCRIPTION:
URL:https://www.halinacentre.com/event/snooker-29/
CATEGORIES:Pool Room
END:VEVENT
BEGIN:VEVENT
DTSTART;TZID=America/Vancouver:20251014T180000
DTEND;TZID=America/Vancouver:20251014T210000
DTSTAMP:20260422T081009
CREATED:20251004T045110Z
LAST-MODIFIED:20251014T055110Z
UID:10005904-1760464800-1760475600@www.halinacentre.com
SUMMARY:Private Event - VLCM- CA
DESCRIPTION:
URL:https://www.halinacentre.com/event/private-event-vlcm-ca/
CATEGORIES:Halina Room
END:VEVENT
BEGIN:VEVENT
DTSTART;TZID=America/Vancouver:20251014T180000
DTEND;TZID=America/Vancouver:20251014T220000
DTSTAMP:20260422T081009
CREATED:20250822T053614Z
LAST-MODIFIED:20250919T070608Z
UID:10005643-1760464800-1760479200@www.halinacentre.com
SUMMARY:Open Jam
DESCRIPTION:
URL:https://www.halinacentre.com/event/open-jam-6/
CATEGORIES:Club Room
END:VEVENT
END:VCALENDAR