BEGIN:VCALENDAR
VERSION:2.0
PRODID:-//Halina Centre - ECPv6.15.20//NONSGML v1.0//EN
CALSCALE:GREGORIAN
METHOD:PUBLISH
X-WR-CALNAME:Halina Centre
X-ORIGINAL-URL:https://www.halinacentre.com
X-WR-CALDESC:Events for Halina Centre
REFRESH-INTERVAL;VALUE=DURATION:PT1H
X-Robots-Tag:noindex
X-PUBLISHED-TTL:PT1H
BEGIN:VTIMEZONE
TZID:America/Vancouver
BEGIN:DAYLIGHT
TZOFFSETFROM:-0800
TZOFFSETTO:-0700
TZNAME:PDT
DTSTART:20240310T100000
END:DAYLIGHT
BEGIN:STANDARD
TZOFFSETFROM:-0700
TZOFFSETTO:-0800
TZNAME:PST
DTSTART:20241103T090000
END:STANDARD
BEGIN:DAYLIGHT
TZOFFSETFROM:-0800
TZOFFSETTO:-0700
TZNAME:PDT
DTSTART:20250309T100000
END:DAYLIGHT
BEGIN:STANDARD
TZOFFSETFROM:-0700
TZOFFSETTO:-0800
TZNAME:PST
DTSTART:20251102T090000
END:STANDARD
BEGIN:DAYLIGHT
TZOFFSETFROM:-0800
TZOFFSETTO:-0700
TZNAME:PDT
DTSTART:20260308T100000
END:DAYLIGHT
BEGIN:STANDARD
TZOFFSETFROM:-0700
TZOFFSETTO:-0800
TZNAME:PST
DTSTART:20261101T090000
END:STANDARD
END:VTIMEZONE
BEGIN:VEVENT
DTSTART;TZID=America/Vancouver:20250905T083000
DTEND;TZID=America/Vancouver:20250905T163000
DTSTAMP:20260421T010758
CREATED:20250408T170858Z
LAST-MODIFIED:20250905T080608Z
UID:10004172-1757061000-1757089800@www.halinacentre.com
SUMMARY:Billiards/Snooker/Pool
DESCRIPTION:
URL:https://www.halinacentre.com/event/billiards-snooker-pool-111/
CATEGORIES:Pool Room
END:VEVENT
BEGIN:VEVENT
DTSTART;TZID=America/Vancouver:20250905T093000
DTEND;TZID=America/Vancouver:20250905T143000
DTSTAMP:20260421T010758
CREATED:20250408T171134Z
LAST-MODIFIED:20250905T060608Z
UID:10004599-1757064600-1757082600@www.halinacentre.com
SUMMARY:Canasta
DESCRIPTION:1st and 3rd Monday
URL:https://www.halinacentre.com/event/canasta-47/
CATEGORIES:Club Room
END:VEVENT
BEGIN:VEVENT
DTSTART;TZID=America/Vancouver:20250905T120000
DTEND;TZID=America/Vancouver:20250905T153000
DTSTAMP:20260421T010758
CREATED:20250408T171609Z
LAST-MODIFIED:20250905T032111Z
UID:10005063-1757073600-1757086200@www.halinacentre.com
SUMMARY:Bingo -
DESCRIPTION:
URL:https://www.halinacentre.com/event/bingo-48/
CATEGORIES:Halina Room
END:VEVENT
BEGIN:VEVENT
DTSTART;TZID=America/Vancouver:20250905T160000
DTEND;TZID=America/Vancouver:20250905T220000
DTSTAMP:20260421T010758
CREATED:20250617T230717Z
LAST-MODIFIED:20250906T033612Z
UID:10005343-1757088000-1757109600@www.halinacentre.com
SUMMARY:Star Country Squares
DESCRIPTION:
URL:https://www.halinacentre.com/event/star-country-squares-4/
CATEGORIES:Halina Room
END:VEVENT
END:VCALENDAR